BEGIN:VCALENDAR
VERSION:2.0
PRODID:-//MetalExpress - ECPv6.15.19//NONSGML v1.0//EN
CALSCALE:GREGORIAN
METHOD:PUBLISH
X-WR-CALNAME:MetalExpress
X-ORIGINAL-URL:https://metalexpress.sk
X-WR-CALDESC:Udalosti pre MetalExpress
REFRESH-INTERVAL;VALUE=DURATION:PT1H
X-Robots-Tag:noindex
X-PUBLISHED-TTL:PT1H
BEGIN:VTIMEZONE
TZID:Europe/Bratislava
BEGIN:DAYLIGHT
TZOFFSETFROM:+0100
TZOFFSETTO:+0200
TZNAME:CEST
DTSTART:20210328T010000
END:DAYLIGHT
BEGIN:STANDARD
TZOFFSETFROM:+0200
TZOFFSETTO:+0100
TZNAME:CET
DTSTART:20211031T010000
END:STANDARD
BEGIN:DAYLIGHT
TZOFFSETFROM:+0100
TZOFFSETTO:+0200
TZNAME:CEST
DTSTART:20220327T010000
END:DAYLIGHT
BEGIN:STANDARD
TZOFFSETFROM:+0200
TZOFFSETTO:+0100
TZNAME:CET
DTSTART:20221030T010000
END:STANDARD
BEGIN:DAYLIGHT
TZOFFSETFROM:+0100
TZOFFSETTO:+0200
TZNAME:CEST
DTSTART:20230326T010000
END:DAYLIGHT
BEGIN:STANDARD
TZOFFSETFROM:+0200
TZOFFSETTO:+0100
TZNAME:CET
DTSTART:20231029T010000
END:STANDARD
END:VTIMEZONE
BEGIN:VEVENT
DTSTART;TZID=Europe/Bratislava:20221216T190000
DTEND;TZID=Europe/Bratislava:20221216T223000
DTSTAMP:20260421T033603
CREATED:20221213T164406Z
LAST-MODIFIED:20221213T164406Z
UID:45430-1671217200-1671229800@metalexpress.sk
SUMMARY:Hypnos | Doomas | Dehydrated
DESCRIPTION:Hypnos\nhttps://www.facebook.com/HypnosCZ\nDoomas\nhttps://www.facebook.com/DoomasOfficial\nDehydrated\nhttps://www.facebook.com/dehydratedsk \nDátum: 16.12.2022 \nMiesto: Klub za Rampami\, Nové Mesto nad Váhom \nhttps://www.facebook.com/zarampami \nVstup: 10 € \nUdalosť: https://www.facebook.com/events/862467138060436
URL:https://metalexpress.sk/event/hypnos-doomas-dehydrated/
LOCATION:Klub za Rampami\, Trenčianska 1189\, Nové Mesto nad Váhom\, Slovakia\, Nové Mesto nad Váhom\, Slovenská republika
CATEGORIES:Udalosti
ATTACH;FMTTYPE=image/jpeg:https://metalexpress.sk/wp-content/uploads/2022/12/319151752_560759705896794_2194419492487591859_n.jpg
END:VEVENT
BEGIN:VEVENT
DTSTART;TZID=Europe/Bratislava:20221216T190000
DTEND;TZID=Europe/Bratislava:20221216T220000
DTSTAMP:20260421T033603
CREATED:20221213T165645Z
LAST-MODIFIED:20221213T165703Z
UID:45433-1671217200-1671228000@metalexpress.sk
SUMMARY:Incriminate • Makepeace • Hever na Werande
DESCRIPTION:Príjemný večierok so špičkami česko-slovenského hardcore punku. Vonku zima\, vo Werande horúco.\nPríď podporiť!\n\nHever (Brno)\nhttps://hever.bandcamp.com/album/split-hever-boost\nMakepeace (Praha)\nhttps://youth2youthrecords.bandcamp.com/album/s-t-demo-2019\nIncriminate (Lučenec)\nhttps://incriminate.bandcamp.com/album/the-end-is-nigh\n\nDátum: 16.12.2022\nMiesto: Weranda\, Bratislava\nFB Udalosť: https://www.facebook.com/events/825537985227821/
URL:https://metalexpress.sk/event/ncriminate-makepeace-hever-na-werande/
LOCATION:Weranda\, Májová 3303/23\, 851 01 Bratislava-Petržalka\, Bratislava\, Slovenská republika
CATEGORIES:Udalosti
ATTACH;FMTTYPE=image/jpeg:https://metalexpress.sk/wp-content/uploads/2022/12/317232275_621951186385930_3850099260511124739_n.jpg
END:VEVENT
BEGIN:VEVENT
DTSTART;TZID=Europe/Bratislava:20221216T180000
DTEND;TZID=Europe/Bratislava:20221216T223000
DTSTAMP:20260421T033603
CREATED:20221214T124826Z
LAST-MODIFIED:20221214T124826Z
UID:45460-1671213600-1671229800@metalexpress.sk
SUMMARY:BUDWEIS CHRISTMAS GOREGALORE - Birdflesh\, Gutalax\, Jig-Ai\, Impulsealer
DESCRIPTION:Grind / gore večírek v MC Fabrika\nVystoupí :\n* BIRDFLESH (SWE) – švédská grindcore legenda\n* GUTALAX – domácí disco / gore fekálové\n* JIG-AI – pražské grind/gore blast beat komando \n* IMPULSEALER – našlapané grindcore duo\n\npředprodej:\n1. vlna 350 Kč\, 2. vlna 400 Kč\, na místě 450 Kč\n\n19:00 otevření klubu\n20:00 Impulsealer\n21:00 Jig-Ai\n22:00 Gutalax\n23:00 Birdflesh\n24:00 Afterparty DJ SantAss
URL:https://metalexpress.sk/event/budweis-christmas-goregalore-birdflesh-gutalax-jig-ai-impulsealer/
LOCATION:MC Fabrika\, Jeronýmova 6\, Ceske Budejovice\, Czech Republic\, České Budejovice\, Česká republika
CATEGORIES:Udalosti
ATTACH;FMTTYPE=image/jpeg:https://metalexpress.sk/wp-content/uploads/2022/12/318426965_3275657249393207_8532325468875008733_n.jpg
ORGANIZER;CN="Cross Crew Booking":MAILTO:crosscrew@email.cz
END:VEVENT
BEGIN:VEVENT
DTSTART;TZID=Europe/Bratislava:20221215T180000
DTEND;TZID=Europe/Bratislava:20221215T223000
DTSTAMP:20260421T033603
CREATED:20221214T070904Z
LAST-MODIFIED:20221214T070904Z
UID:45442-1671127200-1671143400@metalexpress.sk
SUMMARY:Birdflesh (SWE) + Insistent + Impulsealer v Praze
DESCRIPTION:Kultovní švédské grindcore trio Birdflesh zpět v Praze. S nimi domácí Impulsealer a Insistent.\n\n\n\nDátum: 15.12.2022\nMiesto: Modrá Vopice\, Praha\nVstup: 380 Kč ( pouze na místě )\nProgram:\n19:00 open\n20:00 Insistent\n21:00 Impulsealer\n22:00 Birdflesh
URL:https://metalexpress.sk/event/birdflesh-swe-insistent-impulsealer-v-praze/
LOCATION:Modrá Vopice\, K Žižkovu 1 19000 Prague\, Czech Republic\, Praha\, Praha\, Česká republika
CATEGORIES:Udalosti
ATTACH;FMTTYPE=image/jpeg:https://metalexpress.sk/wp-content/uploads/2022/12/300589924_3189958027963130_3607863974357186805_n.jpg
END:VEVENT
BEGIN:VEVENT
DTSTART;TZID=Europe/Bratislava:20221214T180000
DTEND;TZID=Europe/Bratislava:20221214T213000
DTSTAMP:20260421T033603
CREATED:20221213T102558Z
LAST-MODIFIED:20221213T164458Z
UID:45423-1671040800-1671053400@metalexpress.sk
SUMMARY:The Casualties | Dead Rats | FUGA | Bratislava
DESCRIPTION:Hardcore punkový The Casualties vrámci „So much hate tour 2022“ 14.12.2022 v Bratislave! \nSíce starý spevák Jorge Herrera už v kapele nespieva\,ale David Rodriguez z kapely KRUM BUMS ho nahradil dostatočne. Ako support vystúpi bratislavská kapela Dead Rats.\nThe Casualties\nhttps://www.facebook.com/TheCasualties/\nhttps://www.instagram.com/thecasualties_official/ \nVstupné už iba na mieste – 19 €\n \n 
URL:https://metalexpress.sk/event/the-casualties-dead-rats-fuga-bratislava/
LOCATION:FUGA\, Námestie SNP 24\, Bratislava\, Bratislavský Kraj\, Slovenská republika
CATEGORIES:Udalosti
ATTACH;FMTTYPE=image/jpeg:https://metalexpress.sk/wp-content/uploads/2022/12/311232709_556993216429697_1530167770333968738_n.jpg
END:VEVENT
END:VCALENDAR