BEGIN:VCALENDAR
VERSION:2.0
PRODID:-//MetalExpress - ECPv6.15.19//NONSGML v1.0//EN
CALSCALE:GREGORIAN
METHOD:PUBLISH
X-WR-CALNAME:MetalExpress
X-ORIGINAL-URL:https://metalexpress.sk
X-WR-CALDESC:Udalosti pre MetalExpress
REFRESH-INTERVAL;VALUE=DURATION:PT1H
X-Robots-Tag:noindex
X-PUBLISHED-TTL:PT1H
BEGIN:VTIMEZONE
TZID:Europe/Bratislava
BEGIN:DAYLIGHT
TZOFFSETFROM:+0100
TZOFFSETTO:+0200
TZNAME:CEST
DTSTART:20230326T010000
END:DAYLIGHT
BEGIN:STANDARD
TZOFFSETFROM:+0200
TZOFFSETTO:+0100
TZNAME:CET
DTSTART:20231029T010000
END:STANDARD
BEGIN:DAYLIGHT
TZOFFSETFROM:+0100
TZOFFSETTO:+0200
TZNAME:CEST
DTSTART:20240331T010000
END:DAYLIGHT
BEGIN:STANDARD
TZOFFSETFROM:+0200
TZOFFSETTO:+0100
TZNAME:CET
DTSTART:20241027T010000
END:STANDARD
BEGIN:DAYLIGHT
TZOFFSETFROM:+0100
TZOFFSETTO:+0200
TZNAME:CEST
DTSTART:20250330T010000
END:DAYLIGHT
BEGIN:STANDARD
TZOFFSETFROM:+0200
TZOFFSETTO:+0100
TZNAME:CET
DTSTART:20251026T010000
END:STANDARD
END:VTIMEZONE
BEGIN:VEVENT
DTSTART;TZID=Europe/Bratislava:20240712T180000
DTEND;TZID=Europe/Bratislava:20240712T213000
DTSTAMP:20260420T172747
CREATED:20240712T083354Z
LAST-MODIFIED:20240712T083354Z
UID:50602-1720807200-1720819800@metalexpress.sk
SUMMARY:GROINCHURN - DEHYDRATED a BOLEST BUDE VĚTŠÍ v Uherskom Hradišti!
DESCRIPTION:V Uherskom Hradišti sa dnes uskutoční koncert troch kapiel. Slovenskú scénu zastúpi death metalová mašinéria DEHYDRATED\, koncert otvoria domáci BOLEST BUDE VĚTŠÍ a na záver večera vystúpi legenda z Juhoafrickej republiky – GROINCHURN\, ktorí sa do Európy vrátili po rokoch!  \nGROINCHURN – grind coreová legenda z Jihoafrické republiky\, po 20 letech znovu v Evropě!\nhttps://www.facebook.com/groinchurn\nDEHYDRATED – death grind veteráni ze Slovenska\nhttps://www.facebook.com/dehydratedsk\nBOLEST BUDE VĚTŠÍ – domácí grindcore z Uherského Hradiště \nDátum: 12.07.2024\nMiesto: Klub Mír\, Uherské Hradište\nVstupné iba na mieste – 300 kč\nFB Udalosť: https://www.facebook.com/events/805572517660677/ \nUHERSKE HRADIŠTĚ RUNNING ORDER\n20.00 – 20.40 BOLEST BUDE VĚTŠÍ\n21.00 – 21.45 Dehydrated\n22.10. – 23.10 Groinchurn
URL:https://metalexpress.sk/event/groinchurn-dehydrated-a-bolest-bude-vetsi-v-uherskom-hradisti/
LOCATION:Klub Mír\, Nám. Míru 765\, Uherske Hradiste\, Czech Republic\, Uherske Hradište\, Česká republika
CATEGORIES:Kalendár,Koncerty,Udalosti
ATTACH;FMTTYPE=image/jpeg:https://metalexpress.sk/wp-content/uploads/2024/07/448564438_942204494586851_1619629734291095756_n.jpg
END:VEVENT
BEGIN:VEVENT
DTSTART;TZID=Europe/Bratislava:20240719T170000
DTEND;TZID=Europe/Bratislava:20240719T210000
DTSTAMP:20260420T172747
CREATED:20240715T173042Z
LAST-MODIFIED:20240715T173042Z
UID:50606-1721408400-1721422800@metalexpress.sk
SUMMARY:RETORSION - LUTRA - ASTRIS LAPSUS a DIKTÄT na Koľaji 22 v Poprade!
DESCRIPTION:Opäť Vás pozývame na letné pokračovanie Koncertov na Koľaji22. Opakujem: koncerty na garážach sú tento rok presunuté na Koľaj 22. Tentokrát si dáme takýto mix a zavedieme na každej akcii afterparty s nestarnúcimi hitmi!\nRETORSION\n-grindcore\, Budapest\nHnilobou nasiaknutý\, oldschoolový grindkore!\nhttps://retorsion.bandcamp.com/album/lve-rohad-s \nLUTRA\n-crust/neocrust\,Bratislava\nJedna z dvoch(?) slovenských kapiel hrajúcich krásny melodický crust. V Poprade po 8 rokoch.\nhttps://lutraband.bandcamp.com/ \nASTRIS LAPSUS\n-indie post punk\, Bratislava\nPohladí na duši.\n \nDIKTÄT\n-disbeat/crust\, Poprad\nMiestni kazatelia D-taktu. Toto je Diktát!\nhttps://diktaat.bandcamp.com/album/toto-je-dikt-t \nAFTER PARTY: SCHEBY\n-do tanca a zábavy nám bude púšťať\nZačiatok: 19:00\nAfterka DJ Scheby: okolo 23:00\nWC máme. \nDátum: 19.07.2024\nMiesto: Koľaj 22\, Poprad\nVstup: ?\nFB Udalosť: https://www.facebook.com/events/1604974853686962/ \nKDE JE TÁ KOĽAJ 22?!\nKoľaj 22 je budova bývalej drevárenskej dielne\, nachádzajúca sa medzi popradskou železničnou stanicou a Spišskou Sobotou. Je potrebné sa k nám dostať peši\, keďže k nám nevedie oficiálna príjazdová cesta pre veľa áut.\nSmerom z centra Popradu\, alebo od železničnej stanice\, sa k nám dostanete cez podchod pre peších do Spišskej Soboty (ul. Jiřího Wolkera)\, za ktorým zabočíte doľava a budete nasledovať koľaje. Určite sa nestratíte – budú vás navigovať šípky.\nSmerom z Veľkej\, Spišskej Soboty alebo od Aquacity sa ku nám dostanete po chodníku\, ktorý pretína Novú ulicu a vedie k pochodu do Sp. Soboty – tam sa o vás už opäť postarajú šípky 🙂. \nPARKOVANIE\nNajbližšie bezplatné parkovisko je na ul. Jířiho Wolkera pred klubom Valkyra alebo pri Aquacity. A potom krátka zdravotná prechádzka (5 min) a ste u nás. \nText prebratý z FB udalosti
URL:https://metalexpress.sk/event/retorsion-lutra-astris-lapsus-a-diktat-na-kolaji-22-v-poprade/
LOCATION:22 Koľaj Poprad\, Nová\, 05801\, Poprad\, Poprad\, 05801\, Slovenská republika
CATEGORIES:Kalendár,Koncerty,Udalosti
ATTACH;FMTTYPE=image/jpeg:https://metalexpress.sk/wp-content/uploads/2024/07/451180100_970989224829260_8482035556201864939_n.jpg
END:VEVENT
BEGIN:VEVENT
DTSTART;TZID=Europe/Bratislava:20240720T110000
DTEND;TZID=Europe/Bratislava:20240720T213000
DTSTAMP:20260420T172747
CREATED:20240715T174428Z
LAST-MODIFIED:20240715T174711Z
UID:50610-1721473200-1721511000@metalexpress.sk
SUMMARY:ZRAZ ANONYMNÝCH ALKOHOLIKOV OPEN AIR
DESCRIPTION:Už túto sobotu sa uskutoční už pravidelná akcia v českej republike – Zraz anonymných alkoholikov\, avšak tentokrát v open air verzii. Na tomto mini festivale odohrá slovenská crust punková kapela BLAMAGE ako jediná kapela zo Slovenska. Zvyšný line-up tvoria české grind core zoskupenia\, ako KANDAR\, ČLOVEK V PLÍSNÍ\, LOCUR\, ale aj CHOKED BY OWN WOMITS\, crust HC – POSTEA\, SICHERHATESYSTEM ako jediný zástupca thrash metalu\, anarcho-punk INSTANT IRONY\, no aj MUSHROOMANIAC a FM WAVE – punk drum’n’bass. Festival sa uskutoční v areáli CAKLA v Ústí nad Orlici. Príďte podporiť tento malý festival\, ak máte cestu :).\nZAHRAJÚ:\nBLAMAGE – crust punk/ Bratislava\nKANDAR – sick’n’horror grindcore/ Brno\nČLOVĚK V PLÍSNÍ – grind crust/ Trutnov\nLOCURA – grind violence/ Česká Třebová\nCHOKED BY OWN VOMITS – deathgrind/ Dolní Chčij\nPOSTEA – crust hardcore/ Lukavice\nSICHERHATESYSTEM/ thrasHCrust/ Kostelec nad Orlicí\nINSTANT IRONY – anarcho punk/ Ústí nad Orlicí\nMUSHROOMANIAC – freestylejamming/ Dolní Čermná\nFM WAVE – punk drum’n’bass/ Dejvice \nDátum: 20.7.2024\nMiesto: CAKLE\, Ústí nad Orlici\nVstup: 300/250 CZK předprodej: 42troSKA@seznam.cz\nFB Udalosť: https://www.facebook.com/events/880814810379815/ \nĎalšie informácie:\nNa čepu bude Holba Šerák i Keprník a bezinková limonáda + jiná piva i nealko v plechu.\nJídlo bude pro masožravce i vegetariány.\nV kempu je samozřejmě možnost stanování (100 kč za stan pro kemp).\nNejbližší vlaková zastávka je Dolní Libchavy na trase Ústí nad Orlicí – Letohrad (cca 7 minut).\nParkoviště bude hned u hlavní silnice při sjezdu do kempu.\nPrvní kapela začne hrát v poledne.\nProgram bude zveřejněn brzy.\nTěšíme se na Vás
URL:https://metalexpress.sk/event/zraz-anonymnych-alkoholikov-open-air/
LOCATION:Bratislavský
CATEGORIES:Kalendár,Koncerty,Udalosti
ATTACH;FMTTYPE=image/jpeg:https://metalexpress.sk/wp-content/uploads/2024/07/451021052_26763987209855242_4984434440751643628_n.jpg
END:VEVENT
BEGIN:VEVENT
DTSTART;TZID=Europe/Bratislava:20240724T173000
DTEND;TZID=Europe/Bratislava:20240724T200000
DTSTAMP:20260420T172747
CREATED:20240723T114807Z
LAST-MODIFIED:20240723T114807Z
UID:50662-1721842200-1721851200@metalexpress.sk
SUMMARY:UADA a UDÅNDE na Pink Whale!
DESCRIPTION:Okultisti z ďalekého Portlandu (Oregon\, USA) nesúci názov UADA\, prichádzajú do Bratislavy počas svojho európskeho turné! Tento krát sa show odohrá\, ako open air koncert na ‚Pink Whale‘ a celú akciu otvoria domáci UDANDE!\n______________________________\nUADA (USA) – Black Metal\nFB: facebook.com/OfficialUADA\n \nUDÅNDE (SK) – Black Metal\nFB: https://www.facebook.com/udandeband\n \nProgram:\nVstup: 19:30\nUdande: 19:40 – 20:30\nUADA: 21:00-22:00\n______________________________\nLístky: Predpredaj 20 – 25 € na mieste\nhttps://goout.net/sk/uada%2Budande/szqfrax/\nDátum: 24.07.2024\nMiesto: Pink Whale\, Bratislava\nFB Udalosť: https://www.facebook.com/events/325255440542454/ \nText prebratý z FB udalosti
URL:https://metalexpress.sk/event/uada-a-udande-na-pink-whale/
LOCATION:Pink Whale\, Nábrežie armádneho generála Ludvíka Svobodu 1868rkm\, 811 02 Staré Mesto\, Bratislava\, Slovakia 0911 177 172\, Bratislava\, Bratislava\, 81102\, Slovenská republika
CATEGORIES:Kalendár,Koncerty,Udalosti
ATTACH;FMTTYPE=image/jpeg:https://metalexpress.sk/wp-content/uploads/2024/07/432365811_1184284762987412_7483199761161891404_n.jpg
END:VEVENT
BEGIN:VEVENT
DTSTART;TZID=Europe/Bratislava:20240726T170000
DTEND;TZID=Europe/Bratislava:20240726T210000
DTSTAMP:20260420T172747
CREATED:20240726T091635Z
LAST-MODIFIED:20240726T091635Z
UID:50673-1722013200-1722027600@metalexpress.sk
SUMMARY:NERVY - DESOLAT a LUTRA na Garážach v Bratislave!
DESCRIPTION:Už v piatok 26.7.2024 sa na Garážach pod Prístavným mostom uskutoční koncert s účasťou troch kapiel. Z neďalekého Rakúska príde odohrať skupina Desolat\, ktorá hrá sludge-noise HC. Z bahna nás vytiahne česká kapela NERVY\, ktorá odohrá crust na spôsob Tragedy. Bratislavu bude reprezentovať LUTRA! \nN E R V Y /CZ/\nTragedy crust pre chudobných\nhttps://nervypunx.bandcamp.com/ \nDesolat /AT/\nbohatý Sludge Hardcore NoiseR\nhttps://desolatvienna.bandcamp.com/ \nLUTRA\nWolfbrigade v akcii\nhttps://lutraband.bandcamp.com/ \nDátum: 26.07.2024\nMiesto: Garáže pod Prístavným mostom\, Bratislava\nVstup: 7 – 5 €\nFB Udalosť: https://www.facebook.com/events/403848722081770/
URL:https://metalexpress.sk/event/nervy-desolat-a-lutra-na-garazach-v-bratislave/
LOCATION:Garáže pod Prístavným mostom Bratislava\, Prístavná 9\, Bratislava\, Bratislava\, Bratislava\, Slovenská republika
CATEGORIES:Kalendár,Koncerty,Udalosti
ATTACH;FMTTYPE=image/jpeg:https://metalexpress.sk/wp-content/uploads/2024/07/451033517_974535721127473_16901951662709330_n.jpg
END:VEVENT
BEGIN:VEVENT
DTSTART;TZID=Europe/Bratislava:20240727T170000
DTEND;TZID=Europe/Bratislava:20240727T213000
DTSTAMP:20260420T172747
CREATED:20240726T092840Z
LAST-MODIFIED:20240726T092840Z
UID:50676-1722099600-1722115800@metalexpress.sk
SUMMARY:ONE DAY IN FUKUSHIMA - MEAN MACHINE - BLAMAGE - WARGAME na Garážach!
DESCRIPTION:Príďte si pozrieť v sobotu večer koncert štyroch kapiel\, ktoré vám naservírujú od crust punk aj nejaký ten grind-core. Popisky k jednotlivým skupinám nájdete nižšie\, aj na udalosti na FB. Miesto je snáď každému známe\, ale ak ste tu ešte nezavítali\, mapku nájdete nižšie.  \nMEAN MACHINE\, Barcelona\nmotorhead crust punk\nhttps://meanmachinernr.bandcamp.com/ \nONE DAY IN FUKUSHIMA\, Eboli\nhttps://onedayinfukushima.bandcamp.com/\ngrind core punx \nBLAMAGE\, Garáže\nhttps://blamage.bandcamp.com/\nvraj maju basáčku \nWARGAME\, Garáže\nhttps://wargamedbeat.bandcamp.com/\nnajnovšia PC hra \nDátum: 27.07.2024\nMiesto: Garáže pod Prístavným mostom\, Bratislava\nVstup: 5 – Študent\, 7 – 10 €\nFB Udalosť: https://www.facebook.com/events/1790943784732141/
URL:https://metalexpress.sk/event/one-day-in-fukushima-mean-machine-blamage-wargame-na-garazach/
LOCATION:Garáže pod Prístavným mostom Bratislava\, Prístavná 9\, Bratislava\, Bratislava\, Bratislava\, Slovenská republika
CATEGORIES:Kalendár,Koncerty,Udalosti
ATTACH;FMTTYPE=image/jpeg:https://metalexpress.sk/wp-content/uploads/2024/07/451582049_977553784159000_1739200241326799371_n.jpg
END:VEVENT
BEGIN:VEVENT
DTSTART;TZID=Europe/Bratislava:20240728T170000
DTEND;TZID=Europe/Bratislava:20240728T210000
DTSTAMP:20260420T172747
CREATED:20240722T130018Z
LAST-MODIFIED:20240722T130018Z
UID:50655-1722186000-1722200400@metalexpress.sk
SUMMARY:STONED JESUS a DOPELORD sa zastavia v Bratislave!
DESCRIPTION:Koncom júla sa u nás zastaví legendárne ukrajinské trio STONED JESUS!\nOkrem dnes už dobre známeho albumu Seven Thunders Roar (2012) predstaví trio premiéru svojho piateho LP nesúci názov „Father Light“.\nAko support zahrajú ich poľskí stoner/doom dritiaci kolegovia DOPELORD\, ktorí nám predstavia ich nový album „Songs for Satan“\, ktorý vyšiel koncom minulého roka.\nNávštevou show si môžete nielen vychutnať kvalitný kultúrny zážitok\, ale aj podporiť Ukrajinu a pomôcť jej vyhrať aj na kultúrnom fronte!\n___________________________________________\nSTONED JESUS (UA) – psych/doom/prog\nFB: https://www.facebook.com/stonedjesusband\n\nDOPELORD (PL) – stoner-metal/doom-metal\nFB: https://www.facebook.com/Dopelord666\nhttps://www.youtube.com/watch?v=_LzyPIqatCg
URL:https://metalexpress.sk/event/stoned-jesus-a-dopelord-sa-zastavia-v-bratislave/
LOCATION:Pink Whale\, Nábrežie armádneho generála Ludvíka Svobodu 1868rkm\, 811 02 Staré Mesto\, Bratislava\, Slovakia 0911 177 172\, Bratislava\, Bratislava\, 81102\, Slovenská republika
CATEGORIES:Kalendár,Koncerty,Udalosti
ATTACH;FMTTYPE=image/jpeg:https://metalexpress.sk/wp-content/uploads/2024/07/431178001_1179139913501897_5716997723306301673_n.jpg
END:VEVENT
END:VCALENDAR