BEGIN:VCALENDAR
VERSION:2.0
PRODID:-//MetalExpress - ECPv6.15.19//NONSGML v1.0//EN
CALSCALE:GREGORIAN
METHOD:PUBLISH
X-WR-CALNAME:MetalExpress
X-ORIGINAL-URL:https://metalexpress.sk
X-WR-CALDESC:Udalosti pre MetalExpress
REFRESH-INTERVAL;VALUE=DURATION:PT1H
X-Robots-Tag:noindex
X-PUBLISHED-TTL:PT1H
BEGIN:VTIMEZONE
TZID:Europe/Bratislava
BEGIN:DAYLIGHT
TZOFFSETFROM:+0100
TZOFFSETTO:+0200
TZNAME:CEST
DTSTART:20230326T010000
END:DAYLIGHT
BEGIN:STANDARD
TZOFFSETFROM:+0200
TZOFFSETTO:+0100
TZNAME:CET
DTSTART:20231029T010000
END:STANDARD
BEGIN:DAYLIGHT
TZOFFSETFROM:+0100
TZOFFSETTO:+0200
TZNAME:CEST
DTSTART:20240331T010000
END:DAYLIGHT
BEGIN:STANDARD
TZOFFSETFROM:+0200
TZOFFSETTO:+0100
TZNAME:CET
DTSTART:20241027T010000
END:STANDARD
BEGIN:DAYLIGHT
TZOFFSETFROM:+0100
TZOFFSETTO:+0200
TZNAME:CEST
DTSTART:20250330T010000
END:DAYLIGHT
BEGIN:STANDARD
TZOFFSETFROM:+0200
TZOFFSETTO:+0100
TZNAME:CET
DTSTART:20251026T010000
END:STANDARD
END:VTIMEZONE
BEGIN:VEVENT
DTSTART;TZID=Europe/Bratislava:20240605T173000
DTEND;TZID=Europe/Bratislava:20240605T203000
DTSTAMP:20260420T185711
CREATED:20240603T091222Z
LAST-MODIFIED:20240603T091222Z
UID:50416-1717608600-1717619400@metalexpress.sk
SUMMARY:DEATHCHANT (USA) + support v stredu na Pink Whale!
DESCRIPTION:Čistá Amerika toto! Dlhé vlasy\, mustache\, kožené vesty a poriadna dávka heavy/stoner metalu až z ďalekej Kalifornie. Aj taká vie byť streda na palube Pink Whale. Lebo prečo nie. Deathchant to u nás ovládnu už 5. júna a sekundovať im budú domáci doomeri Void Odyssey a heavy/speed metal neďaleko od Trenčína Old Hämmer. Môže byť ňe? \nDEATHCHANT (USA)\nhttps://deathchantnoise.bandcamp.com/album/thrones\nVOID ODYSSEY\nhttps://voidodyssey.bandcamp.com/album/void-odyssey\nOLD HÄMMER\n  \nDátum: 05.06.2024\nMiesto: Pink Whale\, Bratislava\nVstup: 12 € predpredaj\nFB Udalosť: https://www.facebook.com/events/1631737354269042/ \nText prebratý z FB udalosti
URL:https://metalexpress.sk/event/deathchant-usa-support-v-stredu-na-pink-whale/
LOCATION:Pink Whale\, Nábrežie armádneho generála Ludvíka Svobodu 1868rkm\, 811 02 Staré Mesto\, Bratislava\, Slovakia 0911 177 172\, Bratislava\, Bratislava\, 81102\, Slovenská republika
CATEGORIES:Kalendár,Koncerty,Udalosti
ATTACH;FMTTYPE=image/jpeg:https://metalexpress.sk/wp-content/uploads/2024/06/436162719_449407814133483_5375574331669493829_n.jpg
END:VEVENT
BEGIN:VEVENT
DTSTART;TZID=Europe/Bratislava:20240609T170000
DTEND;TZID=Europe/Bratislava:20240609T213000
DTSTAMP:20260420T185711
CREATED:20240603T095242Z
LAST-MODIFIED:20240603T095242Z
UID:50430-1717952400-1717968600@metalexpress.sk
SUMMARY:WORMROT - ATARAXIA a JAKUBYSKO v nedeľu na Pink Whale!
DESCRIPTION:Veľmi drsná nedeľa na palube Pink Whale! Singapúrske grindcorové komando Wormrot k nám smeruje v plnej paráde. Hoci K tomu domáce violence stálica Jakubysko a grindcore/ crust Ataraxia. Zapíšte si do diára dátum 9.6.2024\, pretože nedeľa sa už nezadržateľne blíži!   \nWORMROT\nhttps://www.facebook.com/wormrot\n\nJAKUBYSKO\nhttps://jakubysko.bandcamp.com/\n\nATARAXIA \nhttps://www.facebook.com/ataraxiark\n \nDátum: 09.06.2024\nMiesto: Pink Whale\, Bratislava\nVstup: 16 € predpredaj\nFB Udalosť: https://www.facebook.com/events/429877079525200/ \nText prebratý z FB udalosti
URL:https://metalexpress.sk/event/wormrot-ataraxia-a-jakubysko-v-nedelu-na-pink-whale/
LOCATION:Pink Whale\, Nábrežie armádneho generála Ludvíka Svobodu 1868rkm\, 811 02 Staré Mesto\, Bratislava\, Slovakia 0911 177 172\, Bratislava\, Bratislava\, 81102\, Slovenská republika
CATEGORIES:Kalendár,Koncerty,Udalosti
ATTACH;FMTTYPE=image/jpeg:https://metalexpress.sk/wp-content/uploads/2024/05/434836743_443709068036691_8435320812349338550_n.jpg
END:VEVENT
BEGIN:VEVENT
DTSTART;TZID=Europe/Bratislava:20240615T170000
DTEND;TZID=Europe/Bratislava:20240615T213000
DTSTAMP:20260420T185711
CREATED:20240603T092228Z
LAST-MODIFIED:20240603T092228Z
UID:50419-1718470800-1718487000@metalexpress.sk
SUMMARY:Sanguisugabogg mieria do Bratislavy!
DESCRIPTION:Americká death metalová senzácia Sanguisugabogg mieri do Bratislavy so svojim posledným albumom Homicidal Ecstasy. Predstavia sa v sobotu 15. júna v klube FUGA! Ako support prídu odohrať old school metalisti z Revúcej – Bloody Redemption a gore grind z Pezinka – Cannabeast. Lístky v predaji v sieti Tootoot.fm \nSANGUISUGABOGG\nhttps://www.facebook.com/sanguisugabogg\nhttps://sanguisugabogg.com/\nBLOODY REDEMPTION\nhttps://www.facebook.com/bloodyredemptionRA\nCANNABEAST\nhttps://cannabeast.bandcamp.com/album/fuckdoll-remembrance-2 \nDátum: 15.06.2024\nMiesto: FUGA\, Bratislava\nVstup: 18 € predpredaj\nFB Udalosť: https://www.facebook.com/events/2156335238079712/ \nText čiastočne prebratý z FB udalosti
URL:https://metalexpress.sk/event/sanguisugabogg-mieria-do-bratislavy/
LOCATION:FUGA\, Námestie SNP 24\, Bratislava\, Bratislavský Kraj\, Slovenská republika
CATEGORIES:Kalendár,Koncerty,Udalosti
ATTACH;FMTTYPE=image/jpeg:https://metalexpress.sk/wp-content/uploads/2024/06/442414852_752160153755424_4975083659275875874_n.jpg
END:VEVENT
END:VCALENDAR