BEGIN:VCALENDAR
VERSION:2.0
PRODID:-//MetalExpress - ECPv6.15.19//NONSGML v1.0//EN
CALSCALE:GREGORIAN
METHOD:PUBLISH
X-WR-CALNAME:MetalExpress
X-ORIGINAL-URL:https://metalexpress.sk
X-WR-CALDESC:Udalosti pre MetalExpress
REFRESH-INTERVAL;VALUE=DURATION:PT1H
X-Robots-Tag:noindex
X-PUBLISHED-TTL:PT1H
BEGIN:VTIMEZONE
TZID:Europe/Bratislava
BEGIN:DAYLIGHT
TZOFFSETFROM:+0100
TZOFFSETTO:+0200
TZNAME:CEST
DTSTART:20230326T010000
END:DAYLIGHT
BEGIN:STANDARD
TZOFFSETFROM:+0200
TZOFFSETTO:+0100
TZNAME:CET
DTSTART:20231029T010000
END:STANDARD
BEGIN:DAYLIGHT
TZOFFSETFROM:+0100
TZOFFSETTO:+0200
TZNAME:CEST
DTSTART:20240331T010000
END:DAYLIGHT
BEGIN:STANDARD
TZOFFSETFROM:+0200
TZOFFSETTO:+0100
TZNAME:CET
DTSTART:20241027T010000
END:STANDARD
BEGIN:DAYLIGHT
TZOFFSETFROM:+0100
TZOFFSETTO:+0200
TZNAME:CEST
DTSTART:20250330T010000
END:DAYLIGHT
BEGIN:STANDARD
TZOFFSETFROM:+0200
TZOFFSETTO:+0100
TZNAME:CET
DTSTART:20251026T010000
END:STANDARD
END:VTIMEZONE
BEGIN:VEVENT
DTSTART;TZID=Europe/Bratislava:20240503T170000
DTEND;TZID=Europe/Bratislava:20240503T210000
DTSTAMP:20260420T202721
CREATED:20240502T104541Z
LAST-MODIFIED:20240502T104541Z
UID:50188-1714755600-1714770000@metalexpress.sk
SUMMARY:Powerviolence na Garážach!
DESCRIPTION:Kedy ste naposledy videli a počuli pohromade dobré powerviolence kapely za jeden večer? Takáto príležitosť tu už dávnejšie nebola. Za jeden večer sa preženie vašimi ušami power violence z Čiech\, Slovinska\, ale aj zo Slovenska. Ak si nechcete nechať ujsť túto hudobnú smršť\, príďte už tento piatok na Garáže pod Prístavným mostom. Zostava bude nasledovná: \nSheeva Yoga (CZ)\nhttps://sheevayoga.bandcamp.com/\nLickspit (CZ/SK)\nhttps://lickspit.bandcamp.com/\nMental Tension (SK)\nhttps://mentaltension.bandcamp.com/\nPropad (SLO)\nhttps://propad.bandcamp.com/album/s-t\nKu-Ri-Boh (SLO)\nhttps://ku-ri-boh.bandcamp.com/album/s-t\nCarlxJohnson (SLO)\nhttps://carlxjohnsonpv.bandcamp.com/album/s-t\nIncriminate (SK)\nhttps://incriminate.bandcamp.com/album/the-end-is-nigh \nDátum: 03.05.2024\nMiesto: Garáže pod Prístavným mostom\nVstupné: 8-10 €\nZačiatok presne o 19:01\nFB Udalosť: https://www.facebook.com/events/372009862472777/
URL:https://metalexpress.sk/event/powerviolence-na-garazach/
LOCATION:Garáže pod Prístavným mostom Bratislava\, Prístavná 9\, Bratislava\, Bratislava\, Bratislava\, Slovenská republika
CATEGORIES:Kalendár,Koncerty,Udalosti
ATTACH;FMTTYPE=image/jpeg:https://metalexpress.sk/wp-content/uploads/2024/04/434658970_914120027169043_1733691326593441055_n.jpg
END:VEVENT
BEGIN:VEVENT
DTSTART;TZID=Europe/Bratislava:20240510T170000
DTEND;TZID=Europe/Bratislava:20240510T200000
DTSTAMP:20260420T202721
CREATED:20240506T111814Z
LAST-MODIFIED:20240506T111814Z
UID:50213-1715360400-1715371200@metalexpress.sk
SUMMARY:Headless Inferno v Mariatchi už tento piatok!
DESCRIPTION:Druhé pokračovanie akcie na podporu UG scény v Nitre!!! \nVystúpia:\nJACK (Grindcore – Maďarsko)\nhttps://www.facebook.com/jackgrindpunk\n \nBRAIN DEALERS (Death Metal – Zvolen)\nhttps://www.facebook.com/braindealers\n \nCHORÁ DOBA (Thrash/Death Metal – Makov)\nhttps://www.facebook.com/profile.php?id=100069025372219\n \nHracie časy na Piatoček.\nZačíname presne!!!\n19:00 – 20:00 Chora Doba\n20:00 – 21:00 BRAIN DEALERS\n21:00 – 22:00 JACK (HU)  \nDátum: 10.05.2024\nMiesto: Mariatchi\, Nitra\nZačiatok 19:00\nKoniec 22:00\nVstup: 7€\nFB Udalosť: https://www.facebook.com/events/886272789645487/ \nText prebratý z FB udalosti
URL:https://metalexpress.sk/event/headless-inferno-v-mariatchi-uz-tento-piatok/
LOCATION:Mariatchi Nitra\, Mostná 35\, Nitra\, Slovakia\, Nitra\, Slovenská republika
CATEGORIES:Kalendár,Koncerty,Udalosti
ATTACH;FMTTYPE=image/jpeg:https://metalexpress.sk/wp-content/uploads/2024/04/422306948_1460534151369284_6103576597232605578_n.jpg
END:VEVENT
BEGIN:VEVENT
DTSTART;TZID=Europe/Bratislava:20240511T060000
DTEND;TZID=Europe/Bratislava:20240511T150000
DTSTAMP:20260420T202721
CREATED:20240507T143528Z
LAST-MODIFIED:20240507T171636Z
UID:50217-1715407200-1715439600@metalexpress.sk
SUMMARY:Cruentum Aures vol. 8
DESCRIPTION:Koncerty s názvom Cruentum Aures sa dočkajú už tento víkend svojho ôsmeho pokračovania v Moment klube v Kanianke. \nWolnera /thrash metal/\nhttps://www.facebook.com/wolnera \nAntares /death metal/\nhttps://www.facebook.com/antaresdeathmetal \nHead2Down /alternative metal/\nhttps://www.facebook.com/HEAD2DOWN \nAcid Force /thrash metal/\nhttps://www.facebook.com/acidforcethrash \nPerformed /thrash metal/\nhttps://www.facebook.com/performedmetal \nDátum: 12.05.2024\nMiesto: Moment Club\, Kanianka\nVstup: 8 €\nFB Udalosť: https://www.facebook.com/events/295269366685666/ \nProgram:\n18:00 open\n19.00 – 19.40 Wolnera\n20.10 – 20.50 Head2Down\n21.20 – 22.00 Acid Force\n22.30 – 23.10 Antares\n23.40 – 0.20 Performed
URL:https://metalexpress.sk/event/cruentum-aures-vol-8/
LOCATION:Moment Club Kanianka\, SNP 588/2\, Kanianka\, Slovakia\, Kanianka\, Prievidza\, Kanianka\, Slovakia (Slovak Republic)
CATEGORIES:Kalendár,Koncerty,Udalosti
ATTACH;FMTTYPE=image/jpeg:https://metalexpress.sk/wp-content/uploads/2024/05/437152281_1185996422364050_4534612745472810957_n.jpg
END:VEVENT
BEGIN:VEVENT
DTSTART;TZID=Europe/Bratislava:20240517T160000
DTEND;TZID=Europe/Bratislava:20240518T213000
DTSTAMP:20260420T202721
CREATED:20240515T150759Z
LAST-MODIFIED:20240515T150759Z
UID:50258-1715961600-1716067800@metalexpress.sk
SUMMARY:SHITFEST 34. (2 days of sickness)
DESCRIPTION:Senior friendly death metal festival 😃\nPo prvý krát Shitfest bude trvať 2 dni. Piatok kratší warmup\, sobota plný deň ako zvyčajne… \nsobota:\nSPASM\nGore grind bulldozer\n \nPUTRIDITY\nITALIAN BLASTING BRUTAL DEATH LEGEND\n \nINDECENT EXCISION\nBRUTAL DEATH PHENOM FROM ITALY\n \nPIGHEAD\nGROOVY BRUTAL DEATH GATEKEEPERS FROM GERMANY\n \nSANATORIUM\nBRUTAL GUTTURAL SICKNESS\n \nORKRIST\nMelodic black/doom\n \nCONGENITAL ANOMALIES\nBrutal death metal\n \nCHASING TEARS\nSpeed/thrash metal\n \nPiatok:\nNERVECELL\nTechnical death metal\n \nDEPRESY\nMelodic death/black\n \nCRANIOTOMY\nBrutal slam death\n \nSANATORIUM\nSpecial anniversary set \nSTIR OF ECHOES\nDeath/HC/deathcore\n \nhttps://www.facebook.com/SANATORIUMbrutal/videos/1192266188853496 \nDátum: 17.-18.5.2024\nMiesto: Smer Klub 77 – Žilina\nVstup: 22\,5€\nFB Event: https://www.facebook.com/events/1283012089766472
URL:https://metalexpress.sk/event/shitfest-34-2-days-of-sickness/
LOCATION:Smer Klub 77 Žilina\, R. Zaymusa 72/8\, Zilina\, Slovakia\, Žilina\, Žilina\, Slovenská republika
ATTACH;FMTTYPE=image/jpeg:https://metalexpress.sk/wp-content/uploads/2024/04/429653033_921863226609609_444709181397326807_n.jpg
END:VEVENT
BEGIN:VEVENT
DTSTART;TZID=Europe/Bratislava:20240517T170000
DTEND;TZID=Europe/Bratislava:20240517T200000
DTSTAMP:20260420T202721
CREATED:20240514T071615Z
LAST-MODIFIED:20240514T071615Z
UID:50249-1715965200-1715976000@metalexpress.sk
SUMMARY:MASSA NERA - IZUREWARA - NEBOJ a RANA v piatok na Garážach v Bratislave!
DESCRIPTION:Na bratislavské Garáže mieri tento piatok zaujímavá zostava kapiel\, ktorá poteší hlavne milovníkov ema\, HC\, či post metalu. Až z ďalekej Ameriky sa v rámci svojho turné po Európe vybrala kapela MASSA NERA. Kontrovať im bude poriadne našlapané HC z Brna – Izurewara. Do sveta post metalu\, ema\, či neocrustu vás zavedie bratislavsko-popradská kapela Rana. Spestrením večera bude kapela Neboj\, ktorá hrá alternatívny rock. V prípade zlého počasia sa koncert pravdepodobne presunie na Werandu\, takže sledujte updaty vo FB udalosti. \nMASSA NERA\nNew Jersey\, USA\nhttps://www.facebook.com/MASSANERANJ\nhttps://massanera.bandcamp.com/ \nIZUREWARA\nBrno\, CZ\nhttps://izurewara.bandcamp.com/ \nRANA\nPoprad/BA \nhttps://rana.bandcamp.com/ \nNEBOJ\nhttps://soundcloud.com/felix-karasek/neboj-orchyds-demo \n\nDátum: 17.05.2024\nMiesto: Garáže pod Prístavným mostom\, Bratislava\nVstup: 5 – 10€\nFB Udalosť: https://www.facebook.com/events/358689230520644/
URL:https://metalexpress.sk/event/massa-nera-izurewara-neboj-a-rana-v-piatok-na-garazach-v-bratislave/
LOCATION:Garáže pod Prístavným mostom Bratislava\, Prístavná 9\, Bratislava\, Bratislava\, Bratislava\, Slovenská republika
CATEGORIES:Kalendár,Koncerty,Udalosti
ATTACH;FMTTYPE=image/jpeg:https://metalexpress.sk/wp-content/uploads/2024/05/438092183_929430088971370_8842425617480057401_n.jpg
END:VEVENT
BEGIN:VEVENT
DTSTART;TZID=Europe/Bratislava:20240517T170000
DTEND;TZID=Europe/Bratislava:20240517T213000
DTSTAMP:20260420T202721
CREATED:20240514T141707Z
LAST-MODIFIED:20240514T141707Z
UID:50253-1715965200-1715981400@metalexpress.sk
SUMMARY:Sekeromlat + Hnus Umírající + Teufelsmauer
DESCRIPTION:17. mája v malej sále opäť raz otvárame brány pekelné. Tentokrát sa u nás zastaví dvojica českých kapiel na tour a doplní ich aj domáci náklad z východu. V hlavných úlohách: \nSekeromlat\nhttps://sekeromlat.bandcamp.com/album/dr-py-a-tes-ky \nHnus Umírající\nhttps://hnusumirajici.bandcamp.com/album/hnus-um-raj-c \nTeufelsmauer\nhttps://teufelsmauer.bandcamp.com/album/split-w-otras \nDátum: 17.5.2024\nMiesto: Pink Whale – Bratislava\nVstup: 10 Eur\nFB Event: https://www.facebook.com/events/913654273571558\nPlagát od @seeruus
URL:https://metalexpress.sk/event/sekeromlat-hnus-umirajici-teufelsmauer/
LOCATION:Pink Whale\, Nábrežie armádneho generála Ludvíka Svobodu 1868rkm\, 811 02 Staré Mesto\, Bratislava\, Slovakia 0911 177 172\, Bratislava\, Bratislava\, 81102\, Slovenská republika
CATEGORIES:Kalendár,Koncerty,Udalosti
ATTACH;FMTTYPE=image/jpeg:https://metalexpress.sk/wp-content/uploads/2024/05/sekero-pink.jpg
END:VEVENT
BEGIN:VEVENT
DTSTART;TZID=Europe/Bratislava:20240518T170000
DTEND;TZID=Europe/Bratislava:20240518T203000
DTSTAMP:20260420T202721
CREATED:20240514T063621Z
LAST-MODIFIED:20240514T063621Z
UID:50244-1716051600-1716064200@metalexpress.sk
SUMMARY:Wastage - krst nového albumu!
DESCRIPTION:Fanúšikovia metalovej muziky\, zbystrite pozornosť! V Klube Collosseum sa 18. mája môžete tešiť na poriadnu nálož dunivých tónov a tvrdých riffov. Vystúpenia troch metalových kapiel zaručujú skvelý večer plný zábavy a hudby. \nWastage – Groove metal – Košice\nKrst nového albumu „Show me your mask“\, ktorý vyjde po dlhšej dobe\, pripravený je nový energický koncertný program\, za bicimi\, už s Mirom Szemanom\, ktorý sa vrátil späť do kapely. Zaznejú skladby z novinky aj par starších skladieb. Krstným otcom bude košická rocková legenda Bogo Boris Bokotej\nhttps://wastage1.bandcamp.com/album/show-me-your-mask\nhttps://www.facebook.com/WastageSK/\nhttps://linktr.ee/wastageband\n \nWayd – Progressive Death metal – Prešov\nDnes už v podstate legendárna kapela\, ktorá sa vrátila späť na podia. Predvedú svoj veľmi zaujímavý a svojsky pohľad na tvrdý metal. Určite sa je načo tešiť.\nhttps://www.facebook.com/wayd.official\nhttps://wayd.bandcamp.com/\n \nDemonic-Eyed – Scarp – HC/Thrash metal – Zvolen\nNadupaný HC/metal\, ktorý ťa dostane svojou energiou\, veľmi aktívna kapela\, predvedie prierez svojou tvorbou.\nhttps://demonic-eyed.bandcamp.com/\n \nDátum: 18.05.2024\nMiesto: Collosseum Club\, Košice\nVstup: 8 €\nFB udalosť: https://www.facebook.com/events/737695265216464/ \nPoužitý text pochádza z FB udalosti
URL:https://metalexpress.sk/event/wastage-krst-noveho-albumu/
LOCATION:Collosseum\, Dominikánske námestie 35\, Košice\, Košice\, 04001\, Slovenská republika
CATEGORIES:Kalendár,Koncerty,Udalosti
ATTACH;FMTTYPE=image/jpeg:https://metalexpress.sk/wp-content/uploads/2024/05/435683443_925574892902893_3222932178709248228_n.jpg
END:VEVENT
BEGIN:VEVENT
DTSTART;TZID=Europe/Bratislava:20240518T180000
DTEND;TZID=Europe/Bratislava:20240518T213000
DTSTAMP:20260420T202721
CREATED:20240513T104729Z
LAST-MODIFIED:20240513T132958Z
UID:50238-1716055200-1716067800@metalexpress.sk
SUMMARY:Grind Paradise 2024 už túto sobotu v Bratislave!
DESCRIPTION:Po minuloročnom Grind Paradise\, ktorý sa uskutočnil vo Fuge sa aj tento rok vyznávači rýchlych melódií stretnú na tom istom mieste. Tento rok si organizátori pripravili jednu goregrind lahôdku v podobe nemeckej legendy GUT. Zvyšný line-up je zložený z domácich kapiel. Na pódiu sa vystriedajú Sangre de Idiotas\, Sperm of Mankind\, Ataraxia a Urinaemia. Môžete sa teda tešiť na poriadnu nálož do vašich sluchovodov! Na mieste bude aj HMVP distro ako aj merch účinkujúcich kapiel\, takže si niečo budete môcť kúpiť aj na pamiatku :). \nGut – goregrind legenda (Nemecko)\nhttps://www.facebook.com/GUT.Official\n \nSangre De Idiotas – drum n bass grindcore (SK)\nhttps://sangredeidiotas.bandcamp.com/ \nSperm of Mankind – goregrind (SK)\nhttps://bandzone.cz/spermofmankind\nhttps://www.facebook.com/profile.php?id=100063491652425 \nAtaraxia – crust / grind (SK)\nhttps://ataraxiark.bandcamp.com/\nhttps://www.facebook.com/ataraxiark \nUrinaemia – gore / noise (SK)\nhttps://www.facebook.com/Urinaemia \n\nProgram:\n20:30 – Sangre De Idiotas\n21:00 – Ataraxia\n21:30 – Urinaemia\n22:00 – Gut\n23:00 – Sperm of Mankind  \nDÁTUM: 18.05.2024\nMIESTO: FUGA\, Bratislava\nVSTUP: N/A\nFB Udalosť: https://www.facebook.com/events/633917598870147/
URL:https://metalexpress.sk/event/grind-paradise-2024-uz-tuto-sobotu-v-bratislave/
LOCATION:FUGA\, Námestie SNP 24\, Bratislava\, Bratislavský Kraj\, Slovenská republika
CATEGORIES:Kalendár,Koncerty,Udalosti
ATTACH;FMTTYPE=image/jpeg:https://metalexpress.sk/wp-content/uploads/2024/05/426176014_886994610096839_7788552959364596749_n.jpg
END:VEVENT
BEGIN:VEVENT
DTSTART;TZID=Europe/Bratislava:20240520T170000
DTEND;TZID=Europe/Bratislava:20240520T210000
DTSTAMP:20260420T202721
CREATED:20240517T111752Z
LAST-MODIFIED:20240517T111752Z
UID:50262-1716224400-1716238800@metalexpress.sk
SUMMARY:WAKE - HOMO PRIMITIVE - WE STILL HERE v pondelok vo FUGE!
DESCRIPTION:Metalový pondeloček vo FUGE? Prečo nie\, veď dobré koncerty môžu byť aj v pondelok. A tak sa k nám 20. mája dovalí kanadská partička WAKE\, ktorí do nás nasypú tak surovú dávku deathgrindu\, že zostanete vystrelení po celý zvyšok týždňa. Presne preto treba prísť. Ako supportujúca kapela vystúpi domáca skupina HOMO PRIMITIVE\, ktorí sa objavili minulý rok a boli veľmi veľmi aktívny v koncertnej činnosti hlavne v Bratislave. Zošrotujú vás svojím agresívnym thrash metalom. Druhý support bude taktiež v podobe slovenských WE STILL HERE. V ich hudbe sa prenesiete do melodického death metálu zmiešaného s prvkami metalcoru.  \nWAKE (CA)\nhttps://www.facebook.com/wakeyyc\nhttps://wakegrind.bandcamp.com/ \nHOMO PRIMITIVE\nhttps://www.instagram.com/homo_primitive/\nhttps://www.facebook.com/profile.php?id=100089733593013 \nWE STILL HERE\nhttps://westillhere.bandcamp.com/\nhttps://www.facebook.com/WeStillHereBand \nDÁTUM: 20.05.2024\nMIESTO: FUGA\, Bratislava\nVSTUP: https://tootoot.fm/en/events/663367121b234e07b8e9b243\nFB Udalosť: https://www.facebook.com/events/720675340232047/ \nText čiastočne prebratý z FB Udalosti
URL:https://metalexpress.sk/event/wake-homo-primitive-we-still-here-v-pondelok-vo-fuge/
LOCATION:Bratislavský
CATEGORIES:Kalendár,Koncerty,Udalosti
ATTACH;FMTTYPE=image/jpeg:https://metalexpress.sk/wp-content/uploads/2024/05/441961442_751392383832201_4828559265746485790_n.jpg
END:VEVENT
BEGIN:VEVENT
DTSTART;TZID=Europe/Bratislava:20240524T160000
DTEND;TZID=Europe/Bratislava:20240524T200000
DTSTAMP:20260420T202721
CREATED:20240523T120135Z
LAST-MODIFIED:20240523T120135Z
UID:50348-1716566400-1716580800@metalexpress.sk
SUMMARY:Mucho-Zber vol. 6
DESCRIPTION:Všetky mušky vzlietnite na miesto skázy a zmaru\, tam kde sa melódia pekiel otláča do sŕdc každého milovníka kvalitnej hudby. Vrelo vás pozývame na ďalšiu akciu z názvom mucho-zber 🤘🏿🪰 na koľaji 22 v Poprade\, tešíme sa na vás. \nARCRA – nova metalova kref zo Žiliny\nhttps://www.instagram.com/arcra.band/ \nUNDER MY ISSUE – pozitifprogresif hardcore/metal z B.Bystrice\nhttps://www.facebook.com/undermyissue/ \nCLIFTONS – pankovy fotri zo Spišskej si odbehnú od rodín\nhttps://www.facebook.com/cliftonspunk/?locale=sk_SK \nBERSTUK – Jeho Čjerna Eminencija Popradská\nhttps://www.facebook.com/Berstuk.official?locale=sk_SK \nDEMONIC-EYED – a nakoňec po pysku riadnym thrash metalom zo Zvolena\nhttps://www.facebook.com/demoniceyed/mentions?locale=sk_SK \nDátum: 24.05.2024\nMiesto: Koľaj 22\, Poprad\nFB Udalosť: https://www.facebook.com/events/811290417715782/ \nText prebratý z FB udalosti
URL:https://metalexpress.sk/event/mucho-zber-vol-6/
LOCATION:22 Koľaj Poprad\, Nová\, 05801\, Poprad\, Poprad\, 05801\, Slovenská republika
CATEGORIES:Kalendár,Koncerty,Udalosti
ATTACH;FMTTYPE=image/jpeg:https://metalexpress.sk/wp-content/uploads/2024/05/438161559_10227927652909870_736050089320062025_n-1.jpg
END:VEVENT
BEGIN:VEVENT
DTSTART;TZID=Europe/Bratislava:20240524T170000
DTEND;TZID=Europe/Bratislava:20240524T200000
DTSTAMP:20260420T202721
CREATED:20240523T092050Z
LAST-MODIFIED:20240523T092225Z
UID:50340-1716570000-1716580800@metalexpress.sk
SUMMARY:Garážové Bahno vol II.
DESCRIPTION:Na bratislavských Grážach pod Prístavným mostom si svoje miesto okrem extrémne zbesilej\, rýchlej a nasranej hudby nájdu aj pochmúrne ťažkotonážne tóny temnejších subžánrov\, čo potvrdzuje aj druhé pokračovanie Garážového bahna.\nBude to špinavé a hlučné ako Tatrovka zapadnutá do bahna. \nNa ušné bubienky vám budú tlačiť: \nSlať (Brno) – sludge\, stoner\npohrobkovia Nikander. hlavní blatonosiči\nhttps://slat.bandcamp.com/album/demo\n \nNekrodeus (Graz) – blackened sludge\nminulý rok na Werande apokalypsa\nhttps://nekrodeus.bandcamp.com/album/asbest\n \nMephobia (Viedeň) – Very hard music from very soft people\nhttps://mephobia.bandcamp.com/…/terror-of-the-malignant…\n \nStir of Echoes (SK)\nnovosť\n \nDátum: 24.5.2024\nMiesto: Garáže pod Prístavným mostom\, Bratislava\nVstup: 7-10€\nFB Event: https://www.facebook.com/events/1000576264917496
URL:https://metalexpress.sk/event/50340/
LOCATION:Garáže pod Prístavným mostom Bratislava\, Prístavná 9\, Bratislava\, Bratislava\, Bratislava\, Slovenská republika
ATTACH;FMTTYPE=image/jpeg:https://metalexpress.sk/wp-content/uploads/2024/05/bahenko.jpg
END:VEVENT
BEGIN:VEVENT
DTSTART;TZID=Europe/Bratislava:20240526T150000
DTEND;TZID=Europe/Bratislava:20240526T213000
DTSTAMP:20260420T202721
CREATED:20240524T080103Z
LAST-MODIFIED:20240524T080504Z
UID:50371-1716735600-1716759000@metalexpress.sk
SUMMARY:No Fucker & Puffer & Disease & Denim & Mental Tension & Wargame
DESCRIPTION:Tak sa to nejako stalo\, že sa v Bratislave na nedeľu 26. mája mali udiať dva eventy. Jeden vo Fuge\, druhý v Cyklokuchyni – jeden o druhom nevedeli. A nakoniec sa to celé spojilo u nás na hornej palube\, aby si nekonkurovali! A tak nás poslednú májovú nedeľu čaká poriadny čaj o piatej. Teda\, pivo o piatej. Alebo také dačo. Bude 6 kapiel\, od crustu cez disbeat po oi-hardcore! Bude Amerika\, bude Kanada\, bude Macedónsko\, bude Viedeň\, bude Slovensko. A samozrejme aj niečo vegan pod zub. \nNO FUCKER\nhttps://noiseitch.bandcamp.com/album/tombs-3 \nPUFFER\nhttps://roachlegrecords.bandcamp.com/album/puffer-s-t-ep \nDISEASE\nhttps://diseasedbeatpunk.bandcamp.com/…/from-the… \nDENIM\nhttps://denimpunk.bandcamp.com/album/no-remorse-2 \nMENTAL TENSION\nhttps://mentaltension.bandcamp.com/album/slon \nWARGAME\nhttps://wargamedbeat.bandcamp.com/album/wargame \nVlez dáme 12 Eur\, nech sa všetkým podarí zaplatiť benzíny a podobne.\nZa plagát diky Seeruusovi \nDátum: 26.5.2024\nMiesto: Pink Whale\, Bratislava\nFB Event: https://www.facebook.com/events/451146604245788 \nText prevzatý z FB udalosti
URL:https://metalexpress.sk/event/50371/
LOCATION:Pink Whale\, Nábrežie armádneho generála Ludvíka Svobodu 1868rkm\, 811 02 Staré Mesto\, Bratislava\, Slovakia 0911 177 172\, Bratislava\, Bratislava\, 81102\, Slovenská republika
CATEGORIES:Kalendár,Koncerty,Udalosti
ATTACH;FMTTYPE=image/jpeg:https://metalexpress.sk/wp-content/uploads/2024/05/436236914_450692450671686_529235260196824467_n.jpg
END:VEVENT
END:VCALENDAR