BEGIN:VCALENDAR
VERSION:2.0
PRODID:-//MetalExpress - ECPv6.15.19//NONSGML v1.0//EN
CALSCALE:GREGORIAN
METHOD:PUBLISH
X-ORIGINAL-URL:https://metalexpress.sk
X-WR-CALDESC:Udalosti pre MetalExpress
REFRESH-INTERVAL;VALUE=DURATION:PT1H
X-Robots-Tag:noindex
X-PUBLISHED-TTL:PT1H
BEGIN:VTIMEZONE
TZID:Europe/Bratislava
BEGIN:DAYLIGHT
TZOFFSETFROM:+0100
TZOFFSETTO:+0200
TZNAME:CEST
DTSTART:20230326T010000
END:DAYLIGHT
BEGIN:STANDARD
TZOFFSETFROM:+0200
TZOFFSETTO:+0100
TZNAME:CET
DTSTART:20231029T010000
END:STANDARD
BEGIN:DAYLIGHT
TZOFFSETFROM:+0100
TZOFFSETTO:+0200
TZNAME:CEST
DTSTART:20240331T010000
END:DAYLIGHT
BEGIN:STANDARD
TZOFFSETFROM:+0200
TZOFFSETTO:+0100
TZNAME:CET
DTSTART:20241027T010000
END:STANDARD
BEGIN:DAYLIGHT
TZOFFSETFROM:+0100
TZOFFSETTO:+0200
TZNAME:CEST
DTSTART:20250330T010000
END:DAYLIGHT
BEGIN:STANDARD
TZOFFSETFROM:+0200
TZOFFSETTO:+0100
TZNAME:CET
DTSTART:20251026T010000
END:STANDARD
END:VTIMEZONE
BEGIN:VEVENT
DTSTART;TZID=Europe/Bratislava:20240202T180000
DTEND;TZID=Europe/Bratislava:20240202T213000
DTSTAMP:20260421T005452
CREATED:20240128T164404Z
LAST-MODIFIED:20240128T164404Z
UID:49057-1706896800-1706909400@metalexpress.sk
SUMMARY:Modern Age Dying (Krst Albumu) - Circular Saw a Inprobus v Nitre!
DESCRIPTION:Ako by to bolo\, keby sme naše dlho pripravované CD „The Sunless Empire“ aj patrične nepokrstili? Ako inak to urobíme na domácej pôde vo Frankie Rock Clube v Nitre\, ktorý si dokonalo pamätá naše začiatky. Nečakaj žiadnu veľkú akciu\, bude to viac-menej „rodinné\, komorné\, a vlastne také malé“\, takže zober mamu\, otca\, syna\, vnuka a hlavne svoju partu\, a prídi si pozrieť ako zahráme pár peciek z inkriminovaného debutu! Zahrať si prídu s nami taktiež dve našlapané kapely z blízkeho okolia Nitry – Inprobus a Circular Saw! \nModern Age Dying:\nhttps://modernagedying.bandcamp.com/album/the-sunless-empire\nhttps://www.youtube.com/watch?v=F7qPatw5ok0… \nCircular Saw:\nhttps://circularsawsurany.bandcamp.com/album/trauma\nhttps://www.facebook.com/circularsawsurany/ \nInprobus:\nhttps://www.facebook.com/inprobusSVK\nhttps://inprobus-sma.bandcamp.com/album/retribution
URL:https://metalexpress.sk/event/modern-age-dying-krst-albumu-circular-saw-a-inprobus-v-nitre/
LOCATION:Frankie Rock Club\, Mostná 42\, Nitra\, Slovakia\, Nitra\, Nitra\, Slovenská republika
CATEGORIES:Kalendár,Koncerty,Udalosti
ATTACH;FMTTYPE=image/jpeg:https://metalexpress.sk/wp-content/uploads/2024/01/420142411_893730815982308_5518770848918347687_n.jpg
END:VEVENT
BEGIN:VEVENT
DTSTART;TZID=Europe/Bratislava:20240210T180000
DTEND;TZID=Europe/Bratislava:20240210T180000
DTSTAMP:20260421T005452
CREATED:20240128T165416Z
LAST-MODIFIED:20240128T165416Z
UID:49061-1707588000-1707588000@metalexpress.sk
SUMMARY:Welicoruss + Innersphere + Peorth v Nitre!
DESCRIPTION:WELICORUSS / INNERSPHERE „World Falls Tour 2023/24“\nEpic extreme metalová kapela Welicoruss se vynořila z dvouleté hibernace\, aby představila novou show obsahující skladby ze všech 4 alb. Welicoruss jsou opět připraveni dobýt českou svou energickou\, zběsilou show\, kterou rozhodně musíte vidět naživo!\nStyl kapely je těžké popsat\, ale v průběhu let se členové kapely shodli\, že hudebně nejblíž má k epickému extrémnímu metalu\, který ztělesňuje zuřivost black metalu\, epičnost symfonického metalu a složité aranže a rytmy progresivního metalu.\nWelicoruss již vystoupili na mnoha kultovních festivalech v Evropě\, absolvovali rozsáhlá turné a v současné době kapela aktivně pracuje na novém albu „Deadman’s Manifest“\, které vyjde v roce 2024. \nVIDEO „Siberian Heathen Horde“:\n\nVIDEO „Spellcaster“:\n \nINNERSPHERE – melodic death / black metal [Pilsen\, CZ]\nje melodic-death metalová kapela z Plzně\, České Republiky založená na konci roku 2015. Tento kvartet míchá prvky různých metalových a i rockových subžánrů a je možné poznat vlivy progresive\, thrash\, black nebo doom metalu a při tom si stále zachovávají agresivní elementy napříč tvorbou. Poslední alba jsou více zaměřena na výpravu\, atmosféru či ducha skladeb a jsou epičtější.\nInnersphere je aktivní kapelou hned od první sestavy (2016) \, kdy objíždějí koncerty nejen v ČR\, ale také v Německu\, Polsku\, Rakousku\, na Balkáně a dál… pracují na hudbě a kapele\, aby se dílo dostalo ještě dále. Vydané byly zatím 3 studiové nahrávky – debutové EP a 2 dlouhohrající desky “Amnesia” a “Omfalos”. Třetí řadové album “In The Shadow of the Sun” je již natočeno a řeší se jeho vydání.\nVIDEO:\n \nspeciálny hosť\nPEORTH – melodic death metal z Nitry/Vráblí\n \nDátum: 10.02.2023\nMiesto: Frankie Rock Club\, Nitra\nVstup: 250 CZK\nFB Udalosť: https://www.facebook.com/events/1562161974606013/ \nText pochádza z FB Udalosti
URL:https://metalexpress.sk/event/welicoruss-innersphere-peorth-v-nitre/
LOCATION:Frankie Rock Club\, Mostná 42\, Nitra\, Slovakia\, Nitra\, Nitra\, Slovenská republika
CATEGORIES:Kalendár,Koncerty,Udalosti
ATTACH;FMTTYPE=image/jpeg:https://metalexpress.sk/wp-content/uploads/2024/01/382479093_723283272958379_8521279995389631066_n.jpg
END:VEVENT
BEGIN:VEVENT
DTSTART;TZID=Europe/Bratislava:20240214T180000
DTEND;TZID=Europe/Bratislava:20240214T220000
DTSTAMP:20260421T005452
CREATED:20240128T170047Z
LAST-MODIFIED:20240128T170047Z
UID:49066-1707933600-1707948000@metalexpress.sk
SUMMARY:Valentínsky Stoner na Werande!
DESCRIPTION:Ako inak osláviť Valentína\, ako hudbou a ešte k tomu aj poriadne pomalou a bahennou. Pre tento večer je pre všetkých milovníkov ťahavých a pomalých melódii pripravený valentínsky stoner na Werande. Vystúpia dve kapely\, slovenský Bongsilisk a Francúzi High on Wheels.  \nHigh on Wheels (FR)\ndesert rock/stoner z Paríža. Kontroluješ tu:\nhttps://highonwheels.bandcamp.com/album/fuzzmovies\nhttps://www.instagram.com/highonwheelsband/ \nBongsilisk (SK)\ndoom/stoner/sludge vec. sme zvedaví\nhttps://bongsilisk.bandcamp.com/album/the-hash-club\nhttps://www.instagram.com/bongsilisk/ \nDátum: 14.02.2023\nMiesto: Weranda\, Bratislava\nVstup: 5 + viac €\nFB udalosť: https://www.facebook.com/events/750610196454205/
URL:https://metalexpress.sk/event/valentinsky-stoner-na-werande/
LOCATION:Weranda\, Májová 3303/23\, 851 01 Bratislava-Petržalka\, Bratislava\, Slovenská republika
CATEGORIES:Kalendár,Koncerty,Udalosti
ATTACH;FMTTYPE=image/jpeg:https://metalexpress.sk/wp-content/uploads/2024/01/419056773_864782782102768_1845464442445555243_n.jpg
END:VEVENT
BEGIN:VEVENT
DTSTART;TZID=Europe/Bratislava:20240216T180000
DTEND;TZID=Europe/Bratislava:20240216T223000
DTSTAMP:20260421T005452
CREATED:20240213T115347Z
LAST-MODIFIED:20240213T115347Z
UID:49174-1708106400-1708122600@metalexpress.sk
SUMMARY:Koncert pre Libora v Košiciach!
DESCRIPTION:Koncert pre Libora\n16.2.2024\nCollosseum Club\, 777 (horné poschodie)\nVstup dobrovoľný (na pokrytie nákladov)\nNefajčiarska akcia\n———————\n31.1.2024 nás opustil náš kamarát\, skalný fanúšik hudby a návštevník koncertov Libor Kato. Kapely\, ku ktorým mal blízko\, zahrajú spomienkový koncert na jeho počesť.\nJužná 3D\nhttps://juzna3d.bandcamp.com\nhttps://www.facebook.com/juzna3d\nLunokhod\nhttps://lunokhod.bandcamp.com\nhttps://www.facebook.com/lunokhodband\nUchafU\nhttps://www.facebook.com/p/UchafU-100030340692518\nNERVA\nhttps://nervapunx.bandcamp.com\nhttps://www.facebook.com/nervapunk \nText prebratý z udalosti na FB
URL:https://metalexpress.sk/event/koncert-pre-libora-v-kosiciach/
LOCATION:Collosseum\, Dominikánske námestie 35\, Košice\, Košice\, 04001\, Slovenská republika
CATEGORIES:Kalendár,Koncerty,Udalosti
ATTACH;FMTTYPE=image/jpeg:https://metalexpress.sk/wp-content/uploads/2024/02/417470246_809537114536395_6432488206153257905_n.jpg
END:VEVENT
BEGIN:VEVENT
DTSTART;TZID=Europe/Bratislava:20240216T190000
DTEND;TZID=Europe/Bratislava:20240216T220000
DTSTAMP:20260421T005452
CREATED:20240205T104625Z
LAST-MODIFIED:20240205T104625Z
UID:49117-1708110000-1708120800@metalexpress.sk
SUMMARY:Bordel v Podpalubí!
DESCRIPTION:Tak sa nam rock spojil s cockom a ľaľa ho papľuha kýže bordel to na nas v Pink Whale caka dva dni po Valentinovi:  \nBALLSQUEEZER\nball & roll\nZdrvujúce riffy\, skvelé vyhrávky a dychberúce sóla to sú Mikey a Pedro na gitarách. Ťažné laná na base a vokály nasiaknuté whiskou to je Daddy. Batéria rozzúrených bicích to je Peat. Veľa špičkových skladieb na rozbehnutie bordel párty v útrobách ružovej veľryby to je Ballsqueezer.\nWeb: www.ballsqueezer.net\nFacebook: https://www.facebook.com/ballsqueezer.net\nhttps://youtu.be/J-McRieXukk?si=u8x55MmUL1TJlMUK\nhttps://youtu.be/Sn0Po0no4cw?si=-ZuqdzVCnNtIddke \nMorhörr \nThrash metal/Death metal – Bratislava\nBratislavska kapela brazdiaca podia od roku 2016. Emergicka zmes thrash\, death a dalsich metalovych odnozi\, pri ktorych si kazdy fanusik tvrdej muziky urcite pride na svoje.\nYoutube: https://youtube.com/@morhorr?si=xllvUW2vRzQb8kRX\nFacebook: https://www.facebook.com/morhorr\nInstagram: https://www.instagram.com/morhorr?igsh=Z2dzeHd6Zmt6Y2o0\nBandcamp: https://morhorr.bandcamp.com/\nSpotify: https://open.spotify.com/artist/28RdcwKrPZ3tMo16QshudA\nBandzone: https://bandzone.cz/morhorr \nSilent Madness \nthrash/Groove (Slovakia/Nepal/Bulgaria)\nResident in Bratislava\, Slovakia\nje Thrash/Groove fúziou toho\, čo narobia štyria fúzatí\, nasratí\, a etnicky rôznorodí metalisti\, dvojkopákový prievan\, podladené gitarové dróty a podtóny\, vysoko pussy-magnetický shredding\, basa namiesto kardiostimulátora a alfa-samecký tlak na chudáka mikrofóna!\nhttps://bandzone.cz/silentmadness?at=info \nhttps://www.youtube.com/watch?v=TLNfrFUmbmI&ab_channel=SilentMadness\nhttps://www.youtube.com/watch?v=AH8OoIVEwf4&ab_channel=SilentMadness\nhttps://m.facebook.com/silentmadnessthrash \nFB link Udalosť:\nhttps://www.facebook.com/events/1499076297336850/ \nTlačová správa
URL:https://metalexpress.sk/event/bordel-v-podpalubi/
LOCATION:Pink Whale\, Nábrežie armádneho generála Ludvíka Svobodu 1868rkm\, 811 02 Staré Mesto\, Bratislava\, Slovakia 0911 177 172\, Bratislava\, Bratislava\, 81102\, Slovenská republika
CATEGORIES:Kalendár,Koncerty,Udalosti
ATTACH;FMTTYPE=image/jpeg:https://metalexpress.sk/wp-content/uploads/2024/02/424721339_905766834881810_6320880061484260020_n.jpg
END:VEVENT
BEGIN:VEVENT
DTSTART;TZID=Europe/Bratislava:20240217T150000
DTEND;TZID=Europe/Bratislava:20240217T223000
DTSTAMP:20260421T005452
CREATED:20240130T101103Z
LAST-MODIFIED:20240130T101103Z
UID:49080-1708182000-1708209000@metalexpress.sk
SUMMARY:Total Rectal Grindcore Fest vo Frýdku-Místku!
DESCRIPTION:Tradične vo februári sa koná ďalší ročník festivalu muziky\, predovšetkým grindcore a podobných štýlov. Tentokrát na tomto mini jednodňovom festivale odohrajú aj dve kapely zo Slovenska – Craniotomy a Constipation. Zvyšok line-upu budú tvoriť české kapely ako Spasm\, Dobytčí Mor\, MeinKraft\, Belly Error a Kožis. Koncert sa uskutoční v klube Zkušebna v mestečku Frýdek-Místek.  \nZahrajú:\nSPASM\nhttps://bandzone.cz/spasm\nDobytčí mor\nhttps://bandzone.cz/dobytcimor\nMeinKraft\nhttps://bandzone.cz/meinkraft\nConstipation\nhttps://www.facebook.com/constipationband\nCraniotomy\nhttps://bandzone.cz/craniotomy\nBelly Error\nhttps://bandzone.cz/bellyerror\nKožis\nhttps://www.facebook.com/kozisgrind \nDátum: 17.02.2023\nMiesto: Zkušebna\, Frídek Místek\nVstupné: 350\,- Předprodej\, 450\,- Na místě\nFB Udalosť: https://www.facebook.com/events/1112076400174378
URL:https://metalexpress.sk/event/total-rectal-grindcore-fest-vo-frydku-mistku/
LOCATION:Zkušebna Art Club\, Heydukova 85\, Frýdek-Místek\, Czech Republic\, Frýdek-Místek\, Česká republika
CATEGORIES:Kalendár,Koncerty,Udalosti
ATTACH;FMTTYPE=image/jpeg:https://metalexpress.sk/wp-content/uploads/2024/01/420102713_712471444350359_2075027360414453175_n.jpg
END:VEVENT
BEGIN:VEVENT
DTSTART;TZID=Europe/Bratislava:20240217T170000
DTEND;TZID=Europe/Bratislava:20240217T220000
DTSTAMP:20260421T005452
CREATED:20240209T125917Z
LAST-MODIFIED:20240209T125917Z
UID:49150-1708189200-1708207200@metalexpress.sk
SUMMARY:Hrobár - Wolnera a Raid Siren v Mariatchi!
DESCRIPTION:Už budúcu sobotu 17.2. sa v Nitre v Mariatchi uskutoční koncert troch slovenských kapiel – Hrobar\, Raid Siren a Wolnera.  \nHrobár – veľké bicáky\, škodofka 120 a mrte veľa rožovky. Čakajú ťa nakladačky do hlavy a riadny hontiansky crossover. Šak domáci poznajú\, tak dôjdi inak dostaneš lopatou po hlave.\nhttps://www.facebook.com/thetruehrobar \nRaid Siren – caveman stoner crust z Bratislavy a okolia. Disbeatová polícia im nedávno odobrala licenciu\, reparát budú skladať v dohľadnej dobe lebo sa chystajú nahrať album. Ak sa nepohádajú o tri eurá a dovtedy sa nerozpadnú.\nhttps://www.facebook.com/profile.php?id=100091348369799 \nWolnera – thrasmetaloví prodigies zo slovenského Las Vegas. Mladí\, nasraní\, talentovaní a pripravení vziať Nitru útokom! A ozaj\, nominovaní v Radiohlavách na hard n‘ heavy album roka.\nhttps://www.facebook.com/wolnera \nProgram:\n19:00 – Hrobár\n20:00 – Raid Siren\n21:00 – Wolnera \nDátum: 17.02.2023\nMiesto: Mariatchi\, Nitra\nVstup: 8 €\nFB Udalosť: https://www.facebook.com/events/7277011085671565/ \nText prebratý z FB udalosti
URL:https://metalexpress.sk/event/hrobar-wolnera-a-raid-siren-v-mariatchi/
LOCATION:Mariatchi Nitra\, Mostná 35\, Nitra\, Slovakia\, Nitra\, Slovenská republika
CATEGORIES:Kalendár,Koncerty,Udalosti
ATTACH;FMTTYPE=image/jpeg:https://metalexpress.sk/wp-content/uploads/2024/02/422921025_294176433638429_1990792820790090670_n.jpg
END:VEVENT
BEGIN:VEVENT
DTSTART;TZID=Europe/Bratislava:20240217T180000
DTEND;TZID=Europe/Bratislava:20240217T223000
DTSTAMP:20260421T005452
CREATED:20240128T204352Z
LAST-MODIFIED:20240128T204352Z
UID:49075-1708192800-1708209000@metalexpress.sk
SUMMARY:MoonFest @ Frankie Club
DESCRIPTION:Pozývame vás stráviť februárový sobotný večer vo Frankie Rock Clube v Nitre\, kde sa predstaví 5 vynikajúcich slovenských metalových kapiel rôznych žánrov\, aby si na svoje prišiel každý fanúšik… \nOrkrist – Legendárna slovenská kapela hrajúca atmosferický black/doom metal ktorá vznikla už okolo roku 2000. Predskakovali menám ako Behemoth či Nightwish. V roku 2004 ukončili činnosť\, no po viac ako dekáde\, v roku 2018 sa vrátili na slovenské pódiá. V roku 2023 vydali nový album s názvom LUEA a vy si okrem starých overených songov z ich albumov Reginae Mysterium a Grond určite vychutnáte aj novinky z ich tvorby po prvýkrát v Nitre a práve na Moonfeste!\n \nSinners Moon – Epický symfonicky metal pôvodom zo Serede\, vstáva z popola v novej zostave. Kapela v minulosti spolupracovala aj s takými menami ako Tony Kakko z kapely Sonata Arctica\, alebo Roland Grapow z Masterplanu. Momentálne pripravujú nový album s názvom Deep Dark Emotions\,\, z ktorého niekoľko piesní budete mať možnosť počuť medzi prvými práve na Moonfeste!\n \nCranial Void – Šalianska nálož progresívneho technického death metalu. Kapela vznikla v roku 2009\, prvé EP vypustili v roku 2012\, avšak o 9 rokov neskôr\, teda v roku 2021 vydali album Celestial ktorý ohúril verejnosť a zabezpečil im víťazstvo v prestížnej súťaži Radio_Head Awards. Kapela koncertuje poskromnejšie no o to viac sa na Moonfeste môžete tešiť na ich jedinečné vystúpenie!\n \nDown To Hell – Je metalová grupa z Malaciek\, založená v roku 2006\, hrajúca melodický/symfonický black metal. Ich hudba je postavená na kontrastoch\, ako v speve (mužský scream/growl\, ženský clean vocal) tak aj vo zvuku nástrojov alebo samotných textoch\, písaných formou príbehov. Do Nitry prichádzajú po dlhej dobe a pekelne sa tešia na Moonfest!\n \nPrison Of My Life – Nitrianská deathmetalová kapela\, ktorá vznikla v roku 2016 pôvodne ako Deathwings. Od roku 2018 však s novým basgitaristom Števom funguje už ako Prison of my life. Nahrali už 2 albumy a ich najnovší počin z roku 2023 s názvom Purgatory prídu odprezentovať aj do domovského mesta práve na Moonfest.\n \nDátum: 17.2.2024\nMiesto: Frankie Rock Club\, Nitra\nFB Event: https://www.facebook.com/events/557965776526526 \nText pochádza z FB udalosti
URL:https://metalexpress.sk/event/moonfest-frankie-club/
LOCATION:Frankie Rock Club\, Mostná 42\, Nitra\, Slovakia\, Nitra\, Nitra\, Slovenská republika
CATEGORIES:Kalendár,Koncerty,Udalosti
ATTACH;FMTTYPE=image/jpeg:https://metalexpress.sk/wp-content/uploads/2024/01/nitr.jpg
END:VEVENT
BEGIN:VEVENT
DTSTART;TZID=Europe/Bratislava:20240222T180000
DTEND;TZID=Europe/Bratislava:20240222T223000
DTSTAMP:20260421T005453
CREATED:20240212T091849Z
LAST-MODIFIED:20240212T091849Z
UID:49161-1708624800-1708641000@metalexpress.sk
SUMMARY:PRŮMYSLOVÁ SMRT - ATTACK OF RAGE - SEDEM MINÚT STRACHU - P.F.A. vo Fuge!
DESCRIPTION:Vo štvrtok 22.2.2024 sa v bratislavskom klube FUGA uskutoční koncert\, ktorý sa určite oplatí navštíviť\, hoc ide o kapely zo susedných štátov. Po dlhšom čase sa opäť vracia česká skupina PRŮMYSLOVÁ SMRT. Tešiť sa môžete na extrémne rýchle HC\, power violence\, ktoré prehrmí\, ani nebudete vedieť ako. Kapela P.F.A. z Maďarska\, prinesie ringloty a slivky (priama citácia z ich stránky)\, ale teda aj nejaký ten punk. Slovenskí Attack of rage prispejú svojou grindcore smršťou a Sedem Minút Strachu zahrajú možno aj štrnásť minút\, ale možno aj nie. Už len kvôli tomu by ste mali prísť\, že im to odstopujete.  \nPRŮMYSLOVÁ SMRT (CZ)\nhttps://prumyslovasmrt.bandcamp.com/…/pedagogika..\nATTACK OF RAGE (SK)\nhttps://attackofrage-map.bandcamp.com/album/sv-t-zlo\nSEDEM MINÚT STRACHU (SK)\nhttps://sedemminutstrachu.bandcamp.com/\nP.F.A. (HU)\nhttps://pfaquitcallingusthrashcore.bandcamp.com/ \nDátum: 22.2.2024\nZačiatok: 19.00\nMiesto: FUGA\, Bratislava\nVstup: 10 EUR\nVegan občerstvenie pod zub bude.\nFB Udalosť: https://www.facebook.com/events/1772245743201962/\nplagát: @seeruus
URL:https://metalexpress.sk/event/prumyslova-smrt-attack-of-rage-sedem-minut-strachu-p-f-a-vo-fuge/
LOCATION:FUGA\, Námestie SNP 24\, Bratislava\, Bratislavský Kraj\, Slovenská republika
CATEGORIES:Kalendár,Koncerty,Udalosti
ATTACH;FMTTYPE=image/jpeg:https://metalexpress.sk/wp-content/uploads/2024/02/419248917_778225664345003_8170435902540894151_n.jpg
END:VEVENT
BEGIN:VEVENT
DTSTART;TZID=Europe/Bratislava:20240223T180000
DTEND;TZID=Europe/Bratislava:20240223T223000
DTSTAMP:20260421T005453
CREATED:20240220T102205Z
LAST-MODIFIED:20240220T102205Z
UID:49272-1708711200-1708727400@metalexpress.sk
SUMMARY:RATM tribute - The Beat This - True Reason / Komárno
DESCRIPTION:RAGE AGAINST THE MACHINE guerrilla tribute band sa ukáže prvýkrát na juhu Slovenska v komárňanskom klube RÉV. V piatok 23. februára zaznejú v Komárne najväčšie revolucionárske hity od RATM v podaní Guerrilla Tribute band z Partizánskeho. Kapela má za sebou desiatky koncertov a festivalov v Čechách\, na Slovensku alebo v Poľsku. Najvernejší tribute RATM v strednej Európe!\nPiatkový večer sa predstavia v RÉVe špeciálni hostia – domáci THE BEAT THIS\, ktorí hrajú skladby Beatles ale v inom šate\, tešíme sa na ich show. Druhým hosťom je topoľčianska HC kapela TRUE REASON\, ktorá ako jediná hrá vlastnú tvorbu. Na konte majú tri albumy a okrem Slovenska a Čiech aktívne koncertujú v Maďarsku. Tento rok majú naplánované koncerty v Rakúsku\, Chorvátsku\, Poľsku a Slovinsku.\n23. február bude v Komárne skvelá zostava kapiel\, ktorú nemôžete zmeškať! \nDátum: 23.2.2024\nMiesto: RÉV klub – Pevnostný rad 142 Komárno\nvstup: 7€\nzačiatok: 19:00\nFB Evenet: https://www.facebook.com/events/3626382600940430
URL:https://metalexpress.sk/event/ratm-tribute-the-beat-this-true-reason-komarno/
LOCATION:RÉV\, Pevnostný rad 142\, Komárno\, 94501\, Slovakia (Slovak Republic)
ATTACH;FMTTYPE=image/jpeg:https://metalexpress.sk/wp-content/uploads/2024/02/KNHC.jpg
END:VEVENT
BEGIN:VEVENT
DTSTART;TZID=Europe/Bratislava:20240223T190000
DTEND;TZID=Europe/Bratislava:20240223T223000
DTSTAMP:20260421T005453
CREATED:20240220T093903Z
LAST-MODIFIED:20240220T093903Z
UID:49265-1708714800-1708727400@metalexpress.sk
SUMMARY:Kapela ASENTH pokrsti v piatok v Bratislave svoj album!
DESCRIPTION:KONEČNE SME SA DOČKALI!!!\nASENTH krstí svoj nový album „DO KOTLA“! k sviatku posledného februárového piatku a na túto počesť je pre všetkých pripravená zlievareň\, ktorá nad ránom bude pripomínať šrotovisko.\nNa úvod vráta do oceliarne rozkopnú smrtihlavy Shattered Mind\, aby ich vzápätí na to vystriedali už skúsení šialení železiari Mad Frequency. Pri bode varu povstane z okovov najnovší počin ťažkotonážnych valibukov Asenth\, ktorý prvýkrát uzrie svetlo sveta a všetkých nahádže DO KOTLA! Záverečnú ingredienciu v podobe nežného škriekajúceho škovránka pridajú Sound of Mayhem a zasadia záverečný úder nie len klinčekovým hlavičkám. Príď si aj ty skočiť DO KOTLA! \nŠTART: 20:00\nLINE UP:\nShattered mind\nMAD FREQUENCY\nASENTH\nSOUND OF MAYHEM\nPREDPREDAJ: 8€ https://tootoot.fm/sk/events/65b032b41b234e174cd0b124\nNA MIESTE 10€\nKRST ALBUMU KAPELY │ASENTH│ support: │ Shattered Mind │ MAD FREQUENCY │ SOUND OF MAYHEM\nFB Udalosť: https://www.facebook.com/events/917900499843373/ \nText prebratý z FB Udalosti
URL:https://metalexpress.sk/event/kapela-asenth-pokrsti-v-piatok-v-bratislave-svoj-album/
LOCATION:Randal Music Club\, Karpatská 2\, Bratislava\, Bratislava\, Bratislavský Kraj\, 81105\, Slovenská republika
CATEGORIES:Kalendár,Koncerty,Udalosti
ATTACH;FMTTYPE=image/jpeg:https://metalexpress.sk/wp-content/uploads/2024/02/422345900_886116583522151_4737892571802554878_n.jpg
END:VEVENT
BEGIN:VEVENT
DTSTART;TZID=Europe/Bratislava:20240224T170000
DTEND;TZID=Europe/Bratislava:20240224T223000
DTSTAMP:20260421T005453
CREATED:20240219T142739Z
LAST-MODIFIED:20240219T142739Z
UID:49238-1708794000-1708813800@metalexpress.sk
SUMMARY:Serpent´s Nest
DESCRIPTION:Bratislavský Randla Club ovládnu temné a pohansky mrazivé svorky vlkov čirneho kovu.\nPozívame vás na koncert black metalovej muziky v podani kapiel: \nVoltumna – IT\n \nWelicoruss – CZ\n \nInnersphere – CZ\n \nZriebadlo – SK\n \nPatriarcha – SK\n \nHracie časy:\n18:30 Zriebadlo\n19:30 Patriarcha\n20:30 Innersphere\n21:30 Welicoruss\n22:30 Voltumna\n\nDátum: 24.2.2024\nMiesto: Randal Club\, Bratislava\nVstup: 15€\nFB Event: https://www.facebook.com/events/25307749718824468
URL:https://metalexpress.sk/event/serpents-nest/
LOCATION:Randal Music Club\, Karpatská 2\, Bratislava\, Bratislava\, Bratislavský Kraj\, 81105\, Slovenská republika
CATEGORIES:Kalendár,Koncerty,Udalosti
ATTACH;FMTTYPE=image/jpeg:https://metalexpress.sk/wp-content/uploads/2024/02/serpent.jpg
END:VEVENT
BEGIN:VEVENT
DTSTART;TZID=Europe/Bratislava:20240224T183000
DTEND;TZID=Europe/Bratislava:20240224T223000
DTSTAMP:20260421T005453
CREATED:20240209T125202Z
LAST-MODIFIED:20240209T125202Z
UID:49144-1708799400-1708813800@metalexpress.sk
SUMMARY:20 rokov na ťahu\,alebo Jakubysko oslavuje dvadsať rokov!
DESCRIPTION:JaKuBysKo ťa zvú na prvú a …dúfam nie poslednú akciu tohto hlukového charakteru. Na Bar(bare) ako vždy nadupané pivné šlágre. Pochopiteľne bude aj vlezné. \nZvukovody ti vyčistia:\nBETON [BA]\nnaveky nasratý deathmetal / d-takt\nhttps://betoncrust.bandcamp.com/ \nJAKUBYSKO [ZV]\nhobby-violence-kapela\nhttps://jakubysko.bandcamp.com/ \nFYASCO [TN]\nvokálnoinštrumentálnapičovina\nhttps://fyasco.bandcamp.com/ \nRUINEUM [ZV]\ndeathmetalová záhuba\nhttps://ruineum.bandcamp.com/  \nDátum: 24.02.2024\nMiesto: BarBar\, Zvolen\nFB Udalosť: https://www.facebook.com/events/935797854204968/ \nPoužitý text pochádza z FB udalosti
URL:https://metalexpress.sk/event/20-rokov-na-tahualebo-jakubysko-oslavuje-dvadsat-rokov/
LOCATION:BarBar Zvolen\, Nám. SNP 36\, Zvolen\, Slovakia\, Zvolen\, Banskobystrický kraj\, Slovenská republika
CATEGORIES:Kalendár,Koncerty,Udalosti
ATTACH;FMTTYPE=image/jpeg:https://metalexpress.sk/wp-content/uploads/2024/02/425727814_10230206431600000_8964387993671315508_n.jpg
END:VEVENT
BEGIN:VEVENT
DTSTART;TZID=Europe/Bratislava:20240224T190000
DTEND;TZID=Europe/Bratislava:20240224T223000
DTSTAMP:20260421T005453
CREATED:20240219T145453Z
LAST-MODIFIED:20240220T140607Z
UID:49262-1708801200-1708813800@metalexpress.sk
SUMMARY:Metal Pod Hradom
DESCRIPTION:COLDBLOODED pochádzajú z Bánoviec nad Bebravou. Ich tvorbu môžeme označiť za nekompromisný moderný hard core. Energiou nabité gitarové riffy nenechajú určite nikoho chladným a budú tým pravým orechovým na otvorenie tohto metalového večera. Za mikrofónom bude mať premiéru ich nový frontman\, tak držíme palce!!\nFB: https://www.facebook.com/CLBDofficial \nBREAKING THE TAROT je metal coreová kapela z Košíc. Založili ju v máji 2021 bývalí členovia slovenských kapiel ako Dementor\, Within Silence\, Meredith\, čiže všetko ostrieľaní\, vetrom a rokmi ošľahaní borci. Aktuálne kapele vyšlo debutové album „Beyond The Breaking Point“ pod hlavičkou slovenského vydavateľstva Gothoom productions.\nFB: https://hyperfollow.com/breakingthetarot \nPANYCHIDA pochádza z Plzne a potuluje sa nielen českými kotlinami už od roku 2005. Z pôvodného Pagan/Black Metalu sa v priebehu rokov vyvinul skôr temnejší Heavy metal s prvkami Black a Melodic Death Metalu. Aktuálna éra sa točí okolo zatiaľ poslednej vydanej\, česky spievanej dosky Gabreta Aeterna a následného EP Dreisessel~Říruřec. Oba počiny sú venované ich krásnej a temnej Šumave. PANYCHIDA nedávno oznámila tiež zmenu na poste frontmana a predstaví sa u nás v novej zostave.\nFB: https://www.panychida.com/ \nPagan metalový martinský RAMCHAT založila známa slovenská metalová persóna\, Pavel „Hirax“ Baričák v roku 2013 po odchode z Lunatic Gods\, čiže koncom minulého roka kapela oslávila 10 rokov na scéne. Za ten čas má za sebou bohatú diskografiu a získala si srdcia metalových fanúšikov po celom svete. Ramchat koncertoval na mnohých festivaloch\, potiahol nejednu slovensko-českú klubovú šnúru\, hral na Hellfeste vo Francuzsku\, uskutočnil miniturné v Rusku a Poľsku. Ich pódiová show je nenapodobiteľná\, plná dynamiky a pestrosti. Ani trenčianskemu fanúšikovi nie sú neznámi\, nakoľko kapela už v našom meste niekoľko krát vystupovala a vždy s výbornou odozvou!\nFB: https://www.facebook.com/ramchatband \nDomácu legendu DEPRESY netreba nejako zvlášť predstavovať. Na trenčianskej klubovej scéne sú stálicou. Týmto vystúpením odštartujú koncertné ťaženie v novom roku. Opäť sa môžeme tešiť na show poskladanú zo starých aj nových songov\, ktoré mapujú ich viac ako 30 ročné pôsobenie na scéne.\nFB: https://www.facebook.com/depresyofficial \nČasový rozpis:\n19:00 – 19:35 Coldblooded\n19:50 – 20:30 Breaking The Tarot\n20:45 – 21:45 Ramchat\n22:00 – 23:00 Depresy\n23:15 – 00:15 Panychida \nDátum: 24.2.2024\nMiesto: Klub Lúč\, Trenčín\nVstup: 15€\nFB Event: https://www.facebook.com/events/391092363389356 \nText pochádza FB udalosti
URL:https://metalexpress.sk/event/49262/
LOCATION:Klub Lúč\, Mierové námestie 19\, Trencin\, Slovakia\, Trenčín\, Trenčín\, Slovenská republika
ATTACH;FMTTYPE=image/jpeg:https://metalexpress.sk/wp-content/uploads/2024/02/MetalpH.jpg
END:VEVENT
BEGIN:VEVENT
DTSTART;TZID=Europe/Bratislava:20240225T180000
DTEND;TZID=Europe/Bratislava:20240225T220000
DTSTAMP:20260421T005453
CREATED:20240220T094243Z
LAST-MODIFIED:20240220T094243Z
UID:49269-1708884000-1708898400@metalexpress.sk
SUMMARY:CHLIEV vol. 6 Grindcore Edition v nedeľu v Košiciach!
DESCRIPTION:CHLIEV #6 (grindcore edition)\n25/02/2024\n777 – Collosseum Club\, Košice\n———————————–\nCIVILIAN THROWER (grindcore\, Lyon\, FR)\nhttps://civilianthrower.bandcamp.com/…/split-w-sangre…\nPROUDHON (grindcore\, Besançon\, FR)\nhttps://proudhonbc.bandcamp.com/…/split-w-civilian-thrower\nSANGRE DE IDIOTAS (grindcore\, Zvolen)\nhttps://sangredeidiotas.bandcamp.com/…/split-with…\n———————————–\nVSTUP: 5-10€ (rozhodni sa podľa seba\, máš cca predstavu koľko na také akcie chodí ľudí)\nNÁKLADY:\n– 230€ kapely\n– 200€ klub\, ubytovanie..\n– 100€ chalo pre kapely\, chalo pre vas\n– na koncerte bude k dispozicii navareneho plno jedla\, za ktore ak zaplatiš\, pomožeš tomu\, aby akcia nebola v strate\n– nefajčiarska akcia (ani vape\, ani zahrievaky)\, na akcii sa konzumuje jedlo a žije zdravo\, tak si to tam nesmraďme..\n– GNWP \nText prebratý z FB udalosti
URL:https://metalexpress.sk/event/chliev-vol-6-grindcore-edition-v-nedelu-v-kosiciach/
LOCATION:Collosseum\, Dominikánske námestie 35\, Košice\, Košice\, 04001\, Slovenská republika
CATEGORIES:Kalendár,Koncerty,Udalosti
ATTACH;FMTTYPE=image/jpeg:https://metalexpress.sk/wp-content/uploads/2024/02/408177097_306880855666133_1007789628157977817_n.jpg
END:VEVENT
END:VCALENDAR