BEGIN:VCALENDAR
VERSION:2.0
PRODID:-//MetalExpress - ECPv6.15.19//NONSGML v1.0//EN
CALSCALE:GREGORIAN
METHOD:PUBLISH
X-ORIGINAL-URL:https://metalexpress.sk
X-WR-CALDESC:Udalosti pre MetalExpress
REFRESH-INTERVAL;VALUE=DURATION:PT1H
X-Robots-Tag:noindex
X-PUBLISHED-TTL:PT1H
BEGIN:VTIMEZONE
TZID:Europe/Bratislava
BEGIN:DAYLIGHT
TZOFFSETFROM:+0100
TZOFFSETTO:+0200
TZNAME:CEST
DTSTART:20220327T010000
END:DAYLIGHT
BEGIN:STANDARD
TZOFFSETFROM:+0200
TZOFFSETTO:+0100
TZNAME:CET
DTSTART:20221030T010000
END:STANDARD
BEGIN:DAYLIGHT
TZOFFSETFROM:+0100
TZOFFSETTO:+0200
TZNAME:CEST
DTSTART:20230326T010000
END:DAYLIGHT
BEGIN:STANDARD
TZOFFSETFROM:+0200
TZOFFSETTO:+0100
TZNAME:CET
DTSTART:20231029T010000
END:STANDARD
BEGIN:DAYLIGHT
TZOFFSETFROM:+0100
TZOFFSETTO:+0200
TZNAME:CEST
DTSTART:20240331T010000
END:DAYLIGHT
BEGIN:STANDARD
TZOFFSETFROM:+0200
TZOFFSETTO:+0100
TZNAME:CET
DTSTART:20241027T010000
END:STANDARD
END:VTIMEZONE
BEGIN:VEVENT
DTSTART;TZID=Europe/Bratislava:20230601T153000
DTEND;TZID=Europe/Bratislava:20230601T213000
DTSTAMP:20260423T194117
CREATED:20230531T092010Z
LAST-MODIFIED:20230531T110506Z
UID:46886-1685633400-1685655000@metalexpress.sk
SUMMARY:CRYPTA / MINOR / EGOCIDE / URAL v Collosseum na deň detí!
DESCRIPTION:CRYPTA (black/death metal) Brazília\nŠtyri šialené ženy\, pred ktorými pokľakneš na kolená. Kapelu založili v roku 2019 Fernanda Lira (spev\,basa) a Luana Dametto (bicie)\, ktoré sú bývalé členky trash metalovej brazílskej kapely Nervosa. Na gitarách doplňajú zostavu Tainá Bergamaschi a Jéssica di Falchi.\nPatria pod vydavateľstvo Napalm Records \, prostredníctvom ktorého vyšiel v júni 2021 ich debutový album „Echoes of the Soul.\nMomentálne pracujú na novom albume\, ktorý vyjde už tento rok!\nhttps://www.cryptaofficial.com/\nhttps://www.facebook.com/cryptadeath\nhttps://www.instagram.com/cryptadeath/\n\n \nMINOR (death metal) Slovensko\nhttps://www.facebook.com/MINORdeathmetal/\nhttps://www.instagram.com/minor_deathmetal\n \nURAL (thrash metal) Taliansko\nhttps://www.instagram.com/ural_thrash/\nhttps://www.facebook.com/URALWOLFTEAM\n \nEGOCIDE (crossover) Taliansko\nhttps://www.instagram.com/e.g.o.c.i.d.e._bshc/\nhttps://www.facebook.com/e.g.o.c.i.d.e.bshc\n \nDátum: 01.06.2023\nVstupné:\npredpredaj v klube: 18€\npredpredaj online na webe collosseum.sk: 19€\nhttps://collosseum.sk/event/crypta-br/\nna mieste: 20€\nFB Udalosť: https://www.facebook.com/events/180483534810319/ \nText prebratý z FB Udalosti
URL:https://metalexpress.sk/event/crypta-minor-egocide-ural-v-collosseum-na-den-deti/
LOCATION:Collosseum\, Dominikánske námestie 35\, Košice\, Košice\, 04001\, Slovenská republika
CATEGORIES:Udalosti
ATTACH;FMTTYPE=image/jpeg:https://metalexpress.sk/wp-content/uploads/2023/05/348579312_607188714715348_6263270525494612238_n.jpg
END:VEVENT
BEGIN:VEVENT
DTSTART;TZID=Europe/Bratislava:20230603T170000
DTEND;TZID=Europe/Bratislava:20230603T213000
DTSTAMP:20260423T194117
CREATED:20230531T110203Z
LAST-MODIFIED:20230531T110203Z
UID:46890-1685811600-1685827800@metalexpress.sk
SUMMARY:Oath Of Cruelty (USA)\, Faüst (CZ)\, Mutilated Judge (ESP)\, Hellwatch (ESP) v sobotu vo FUGE!
DESCRIPTION:Oath Of Cruelty (Texas\, USA)\nhttps://darkdescentrecords.bandcamp.com/…/summary…\nhttps://www.facebook.com/OathOfCruelty\nMorbídny death/thrash z Houstonu\, za ktorým stojí známa tvár texaskej gulf coast scény – Dave Callier z P.L.F.. Členovia tiež pôsobili v kapelách ako Blaspherian\, Morbisidad alebo Cemetarian\, takže death metal im nie je cudzí a svoje remeslo ovládajú na výbornú. Kapela hrá od roku 2010\, na konte má dve demá\, EP a geniálny\, kritikmi vyzdvihovaný album Summary Execution At Dawn (vyšlo na Dark Descent Records) z roku 2019. Pri ich prvej európskej zastávke ich privítame rovno v Bratislave\, kde odohrajú druhý koncert tohoto turné. Čakaj iba barbarský a nekomprimisne rýchly death/thrash. Jediný koncert na Slovensku! \nFaüst (Praha\, CZ)\nhttps://faustxthrashingdoom.bandcamp.com\nhttps://www.facebook.com/faustxthrashingdoom\nMladá true thrash krv a momentálna špička českej thrashovej scény. Minulý rok na festivale Brutal Assault títo čechoslováci odpálili všetkým účastníkom dekle a nebude tomu inak ani v sobotu vo Fuge. Kapela s veľmi originálnym prístupom k thrash metalu a s x vydaniami od jej vzniku. Oath Of Cruelty idú toto európske turné práve s Faüst a výber veru nemohol byť lepší. \nMutilated Judge (Baskicko\, Španielsko)\nhttps://mutilatedjudge.bandcamp.com/\nhttps://www.facebook.com/mutilatedjudge/\nAko support sa podarilo zohnať týchto španielov pohybujúcich sa vo vodách goregrindu a noisegrindu. Diskografia hovorí za všetko\, na konte splity napriklad s Lividity\, Sete Star Sept alebo mexickými legendami s takmer najdlhším názvom\,\nParacoccidioidomicosisproctitissarcomucosis. Prídu si teda na svoje aj fanušíkovia hyperblasting goregrindu\, ktorý si udržuje nadhľad a istú dávku originality. O tom svedčí aj ich posledný názov a obal albumu Coldplay Is a Shoegaze Band. \nHellwatch Baskicko\, Španielsko)\nhttps://hellwatch.bandcamp.com/\nDalší support bude mladá kapela\, taktiež z Baskicka. Teplý letný večer\, ktorý strávime v podzemnom chládku Fugy otvoríme Groove/Death metalom menom Hellwatch. Na konte demá\, live-ká a EP. \nDátum: 03.06.2023\nMiesto: FUGA\, Bratislava\nFB Udalosť: https://www.facebook.com/events/1068130764163963/ \nPoužitý text pochádza z FB Udalosti
URL:https://metalexpress.sk/event/oath-of-cruelty-usa-faust-cz-mutilated-judge-esp-hellwatch-esp-v-sobotu-vo-fuge/
LOCATION:FUGA\, Námestie SNP 24\, Bratislava\, Bratislavský Kraj\, Slovenská republika
CATEGORIES:Udalosti
ATTACH;FMTTYPE=image/jpeg:https://metalexpress.sk/wp-content/uploads/2023/05/346046211_1075083803451677_976648871005918086_n-1.jpg
END:VEVENT
BEGIN:VEVENT
DTSTART;TZID=Europe/Bratislava:20230609T170000
DTEND;TZID=Europe/Bratislava:20230609T213000
DTSTAMP:20260423T194117
CREATED:20230515T092152Z
LAST-MODIFIED:20230515T092152Z
UID:46836-1686330000-1686346200@metalexpress.sk
SUMMARY:DECAYED MANIFESTATION TOUR - TERATOMA\, CARNAL TOMB\, BETON v Slavoniciach!
DESCRIPTION:Po pár měsících je zpět death metal a předem oznamujeme\, že na pár měsíců si od koncertů na Baráku dáme pauzu a začneme připravovat už z části rozjednaný program podzim\, který o metalu moc nebude)) \nTERATOMA (Německo)- Death metal zabalený v hard´n´heavy balení. Pomalé houpavé riffy\, chytlavá solíčka a vše zahrané převážně ve středním tempu ve kterým si budeš klepat nohou stejně jako když sedíš nervózní v čekárně u zubaře. \n \nCARNAL TOMB (Německo) – Drtivý válec z Berlína co ničí vše co mu stojí v cestě už téměř 10 let. Tradiční pojetí death metalu které potěší většinu vyznavačů černého kovu\, kožených křiváků a vychlazeného piva.\n \nBETON (Blava) – Kapela hrající od roku 2005 která v začátcích drhnula více d-beat rambajz až postupem času přešla v death metal švédského střihu. Zkušení kovbojové co toho už dost procestovali a hlavně zrajou jako víno! Takže vytříbený humor a neomalené vtípky included! Zombie Mustang Safari komando! Těšíme se!\n \nDátum: 09.06.2023\nMiesto: The Barakos\, Slavonice\nFB Udalosť: https://www.facebook.com/events/548185270720797 \nText prebratý z FB udalosti
URL:https://metalexpress.sk/event/decayed-manifestation-tour-teratoma-carnal-tomb-beton-v-slavoniciach/
LOCATION:The Barakos Slavonice\, Slavonice\, Juhočeský Kraj\, Česká republika
ATTACH;FMTTYPE=image/jpeg:https://metalexpress.sk/wp-content/uploads/2023/05/345462360_200963836123605_7892712923226950508_n.jpg
END:VEVENT
BEGIN:VEVENT
DTSTART;TZID=Europe/Bratislava:20230613T170000
DTEND;TZID=Europe/Bratislava:20230613T213000
DTSTAMP:20260423T194117
CREATED:20230213T151102Z
LAST-MODIFIED:20230213T151102Z
UID:45954-1686675600-1686691800@metalexpress.sk
SUMMARY:Bojují za lepší svět – GOJIRA!
DESCRIPTION:GOJIRA\n13. 6. 2023 – Praha\, Malá sportovní hala\nEvent: https://fb.me/e/2fvBAeis4\ne-TICKET: http://obscure.cz/cs/tickets/detail/id/549  \nGOJIRA\, fenomén metalové kultury posledních let\, se desku od desky vyvíjí\, roste\, ale snaha využít svůj vliv k zasazení změny o lepší svět se nemění. Nominanti na tři Grammy bijí na poplach a spouští alarm\, aby lidstvo procitlo\, což se projevilo i v rétorice nového alba „Fortitude“. S ním se GOJIRA po roce vrací do Čech.\nTémata ekologie a životního prostředí frontmanovi Joe Duplantierovi byla vždy blízká. Ještě jako dvacátník dva roky zkoušel žít v boudě uprostřed lesů\, ale pak si naštěstí pro fanoušky hudby uvědomil\, že kapela má spoustu příležitostí šířit svá sdělení dál. V poslední letech\, kdy vymírá mnoho živočišných druhů\, roste znečištění planety a důsledky globálního oteplování jsou čím dál patrnější\, dokonce kvůli enviromentálním dopadům hudby (spojených především s cestováním) přemýšleli o ukončení koncertní činnosti a přechodu na virtuální on-line koncerty. Pak si poměřili svůj vliv na mladá publika a došli k názoru\, že jejich sdělení je takto silnější\, než kdyby se stáhli z provozu. Na předloňskou desku „Fortitude“ fanoušci čekali 5 let. Očekávání byla ohromná. „Fortitude“ je odlehčenější\, ale jinak se na něm GOJIRA drží svých typických zbraní\, aniž by se přestala otevírat novým směrům. Nad to Francouzi silně prohloubili celkový emocionální prožitek a podporují jej silnou hymničností\, kterou tentokrát navíc doprovází i texty\, jež namísto symbolismů věci jasně pojmenovávají. Však s čím víc se člověk může ztotožnit než s tématy\, o kterých slyšel\, nebo s místy\, která zná z mapy a která navštívil. GOJIRA tedy ve svém boji za obnovení rovnováhy světa nepolevuje\, naopak specifičtějším uchopením všech témat (ochrana přírody\, environmentalistika\, lidská práva) se zřetelnějším hudebním vyjádřením je „Fortitude“ dobře zasazený úder\, který z ní opět dělá událost. A událostí samozřejmě je i návrat sympatické čtveřice do Čech\, neb vidět GOJIRA na podiu stojí za to. Nejen pro jejich energickou show doprovázenou výtečným muzikantstvím\, ale především pro jejich pozitivní karmu. Je to kapela\, která svým přístupem i hudbou nepřestává překvapovat\, je to kapela\, co bojuje za lepší svět pro každého z nás. A takové dnešní svět potřebuje. \nTlačová správa Obscure Promotion
URL:https://metalexpress.sk/event/bojuji-za-lepsi-svet-gojira/
LOCATION:Praha Malá Sportovní Hala\, Výstaviště 67\, Prague\, Czech Republic\, Praha\, Praha\, Česká republika
CATEGORIES:Udalosti
ATTACH;FMTTYPE=image/jpeg:https://metalexpress.sk/wp-content/uploads/2023/02/poster-gojira-2023-praha.jpg
ORGANIZER;CN="Obscure Promotion":MAILTO:filip@obscure.cz
END:VEVENT
BEGIN:VEVENT
DTSTART;TZID=Europe/Bratislava:20230613T170000
DTEND;TZID=Europe/Bratislava:20230613T213000
DTSTAMP:20260423T194117
CREATED:20230501T153836Z
LAST-MODIFIED:20230501T153836Z
UID:46720-1686675600-1686691800@metalexpress.sk
SUMMARY:ANTIMATTER + special guest v Bratislave! Jediná show v rámci Slovenska\, Rakúska a Maďarska !!
DESCRIPTION:Jedinečná zmes  melancholického\, progresívneho rocku s prvkami gothic rocku\, dark ambientu a art rocku\nNa Slovensko v júni tohto roka zavíta anglická alternatívna rocková kapela ANTIMATTER\, ktorá príde predstaviť fanúšikom nový album A Profusion of Thought. Tento v poradí 9 štúdiový album bol vydaný v novembri 2022. Kapela vznikla v roku 1997 v anglickom Liverpoole  ako projekt speváka a skladateľa Mick Mossa a bývalého člena kultovej britskej kapela Anathema Duncana Pattersona. Spolu vydali tri albumy a jeden live album- Saviour\, Lights out\, Planetary Confinement a Live@K13. Na týchto prvých albumoch sa Mick A Duncan sústredili na melodické vokálne linky\, dark elekroniku a vyváženú hranicu medzi gothic a trip hop. Krátko po vydaní  tretieho albumu opúšťa kapelu Patterson a Moss pokračuje v kapela sám\, pričom vydal štvtý album Leaving Eden. Piesne z tohto albumu sú lepšie ako kedykoľvek predtým. V priebehu rokov sa tvorba kapely neustále vyvíjala. Albumy Fear of a Unique Identity a Judas Table sú toho len dôkazom. Tvorbu kapely je tažko presne zadefinovať\, ide o jedinečnú zmes  melancholického\, progresívneho rocku s prvkami gothic rocku\, dark ambientu a art rocku. Ako povedal Mick Moss\, líder kapely : “ Keďže sa toto leto koná niekoľko veľkých európskych festivalov kde vystúpime\, nemohli sme odolať a pridali sme do nášho programu niekoľko exkluzívnych vystúpení. Bude super rozšíriť a Profusion of thought turné a odskúšať tak niekoľko ďalšich skladieb “.  Ich live vystúpenia sú vždy silným hudobným a umeleckým zážitkom  a koncert je určený nielen pre všetkých milovníkov kvalitného alternatívneho a progresívneho rocku.\nAko predskokan na koncerte vystúpi známa bratislavská prog metalová formácia Castaway. Na záver Mick dodal\, že na slovenských fanúšikov sa tešia a verí\, že si koncert spolu s nimi poriadne užijú.  Koncert sa uskutoční dňa 13.6.2023 v bratislavskom Randal clube. \nFB Udalosť: https://www.facebook.com/events/1252561385387700/\nVstupenky: https://predpredaj.zoznam.sk/sk/\n\nTlačová správa A&P Media Productions
URL:https://metalexpress.sk/event/antimatter-special-guest-v-bratislave-jedina-show-v-ramci-slovenska-rakuska-a-madarska/
LOCATION:Randal Music Club\, Karpatská 2\, Bratislava\, Bratislava\, Bratislavský Kraj\, 81105\, Slovenská republika
CATEGORIES:Udalosti
ATTACH;FMTTYPE=image/jpeg:https://metalexpress.sk/wp-content/uploads/2023/05/Antimatter_2023_plagat_web.jpg
END:VEVENT
BEGIN:VEVENT
DTSTART;TZID=Europe/Bratislava:20230617T160000
DTEND;TZID=Europe/Bratislava:20230617T210000
DTSTAMP:20260423T194117
CREATED:20230613T060826Z
LAST-MODIFIED:20230613T060826Z
UID:46933-1687017600-1687035600@metalexpress.sk
SUMMARY:Misery Index príde v sobotu do Košíc!
DESCRIPTION:MISERY INDEX– Death Grind USA Misery Index je americká death metalová skupina\, ktorú v roku 2001 založili Jason Netherton\, Mike Harrison a Kevin Talley v Baltimore\, Maryland\, USA. V roku 2003 skupina otvorila turné Dying Fetus a Skinless na ich severoamerickom turné.\nhttps://www.facebook.com/MiseryIndex \nSupport:\nKILLCHAIN – Death grind SVK \nhttps://www.facebook.com/killchainmetal\nATTACK OF RAGE – Death grind SVK \nhttps://www.facebook.com/profile.php?id=100063577211154 \nDátum: 17.06.2023\nMiesto: Collosseum Club\, Košice\nVSTUP: 20€\nNa mieste: 22€\nFB Event: https://www.facebook.com/events/206829125380880/
URL:https://metalexpress.sk/event/misery-index-pride-v-sobotu-do-kosic/
LOCATION:Collosseum\, Dominikánske námestie 35\, Košice\, Košice\, 04001\, Slovenská republika
CATEGORIES:Udalosti
ATTACH;FMTTYPE=image/jpeg:https://metalexpress.sk/wp-content/uploads/2023/06/338690608_919095549431233_8759744650809761482_n.jpg
END:VEVENT
BEGIN:VEVENT
DTSTART;TZID=Europe/Bratislava:20230617T170000
DTEND;TZID=Europe/Bratislava:20230617T213000
DTSTAMP:20260423T194117
CREATED:20230613T062753Z
LAST-MODIFIED:20230613T062753Z
UID:46941-1687021200-1687037400@metalexpress.sk
SUMMARY:Záverečný koncert Neha tour sa uskutoční v sobotu v Žiline!
DESCRIPTION:Záverečný koncert Neha Tour prebehne v Žiline\, kam sa bratislavská Besna vráti po takmer troch rokoch.\nZahrajú: \n💣 djentcorový AS THEY RISE\nhttps://astheyrise.bandcamp.com/album/disconnection \n🌃 urban blackmetalisti SOLIPSISM\nhttps://solipsismband.bandcamp.com/…/our-night-never-ends \n🔩 domáce post alternatívne melódie železa KOVOŠROT\nhttps://kovosrot.bandcamp.com/album/kovo-rot \n🥀 nežný blackmetal BESNA\nhttps://besna.bandcamp.com/album/neha \nVečer plný špeciálnych hosťovaní v sobotu 17. júna v KC Hoffmann! 🎤🎸\nPredpredaj cez GoOut: https://goout.net/…/neha-tour-besna%2Bkovosrot…/szikfvv/\nVstupné na mieste: 7-10€\nFB Udalosť: https://www.facebook.com/events/1270069963929551/ \nDizajnoval Tomáš Paulen.
URL:https://metalexpress.sk/event/zaverecny-koncert-neha-tour-sa-uskutocni-v-sobotu-v-ziline/
LOCATION:KC Hoffmann\, Národná 18\, Žilina\, Žilina\, Žilinský kraj\, Slovenská republika
CATEGORIES:Udalosti
ATTACH;FMTTYPE=image/jpeg:https://metalexpress.sk/wp-content/uploads/2023/06/351338561_970196274118817_3054062060542080361_n.jpg
END:VEVENT
BEGIN:VEVENT
DTSTART;TZID=Europe/Bratislava:20230617T170000
DTEND;TZID=Europe/Bratislava:20230617T213000
DTSTAMP:20260423T194117
CREATED:20230613T063309Z
LAST-MODIFIED:20230613T063309Z
UID:46946-1687021200-1687037400@metalexpress.sk
SUMMARY:FOETAL JUICE /UK/ NGANGA/UK/ ABORTION / CISTA RYZA v sobotu na Garážach!
DESCRIPTION:GrindDeath zraz na Garazach \nFOETAL JUICE /UK\, Bury/\nDeathM Crust Grind\nhttps://foetaljuice.bandcamp.com/ \nNGANGA /UK\, Londýn/\nMatamoro deathgore bahno\nhttps://ngangrind.bandcamp.com/ \nABORTION /Nitragrind/\nBombynaGaraze\nhttps://abortionofficial.bandcamp.com/ \nČISTÁ RYŽA /ŠalaNR/\ncrust pw najebisk \, nevies?\nhttps://www.facebook.com/cistaryza.crust/ \nDátum: 17.06.2023\nMiesto: Garáže pod Prístavným mostom\, Bratislava\nVstup: 7 – 10 €\nFB Udalosť: https://www.facebook.com/events/1791055424628968/ \nText prebratý z FB Udalosti\nVeganshit\, Toishit\, 5to10eshit\, Distro shit
URL:https://metalexpress.sk/event/foetal-juice-uk-nganga-uk-abortion-cista-ryza-v-sobotu-na-garazach/
LOCATION:Garáže pod Prístavným mostom Bratislava\, Prístavná 9\, Bratislava\, Bratislava\, Bratislava\, Slovenská republika
CATEGORIES:Udalosti
ATTACH;FMTTYPE=image/jpeg:https://metalexpress.sk/wp-content/uploads/2023/06/351491504_171799412278712_301056922398055454_n.jpg
END:VEVENT
BEGIN:VEVENT
DTSTART;TZID=Europe/Bratislava:20230623T170000
DTEND;TZID=Europe/Bratislava:20230623T213000
DTSTAMP:20260423T194117
CREATED:20230620T070802Z
LAST-MODIFIED:20230620T070802Z
UID:46997-1687539600-1687555800@metalexpress.sk
SUMMARY:ADACTA\, CONCUSSA\, DRUGS v Snine!
DESCRIPTION:ADACTA – metal crust punkový ostrieľaní chlapci z Bratislavy…svoje nazi názory si nechaj radšej doma a neťahaj ich na koncert\, lebo príde Zlo\, Tma a tebe bude Amen.\nhttps://adactaband.bandcamp.com/ \nCONCUSSA – crust punk z Vranova nad Topľou…dones svoju domácu a objednaj pivo na bare\, kecať veľmi nemusíme.\nhttps://concussa.bandcamp.com/ \nDRUGS – mix metalu a crustu pozberancov z východného Slovenska\, kde nájdeš členov rôznych kapiel\, rôznych žánrov…svet je farebný\, svet je pestrý\, duša je čierna…zober loptu\, drogy máme 😘\nhttps://drogy.bandcamp.com/ \nDátum: 23.06.2023\nMesto: SNINA\nMiesto: FIESTA bar\nOtváračka: 18:00 hod.\nZačiatok koncertu: 19:30 hod\nFB Udalosť: https://www.facebook.com/events/264405519302166/
URL:https://metalexpress.sk/event/adacta-concussa-drugs-v-snine/
LOCATION:Fiesta coffee & coctail bar Snina\, 48\,989940\, 22\,151741\, Snina\, Snina\, Slovenská republika
CATEGORIES:Udalosti
ATTACH;FMTTYPE=image/jpeg:https://metalexpress.sk/wp-content/uploads/2023/06/347430012_1422335111859247_6989958347873674012_n.jpg
END:VEVENT
END:VCALENDAR