BEGIN:VCALENDAR
VERSION:2.0
PRODID:-//MetalExpress - ECPv6.15.19//NONSGML v1.0//EN
CALSCALE:GREGORIAN
METHOD:PUBLISH
X-WR-CALNAME:MetalExpress
X-ORIGINAL-URL:https://metalexpress.sk
X-WR-CALDESC:Udalosti pre MetalExpress
REFRESH-INTERVAL;VALUE=DURATION:PT1H
X-Robots-Tag:noindex
X-PUBLISHED-TTL:PT1H
BEGIN:VTIMEZONE
TZID:Europe/Bratislava
BEGIN:DAYLIGHT
TZOFFSETFROM:+0100
TZOFFSETTO:+0200
TZNAME:CEST
DTSTART:20250330T010000
END:DAYLIGHT
BEGIN:STANDARD
TZOFFSETFROM:+0200
TZOFFSETTO:+0100
TZNAME:CET
DTSTART:20251026T010000
END:STANDARD
BEGIN:DAYLIGHT
TZOFFSETFROM:+0100
TZOFFSETTO:+0200
TZNAME:CEST
DTSTART:20260329T010000
END:DAYLIGHT
BEGIN:STANDARD
TZOFFSETFROM:+0200
TZOFFSETTO:+0100
TZNAME:CET
DTSTART:20261025T010000
END:STANDARD
BEGIN:DAYLIGHT
TZOFFSETFROM:+0100
TZOFFSETTO:+0200
TZNAME:CEST
DTSTART:20270328T010000
END:DAYLIGHT
BEGIN:STANDARD
TZOFFSETFROM:+0200
TZOFFSETTO:+0100
TZNAME:CET
DTSTART:20271031T010000
END:STANDARD
END:VTIMEZONE
BEGIN:VEVENT
DTSTART;TZID=Europe/Bratislava:20260421T060000
DTEND;TZID=Europe/Bratislava:20260421T150000
DTSTAMP:20260421T081310
CREATED:20260418T121144Z
LAST-MODIFIED:20260419T121209Z
UID:54267-1776751200-1776783600@metalexpress.sk
SUMMARY:Demoncy - Vastum - Ares Kingdom - Torture Rack na Pink Whale!
DESCRIPTION:4 kapely z USA 🇺🇸\n💀💀 Demoncy je jedna z prvých amerických black metalových kapiel\, ktorá vznikla v roku 1989 v Sylve v Severnej Karolíne. Založil ju hudobník Ixithra\, ktorý dodnes vedie kapelu ako jediný pôvodný člen. Legendárne demo Faustian Dawn z 1993 sa u nás dostalo do povedomia najmä vďaka kazetovému vydaniu u českého labelu Ravenheart\, od ktorého sme si približne 20 rokov dozadu kúpili kazetu\, a dodnes patrí k absolútnym kultovým nahrávkam. Kapela debutovala albumom Joined in Darkness (1995)\, následne Within the Sylvan Realms of Frost (1996)\, oba však vydané neskôr\, Empire of the Fallen Angel (2003/2015)\, Enthroned Is the Night (2012) a posledný Black Star Gnosis z 2023. Jedná sa o absolútne špinavý a zvrátený záhrobný black metal\, ktorý sa drží ďalej od komerčných trendov\, pričom sa vo svojej hudbe zameriava na tajomstvá okultizmu a zachovanie temnoty tak čistej\, ako to len ide. Absolútna povinnosť pre fanúšikov Beherit\, Profanatica\, Von\, Archgoat\, Perverted Ceremony alebo Black Witchery!!! \n \n💀💀 Pre nás\, čo milujeme death metal\, je Vastum absolútna legenda. A o to viac si vážíme\, že v rámci svojho EU tour zavítajú aj do Bratislavy – a aj preto\, že ich živé vystúpenia bývajú ozaj len sporadické. Jedna z tých kapiel\, kde uctievame snáď celú diskografiu. Ich posledný album Inward to Gethsemane vyšiel v roku 2023 a prierez celou tvorbou vrátane albumu Hole Below si budete môcť vypočuť už 21. apríla na bratislavskom korábe Pink Whale!\nhttps://vastum.bandcamp.com/album/inward-to-gethsemane \n💀 Ares Kingdom je nepriamým pokračovaním legendárnych Order From Chaos a ich chaotickým zbesilým thrash/death metalom. Kapela má na konte okrem mnoho demáčov a EPiek šesť albumov\, a ich posledný In Darkness at Last vyšiel v roku 2022 u dvorných NWN. Kapela oficiálne po tomto turné končí svoju existenciu\, ktorú s prihliadnutím na začiatky v OFCH siahajú až do roku 1987!!! Druhá šanca už nebude\, preto ju nepremeškaj! Pre fans Arghoslent\, Destroyer666\, Bolt Thrower\, Oath of Cruelty\, Deceased a pod.\nhttps://areskingdom.bandcamp.com/album/in-darkness-at-last \n💀 Torture Rack je death metalová formácia z Oregonu\, ktorá existuje len z jedného jediného dôvodu – drviť lebky a kosti prostredníctvom krvavej death metalovej zvrátenosti. Aspoň tak hovoria oni. My zas hovoríme\, že ich posledný album Barbaric Persecution je absolútny náklad a už sa nevieme dočkať nového\, ktorý bude niesť názov Primeval Onslaught!\nhttps://torturerack.bandcamp.com/album/barbaric-persecution \nZa grafiku dík lord Serus!\nLístky v predaji v sieti Tootoot.fm\nFB Udalosť: https://www.facebook.com/events/1443224417335144/ \nText prebratý z FB udalosti
URL:https://metalexpress.sk/event/demoncy-vastum-ares-kingdom-torture-rack-na-pink-whale/
LOCATION:Pink Whale\, Nábrežie armádneho generála Ludvíka Svobodu 1868rkm\, 811 02 Staré Mesto\, Bratislava\, Slovakia 0911 177 172\, Bratislava\, Bratislava\, 81102\, Slovenská republika
CATEGORIES:Kalendár,Koncerty,Udalosti
ATTACH;FMTTYPE=image/jpeg:https://metalexpress.sk/wp-content/uploads/2026/04/648743035_904709579123022_6319115722700871348_n-1.jpg
END:VEVENT
END:VCALENDAR