BEGIN:VCALENDAR
VERSION:2.0
PRODID:-//MetalExpress - ECPv6.15.19//NONSGML v1.0//EN
CALSCALE:GREGORIAN
METHOD:PUBLISH
X-WR-CALNAME:MetalExpress
X-ORIGINAL-URL:https://metalexpress.sk
X-WR-CALDESC:Udalosti pre MetalExpress
REFRESH-INTERVAL;VALUE=DURATION:PT1H
X-Robots-Tag:noindex
X-PUBLISHED-TTL:PT1H
BEGIN:VTIMEZONE
TZID:Europe/Bratislava
BEGIN:DAYLIGHT
TZOFFSETFROM:+0100
TZOFFSETTO:+0200
TZNAME:CEST
DTSTART:20250330T010000
END:DAYLIGHT
BEGIN:STANDARD
TZOFFSETFROM:+0200
TZOFFSETTO:+0100
TZNAME:CET
DTSTART:20251026T010000
END:STANDARD
BEGIN:DAYLIGHT
TZOFFSETFROM:+0100
TZOFFSETTO:+0200
TZNAME:CEST
DTSTART:20260329T010000
END:DAYLIGHT
BEGIN:STANDARD
TZOFFSETFROM:+0200
TZOFFSETTO:+0100
TZNAME:CET
DTSTART:20261025T010000
END:STANDARD
BEGIN:DAYLIGHT
TZOFFSETFROM:+0100
TZOFFSETTO:+0200
TZNAME:CEST
DTSTART:20270328T010000
END:DAYLIGHT
BEGIN:STANDARD
TZOFFSETFROM:+0200
TZOFFSETTO:+0100
TZNAME:CET
DTSTART:20271031T010000
END:STANDARD
END:VTIMEZONE
BEGIN:VEVENT
DTSTART;TZID=Europe/Bratislava:20260419T170000
DTEND;TZID=Europe/Bratislava:20260419T210000
DTSTAMP:20260423T102013
CREATED:20260415T084731Z
LAST-MODIFIED:20260416T084741Z
UID:54262-1776618000-1776632400@metalexpress.sk
SUMMARY:Undergang a Corpus Offal v nedeľu na Pink Whale!
DESCRIPTION:Nedeľná omša ako z učebnice. V bruchu veľryby totižto 19. apríla privítame dánsku death metalovú legendu Undergang! Tí su na scéne už od roku 2008 a na konte majú nekonečné množstvo rôznych albumov\, splitiek\, EPčiek\, či live nahrávok. Posledná nahrávka vyšla v roku 2023 a nesie názov De Syv stadier af fordærv. Na Pink Whale nám predstavia prierez celou ich zatuchnutou tvorbou!\nhttps://undergang.bandcamp.com/…/de-syv-stadier-af-ford-rv\nNa celoum tour bude Undergang sprevádzať relatívne nová formácia relatívne starých známych tvarí a to Corpus Offal z amerického Texasu\, v ktorej nájdete Iana Schwaba a Clyla Lindstroma z kapely Cerebral Rot. Svoj prvý self-titled album vydali v marci minulého roku a je to fakt ostrý mix death metalu\, goru a deathgrindu. 19. apríla naživo na lodi!\nhttps://20buckspin.bandcamp.com/album/corpus-offal \nLístky v predaji!\nDátum: 19.04.2026\nMiesto: Pink Whale\, Bratislava\nFB Udalosť: https://www.facebook.com/events/1233407064836122/ \nPoužitý text pochádza z FB udalosti
URL:https://metalexpress.sk/event/undergang-a-corpus-offal-v-nedelu-na-pink-whale/
LOCATION:Pink Whale\, Nábrežie armádneho generála Ludvíka Svobodu 1868rkm\, 811 02 Staré Mesto\, Bratislava\, Slovakia 0911 177 172\, Bratislava\, Bratislava\, 81102\, Slovenská republika
CATEGORIES:Kalendár,Koncerty,Udalosti
ATTACH;FMTTYPE=image/jpeg:https://metalexpress.sk/wp-content/uploads/2026/04/628003282_122117775735110398_2152295738087762891_n-1.jpg
END:VEVENT
END:VCALENDAR