BEGIN:VCALENDAR
VERSION:2.0
PRODID:-//MetalExpress - ECPv6.15.19//NONSGML v1.0//EN
CALSCALE:GREGORIAN
METHOD:PUBLISH
X-WR-CALNAME:MetalExpress
X-ORIGINAL-URL:https://metalexpress.sk
X-WR-CALDESC:Udalosti pre MetalExpress
REFRESH-INTERVAL;VALUE=DURATION:PT1H
X-Robots-Tag:noindex
X-PUBLISHED-TTL:PT1H
BEGIN:VTIMEZONE
TZID:Europe/Bratislava
BEGIN:DAYLIGHT
TZOFFSETFROM:+0100
TZOFFSETTO:+0200
TZNAME:CEST
DTSTART:20240331T010000
END:DAYLIGHT
BEGIN:STANDARD
TZOFFSETFROM:+0200
TZOFFSETTO:+0100
TZNAME:CET
DTSTART:20241027T010000
END:STANDARD
BEGIN:DAYLIGHT
TZOFFSETFROM:+0100
TZOFFSETTO:+0200
TZNAME:CEST
DTSTART:20250330T010000
END:DAYLIGHT
BEGIN:STANDARD
TZOFFSETFROM:+0200
TZOFFSETTO:+0100
TZNAME:CET
DTSTART:20251026T010000
END:STANDARD
BEGIN:DAYLIGHT
TZOFFSETFROM:+0100
TZOFFSETTO:+0200
TZNAME:CEST
DTSTART:20260329T010000
END:DAYLIGHT
BEGIN:STANDARD
TZOFFSETFROM:+0200
TZOFFSETTO:+0100
TZNAME:CET
DTSTART:20261025T010000
END:STANDARD
END:VTIMEZONE
BEGIN:VEVENT
DTSTART;TZID=Europe/Bratislava:20251110T180000
DTEND;TZID=Europe/Bratislava:20251110T220000
DTSTAMP:20260424T045253
CREATED:20251109T080656Z
LAST-MODIFIED:20251110T080712Z
UID:53344-1762797600-1762812000@metalexpress.sk
SUMMARY:HYPERDONTIA a BOLORIA FREIJA v Žalári!
DESCRIPTION:Pondelok je hneď lepší keď vieš\, že Žalár príde zdemolovať death metalová nakladačka Hyperdontia! \nHYPERDONTIA\nhttps://hyperdontiaofficial.bandcamp.com/…/dormant-scourge\nBOLORIA FREIJA\nhttps://www.instagram.com/boloria.freija.official \nLístky na mieste po 15 Eur\nFB Udalosť: https://www.facebook.com/events/2298650540588236/\nĎalšie informácie nájdete nižsie
URL:https://metalexpress.sk/event/hyperdontia-a-boloria-freija-v-zalari/
LOCATION:Žalár\, Štefánikova 47\, Bratislava\, 831 04\, Slovakia (Slovak Republic)
CATEGORIES:Kalendár,Koncerty,Udalosti
ATTACH;FMTTYPE=image/png:https://metalexpress.sk/wp-content/uploads/2025/11/Hyperodontia.png
END:VEVENT
END:VCALENDAR