BEGIN:VCALENDAR
VERSION:2.0
PRODID:-//MetalExpress - ECPv6.15.19//NONSGML v1.0//EN
CALSCALE:GREGORIAN
METHOD:PUBLISH
X-ORIGINAL-URL:https://metalexpress.sk
X-WR-CALDESC:Udalosti pre MetalExpress
REFRESH-INTERVAL;VALUE=DURATION:PT1H
X-Robots-Tag:noindex
X-PUBLISHED-TTL:PT1H
BEGIN:VTIMEZONE
TZID:Europe/Bratislava
BEGIN:DAYLIGHT
TZOFFSETFROM:+0100
TZOFFSETTO:+0200
TZNAME:CEST
DTSTART:20240331T010000
END:DAYLIGHT
BEGIN:STANDARD
TZOFFSETFROM:+0200
TZOFFSETTO:+0100
TZNAME:CET
DTSTART:20241027T010000
END:STANDARD
BEGIN:DAYLIGHT
TZOFFSETFROM:+0100
TZOFFSETTO:+0200
TZNAME:CEST
DTSTART:20250330T010000
END:DAYLIGHT
BEGIN:STANDARD
TZOFFSETFROM:+0200
TZOFFSETTO:+0100
TZNAME:CET
DTSTART:20251026T010000
END:STANDARD
BEGIN:DAYLIGHT
TZOFFSETFROM:+0100
TZOFFSETTO:+0200
TZNAME:CEST
DTSTART:20260329T010000
END:DAYLIGHT
BEGIN:STANDARD
TZOFFSETFROM:+0200
TZOFFSETTO:+0100
TZNAME:CET
DTSTART:20261025T010000
END:STANDARD
END:VTIMEZONE
BEGIN:VEVENT
DTSTART;TZID=Europe/Bratislava:20251107T180000
DTEND;TZID=Europe/Bratislava:20251107T220000
DTSTAMP:20260424T014823
CREATED:20251103T141615Z
LAST-MODIFIED:20251103T191847Z
UID:53296-1762538400-1762552800@metalexpress.sk
SUMMARY:Doom metalová kapela Clouds prináša mraky nad Nitru!
DESCRIPTION:V piatok 7. novembra sa steny nitrianskeho Frankieho roztrasú pod návalom ťažkých tónov a masívnej atmosféry medzinárodného projektu Clouds. Kapela vedená rumunským hudobníkom Danielom Neagoeom predstaví svoj jedinečný prístup k atmosférickému doom metalu\, v ktorom sa bolesť mení na umelecký zážitok. Sprevádzať ich budú tematicky Samsara z Topoľčian a Ohen\, pôvodom z Trnavy. Spolu prinesú fanúšikom intenzívny a emotívny hudobný zážitok.  \nCLOUDS (RO/International)\nClouds pôsobia na scéne od roku 2014 a od tej doby zbierajú chvály od fanúšikov atmosférického metalu po celom svete. Pod taktovkou rumunského multiinštrumentalistu Daniela Naegoena kapela prináša melancholickú atmosféru\, pocity temnoty a kataklizmatické výbuchy tvrdosti v tých správnych miestach. Jedinečnosť aranžmánov je doplnená o flautu a atmosféru podtrhujú poetické texty plné emócií.  Tieto prvky sa spájajú do unikátneho balička\, ktorý je nevyhnutnosťou pre každého fanúšika\, ktorého srdce túži po show plnej emócií.\n \nSAMSARA (SK)\nAtmospheric doom metalová Samsara z Topoľčian sa minulý rok vrátila na scénu so svojím druhým albumom „Charon’s Lullaby“\, ktorým nadviazala na svoj debut z roku 2017. Ten bol nominovaný na ocenenie Rádiohlavy v kategórii Hard & Heavy. Ponurá atmosféra\, ťahavé riffy\, skladby\, ktorý často presiahnu 10 minút a melódie plné melanchólie\, to je len časť toho\, na čo sa môžete tešiť počas ich vystúpenia.\n \nOHEN (SK)\nBlackened dark metalový Ohen vydal svoj druhý album „Whispering Lies“ minulú jeseň a po roku ho predstavuje fanúšikom naživo. Kapela predstaví svoje introspektívne výpravy do zamrznutých svetov a pálivých nočných môr doprevádzané husľami\, klávesmi a tromi vokálmi. Po minuloročnom koncerte u Frankieho tentokrát okrem nových skladieb\, predstavia aj v novú zostavu!\n \nDoprajte si večer silných emócií a temnej atmosféry. Vstupenky sú v predpredaji cez GoOut za 17 eur.  \nINFORMÁCIE O KONCERTE\n📍Miesto: Frankie Rock Club\, Nitra\n📅Dátum: Piatok 7. 11. 2025 19:00\nEvent: https://www.facebook.com/events/4227815657451834/\n🎟Vstupenky:  https://goout.net/sk/clouds%2Bohen%2Bsamsara/sznlkcy/ \nTlačová správa Burn Booking
URL:https://metalexpress.sk/event/doom-metalova-kapela-clouds-prinasa-mraky-nad-nitru/
LOCATION:Frankie Rock Club\, Mostná 42\, Nitra\, Slovakia\, Nitra\, Nitra\, Slovenská republika
CATEGORIES:Kalendár,Koncerty,Udalosti
ATTACH;FMTTYPE=image/jpeg:https://metalexpress.sk/wp-content/uploads/2025/11/CLOUDS-POSTER.jpg
END:VEVENT
BEGIN:VEVENT
DTSTART;TZID=Europe/Bratislava:20251107T180000
DTEND;TZID=Europe/Bratislava:20251107T220000
DTSTAMP:20260424T014823
CREATED:20251104T215550Z
LAST-MODIFIED:20251105T215602Z
UID:53331-1762538400-1762552800@metalexpress.sk
SUMMARY:JITSU ROCKNROLL CAMP vo WERANDE!
DESCRIPTION:Už tento piatok sa na Werande v Bratislave stretnú kapely z rôznych kútov Európy\, aj domáca scéna. Z Fínska dorazí death grind REFUSAL\, kontrovať im bude domáci death metal KRUDUS\, až z Humenného príde svoj grindcore odohrať mladá kapelka s názvom HELLCHOKE a večer začne omladina BOLORIA FREIJA.  \nREFUSAL\ndeathgrind\, Fínsko\nhttps://refusal.bandcamp.com\nhttps://www.facebook.com/refusalband\nhttps://www.instagram.com/refusal.band \nKRUDUS\ndeathmetal\, západ\nhttps://krudus.bandcamp.com/\nhttps://www.facebook.com/krudusband \nHELLCHOKE\njitsu grindgore\, Gumenné\nhttps://hellchoke.bandcamp.com\nhttps://www.facebook.com/hellchoke \nBOLORIA FREIJA\npost black\, Ba/UAdecká\nhttps://www.instagram.com/boloria.freija.official/ \nInformácie o mieste a vstupnom nájdete nižšie\nFB Udalosť: https://www.facebook.com/events/3168757143298308/
URL:https://metalexpress.sk/event/jitsu-rocknroll-camp-vo-werande/
LOCATION:Weranda\, Májová 3303/23\, 851 01 Bratislava-Petržalka\, Bratislava\, Slovenská republika
CATEGORIES:Kalendár,Koncerty,Udalosti
ATTACH;FMTTYPE=image/jpeg:https://metalexpress.sk/wp-content/uploads/2025/11/571128982_10234559488122652_7491712507005042743_n.jpg
END:VEVENT
END:VCALENDAR