BEGIN:VCALENDAR
VERSION:2.0
PRODID:-//MetalExpress - ECPv6.15.19//NONSGML v1.0//EN
CALSCALE:GREGORIAN
METHOD:PUBLISH
X-WR-CALNAME:MetalExpress
X-ORIGINAL-URL:https://metalexpress.sk
X-WR-CALDESC:Udalosti pre MetalExpress
REFRESH-INTERVAL;VALUE=DURATION:PT1H
X-Robots-Tag:noindex
X-PUBLISHED-TTL:PT1H
BEGIN:VTIMEZONE
TZID:Europe/Bratislava
BEGIN:DAYLIGHT
TZOFFSETFROM:+0100
TZOFFSETTO:+0200
TZNAME:CEST
DTSTART:20240331T010000
END:DAYLIGHT
BEGIN:STANDARD
TZOFFSETFROM:+0200
TZOFFSETTO:+0100
TZNAME:CET
DTSTART:20241027T010000
END:STANDARD
BEGIN:DAYLIGHT
TZOFFSETFROM:+0100
TZOFFSETTO:+0200
TZNAME:CEST
DTSTART:20250330T010000
END:DAYLIGHT
BEGIN:STANDARD
TZOFFSETFROM:+0200
TZOFFSETTO:+0100
TZNAME:CET
DTSTART:20251026T010000
END:STANDARD
BEGIN:DAYLIGHT
TZOFFSETFROM:+0100
TZOFFSETTO:+0200
TZNAME:CEST
DTSTART:20260329T010000
END:DAYLIGHT
BEGIN:STANDARD
TZOFFSETFROM:+0200
TZOFFSETTO:+0100
TZNAME:CET
DTSTART:20261025T010000
END:STANDARD
END:VTIMEZONE
BEGIN:VEVENT
DTSTART;TZID=Europe/Bratislava:20251029T180000
DTEND;TZID=Europe/Bratislava:20251029T213000
DTSTAMP:20260423T101940
CREATED:20251025T082839Z
LAST-MODIFIED:20251026T092856Z
UID:53247-1761760800-1761773400@metalexpress.sk
SUMMARY:Špina z Fínska na Werande!
DESCRIPTION:Fíni na Werande!!\nGoatburner (Death/grind/powerviolence\, FIN) \nFínska výchova na čele s Keijo Niinimaa a.k.a. Kaos z legendárnych Rotten Sound.\nhttps://goatburner.bandcamp.com/album/fatal\nhttps://www.instagram.com/goatburnermosh \nM.O.R.A. (female fronted HC\, FIN) – Harkorový náklad\, hrajúci od 2008\, možno čosi pre fans Siberian Meat Grinder\nhttp://mora09hc.bandcamp.com\nhttps://www.instagram.com/mora09hc \nSupport ešte otvorený \nDátum: 26.10.2025\nMiesto: Weranda\, Bratislava\nVstup: 8 €\nFB Udalosť: https://www.facebook.com/events/1594670514843146/
URL:https://metalexpress.sk/event/spina-z-finska-na-werande/
LOCATION:Weranda\, Májová 3303/23\, 851 01 Bratislava-Petržalka\, Bratislava\, Slovenská republika
CATEGORIES:Kalendár,Koncerty,Udalosti
ATTACH;FMTTYPE=image/jpeg:https://metalexpress.sk/wp-content/uploads/2025/10/557600962_1305180061396369_368501910695718727_n.jpg
END:VEVENT
END:VCALENDAR