BEGIN:VCALENDAR
VERSION:2.0
PRODID:-//MetalExpress - ECPv6.15.19//NONSGML v1.0//EN
CALSCALE:GREGORIAN
METHOD:PUBLISH
X-WR-CALNAME:MetalExpress
X-ORIGINAL-URL:https://metalexpress.sk
X-WR-CALDESC:Udalosti pre MetalExpress
REFRESH-INTERVAL;VALUE=DURATION:PT1H
X-Robots-Tag:noindex
X-PUBLISHED-TTL:PT1H
BEGIN:VTIMEZONE
TZID:Europe/Bratislava
BEGIN:DAYLIGHT
TZOFFSETFROM:+0100
TZOFFSETTO:+0200
TZNAME:CEST
DTSTART:20240331T010000
END:DAYLIGHT
BEGIN:STANDARD
TZOFFSETFROM:+0200
TZOFFSETTO:+0100
TZNAME:CET
DTSTART:20241027T010000
END:STANDARD
BEGIN:DAYLIGHT
TZOFFSETFROM:+0100
TZOFFSETTO:+0200
TZNAME:CEST
DTSTART:20250330T010000
END:DAYLIGHT
BEGIN:STANDARD
TZOFFSETFROM:+0200
TZOFFSETTO:+0100
TZNAME:CET
DTSTART:20251026T010000
END:STANDARD
BEGIN:DAYLIGHT
TZOFFSETFROM:+0100
TZOFFSETTO:+0200
TZNAME:CEST
DTSTART:20260329T010000
END:DAYLIGHT
BEGIN:STANDARD
TZOFFSETFROM:+0200
TZOFFSETTO:+0100
TZNAME:CET
DTSTART:20261025T010000
END:STANDARD
END:VTIMEZONE
BEGIN:VEVENT
DTSTART;TZID=Europe/Bratislava:20251018T140000
DTEND;TZID=Europe/Bratislava:20251018T213000
DTSTAMP:20260423T102035
CREATED:20251015T074508Z
LAST-MODIFIED:20251015T174518Z
UID:53202-1760796000-1760823000@metalexpress.sk
SUMMARY:BELUSA DEATHFEST vol. XVI
DESCRIPTION:BelUSA Death Fest Vol. 16\nKapely: \nČad – SK\nhttps://www.facebook.com/cadripcore\n \nSuburban Terrorist – SK\nhttps://www.facebook.com/suburbanterorist\nhttps://www.youtube.com/watch?v=I-5B98Ixrec… \nAll the Fury – SK –\nhttps://www.facebook.com/atf.metal/\nhttps://www.youtube.com/watch?v=cK-mn3bf3U0… \nCutterred Flesh – CZ\nhttps://www.facebook.com/CutterredFlesh/\nhttps://www.youtube.com/watch?v=y9xlw255cjo… \nSphere – PL\nhttps://www.damnedsphere.pl/\nhttps://www.youtube.com/watch?v=-kOR9IyScOw… \nHerecital Mutation – A\nhttps://www.youtube.com/watch?v=3Uati3qdu9c… \nFleshcrawl – DE\nhttps://www.facebook.com/Fleshcrawl\nhttps://www.youtube.com/watch?v=ODH11scauXo…
URL:https://metalexpress.sk/event/belusa-deathfest-vol-xvi/
LOCATION:KD Beluša\, Farská 1155/52\, Beluša\, 01861\, Slovakia (Slovak Republic)
CATEGORIES:Kalendár,Koncerty,Udalosti
ATTACH;FMTTYPE=image/jpeg:https://metalexpress.sk/wp-content/uploads/2025/10/1002.jpg
END:VEVENT
BEGIN:VEVENT
DTSTART;TZID=Europe/Bratislava:20251018T170000
DTEND;TZID=Europe/Bratislava:20251018T213000
DTSTAMP:20260423T102035
CREATED:20251014T073518Z
LAST-MODIFIED:20251015T073532Z
UID:53182-1760806800-1760823000@metalexpress.sk
SUMMARY:SAMHAIN METAL NIGHT v Randali!
DESCRIPTION:Pozývame vás na SAMHAIN METAL NIGHT\, na večer plný zábavy a dobrej metalovej hudby. O zábavu sa postarajú štyri kapely:\n1. STIR OF ECHOES\nhardcore/metalcore (Bratislava)\nhttps://www.facebook.com/share/19MUf3XV4v/?mibextid=wwXIfr\nhttps://open.spotify.com/artist/0rwbMU52otJ66CZbhU0LB0 \n2. SINNERS MOON – epický symfonický metal pôvodom zo Serede\, vstáva z popola v novej zostave. Momentálne pripravujú nový album s názvom Deep Dark Emotions\, z ktorého niekoľko piesní budete mať možnosť počuť.\nhttps://www.facebook.com/share/1CWG53V1x7/?mibextid=wwXIfr \n3. ACHSAR – známa a zabehnutá folk metalová bojová horda z Levíc sa predstaví už aj s novým albumom! O zábavu bude určite postarané.\nhttps://www.facebook.com/share/15uzE6TuFq/?mibextid=wwXIfr \n4. GUARDIANS OF ASGAARD– Amon Amarth tribute\nNabrúste si sekery a meče. Pripravte si štíty a zakričte do boja! Amon Amarth snáď ani nie je nutné nikomu predstavovať. Chalani z Bratislavy Vás schladia obľúbenými pesničkami tejto severskej kapely.\nhttps://www.facebook.com/share/1CiUFuXB7p/?mibextid=wwXIfr \nLine Up:\n19:00-19:40 Stir Of Echoes\n20:00-21:00 Sinners Moon\n21:20-22:20 Achsar\n22:40-23:40 Guardians Of Asgaard
URL:https://metalexpress.sk/event/samhain-metal-night-v-randali/
LOCATION:Randal Music Club\, Karpatská 2\, Bratislava\, Bratislava\, Bratislavský Kraj\, 81105\, Slovenská republika
CATEGORIES:Kalendár,Koncerty,Udalosti
ATTACH;FMTTYPE=image/jpeg:https://metalexpress.sk/wp-content/uploads/2025/10/518382137_1394077662720390_5157676217652369261_n.jpg
END:VEVENT
BEGIN:VEVENT
DTSTART;TZID=Europe/Bratislava:20251018T180000
DTEND;TZID=Europe/Bratislava:20251018T213000
DTSTAMP:20260423T102035
CREATED:20251015T072009Z
LAST-MODIFIED:20251015T172020Z
UID:53199-1760810400-1760823000@metalexpress.sk
SUMMARY:Nitra v Žalári
DESCRIPTION:Kde bolo tam bolo\, boli tri kapely\, ktoré hrali metal. Každá po svojom\, každá v inom meste. Ale nakoľko je Slovensko jedna veľká dedina\, stretli sa a zistili\, že sa im spolu hrá dobre. Ubehlo pár rokov\, pomenili sa členovia a všetky tri kapely zakotvili v Nitre\, v meste známom bohatou históriou\, náckami\, mafiánmi\, ale aj hudobným podhubím. A 18. Októbra prídu ukázať do bratislavského Žaláru zač toho loket!! \nCircular Saw\nhttps://www.facebook.com/share/1BRqrR4H7g/\nhttps://open.spotify.com/artist/5UzcRAtAEHfeLKlcPkRa8m… \nManyac – Melodic Thrash\, Nitra\nhttps://linktr.ee/manyacband \nModern Age Dying – Melodic Death\, Nitra\nhttps://modernagedying.bandcamp.com/…
URL:https://metalexpress.sk/event/nitra-v-zalari/
LOCATION:Žalár\, Štefánikova 47\, Bratislava\, 831 04\, Slovakia (Slovak Republic)
CATEGORIES:Kalendár,Koncerty,Udalosti
ATTACH;FMTTYPE=image/jpeg:https://metalexpress.sk/wp-content/uploads/2025/10/1001-1.jpg
END:VEVENT
END:VCALENDAR