BEGIN:VCALENDAR
VERSION:2.0
PRODID:-//MetalExpress - ECPv6.15.19//NONSGML v1.0//EN
CALSCALE:GREGORIAN
METHOD:PUBLISH
X-WR-CALNAME:MetalExpress
X-ORIGINAL-URL:https://metalexpress.sk
X-WR-CALDESC:Udalosti pre MetalExpress
REFRESH-INTERVAL;VALUE=DURATION:PT1H
X-Robots-Tag:noindex
X-PUBLISHED-TTL:PT1H
BEGIN:VTIMEZONE
TZID:Europe/Bratislava
BEGIN:DAYLIGHT
TZOFFSETFROM:+0100
TZOFFSETTO:+0200
TZNAME:CEST
DTSTART:20240331T010000
END:DAYLIGHT
BEGIN:STANDARD
TZOFFSETFROM:+0200
TZOFFSETTO:+0100
TZNAME:CET
DTSTART:20241027T010000
END:STANDARD
BEGIN:DAYLIGHT
TZOFFSETFROM:+0100
TZOFFSETTO:+0200
TZNAME:CEST
DTSTART:20250330T010000
END:DAYLIGHT
BEGIN:STANDARD
TZOFFSETFROM:+0200
TZOFFSETTO:+0100
TZNAME:CET
DTSTART:20251026T010000
END:STANDARD
BEGIN:DAYLIGHT
TZOFFSETFROM:+0100
TZOFFSETTO:+0200
TZNAME:CEST
DTSTART:20260329T010000
END:DAYLIGHT
BEGIN:STANDARD
TZOFFSETFROM:+0200
TZOFFSETTO:+0100
TZNAME:CET
DTSTART:20261025T010000
END:STANDARD
END:VTIMEZONE
BEGIN:VEVENT
DTSTART;TZID=Europe/Bratislava:20250516T170000
DTEND;TZID=Europe/Bratislava:20250516T200000
DTSTAMP:20260423T102037
CREATED:20250513T105715Z
LAST-MODIFIED:20250514T105724Z
UID:52372-1747414800-1747425600@metalexpress.sk
SUMMARY:LICKSPIT - NEGATIVE PATH - MEKENZY - Garáže pod Prístavným mostom!
DESCRIPTION:Dávka HC v piatok prichádza na Garáže pod Prístavným mostom. Stretnú sa tu tri kapely\, LICKSPIT z Českej republiky\, NEGATIVE PATH z Talianska a celý koncert otvorí slovenská kapela MEKENZY. Príďte si užiť čerstvý vzduch na garážach a tlak v ušiach.  \nLICKSPIT (hardcore punk\, CZ)\nhttps://lickspit.bandcamp.com \nNEGATIVE PATH (hardcore punk\, Palermo)\nhttps://negativepath.bandcamp.com/ \nMEKENZY (no future\, Kubik)\nhttps://mekenzy.bandcamp.com/ \nDátum: 16.05.2025\nMiesto: Garáže pod Prístavným mostom\, Bratislava\nVstup: 5/7 €\nFB Udalosť: https://www.facebook.com/events/1412277329940681/
URL:https://metalexpress.sk/event/lickspit-negative-path-mekenzy-garaze-pod-pristavnym-mostom/
LOCATION:Garáže pod Prístavným mostom Bratislava\, Prístavná 9\, Bratislava\, Bratislava\, Bratislava\, Slovenská republika
CATEGORIES:Kalendár,Koncerty,Udalosti
ATTACH;FMTTYPE=image/jpeg:https://metalexpress.sk/wp-content/uploads/2025/05/491802319_1174395821141461_9059897093364741589_n-1.jpg
END:VEVENT
BEGIN:VEVENT
DTSTART;TZID=Europe/Bratislava:20250516T170000
DTEND;TZID=Europe/Bratislava:20250516T210000
DTSTAMP:20260423T102037
CREATED:20250513T104650Z
LAST-MODIFIED:20250514T104709Z
UID:52368-1747414800-1747429200@metalexpress.sk
SUMMARY:MORDLOCH - SLAŤ a PRESSURE v Žalári!
DESCRIPTION:To je tak – máme radi žánrovú všehochuť a tak so skúsime naservírovať aj vám. Toto kombo je za nás absolútna smotánka a pevne veríme\, že 16. mája to v Žalári oceníte aj vy. Ako inak s pivom v jednej ruke a utopencom v druhej!\n\nZahrajú:\nMORDLOCH\nhttps://mordloch.bandcamp.com/album/2022\nSLAŤ\nhttps://slat.bandcamp.com/album/elegie-propastn\nPRESSURE DROP\nhttps://pressure-drop.bandcamp.com/album/rehearsal-demo-24 \nVstup: 10 Eur\, mládež pod 18 za päťku\nFB Udalosť: https://www.facebook.com/events/3879441578975805/ \nText prebratý z FB udalosti
URL:https://metalexpress.sk/event/mordloch-slat-a-pressure-v-zalari/
LOCATION:Žalár\, Štefánikova 47\, Bratislava\, 831 04\, Slovakia (Slovak Republic)
CATEGORIES:Kalendár,Koncerty,Udalosti
ATTACH;FMTTYPE=image/jpeg:https://metalexpress.sk/wp-content/uploads/2025/05/492233628_122127764924654046_8484595648139349310_n-1.jpg
END:VEVENT
BEGIN:VEVENT
DTSTART;TZID=Europe/Bratislava:20250516T180000
DTEND;TZID=Europe/Bratislava:20250516T210000
DTSTAMP:20260423T102037
CREATED:20250513T102603Z
LAST-MODIFIED:20250514T102614Z
UID:52364-1747418400-1747429200@metalexpress.sk
SUMMARY:Nox et Solitudo v Nitre tento piatok!
DESCRIPTION:Besna v rámci Nox et solitudo Tour zavíta 16.5. do nitrianskeho Mariatchi. Zahrajú aj hostia Märnø a Rana. \nBESNA\n-post black metal\, Bratislava\nhttps://besna.bandcamp.com/album/kr-sno\nhttps://www.facebook.com/BesnaBand/\nhttps://www.instagram.com/besna.band/\nVo svojej tvorbe spája black metal\, post-rock aj prvky slovenského folklóru. Ich debut Zverstvá získal Radio_Head Award za najlepšiu hard & heavy nahrávku roka 2022 a v roku 2025 vydali nový album Krásno. Ten aktuálne predstavujú na koncertoch po Slovensku\, Česku a Európe. \nMÄRNØ\n-neocrust\, Uherské Hradiště\nhttps://marnocrust.bandcamp.com/track/marno\nhttps://www.facebook.com/marno.crust/\nhttps://www.instagram.com/marnocrust/\nKapela vzniknutá koncom roka 2020\, ktorá kombinuje emo/HC\, crust\, d-beat a post-metal do intenzívneho a emotívneho zvuku. Členovia majú skúsenosti z viacerých predošlých projektov a kapela si rýchlo získala meno vďaka energickým koncertom a debutovému EP Nevinnosť prázdnych sŕdc. Na jar vydáva svoj prvý dlhohrajúci album pod vydavateľstvom Ultima Ratio. \nRANA\n-post metal/neocrust/HC\, Bratislava\nhttps://rana.bandcamp.com/\nhttps://www.instagram.com/rana___band/\nhttps://www.facebook.com/RanaBandOfficial/\nDebutovala v roku 2017 a o rok neskôr vydala LP Nesprávne Otázky. Ich hudba mieša tvrdosť a melanchóliu s vplyvmi od kapiel ako Cult of Luna\, pričom aktuálne pracujú na novom materiáli s prvkami black metalu. Kapela je známa emotívnymi koncertmi a členovia pôsobia aj v zostavách ako Adacta\, Distax či Diktät.\n—\nDátum: 16.5.2025\nMiesto: Mariatchi\, Nitra\nVstup iba na mieste: 8-12 (v prípade núdze dohodou)\nFB Udalosť: https://www.facebook.com/events/589782134122969/\nProgram:\n20:00 Rana\n21:00 Märno\n22:00 Besna \nText prebratý z FB udalosti
URL:https://metalexpress.sk/event/nox-et-solitudo-v-nitre-tento-piatok/
LOCATION:Mariatchi Nitra\, Mostná 35\, Nitra\, Slovakia\, Nitra\, Slovenská republika
CATEGORIES:Kalendár,Koncerty,Udalosti
ATTACH;FMTTYPE=image/jpeg:https://metalexpress.sk/wp-content/uploads/2025/05/491887667_1230372135758636_2121732442259619063_n-1.jpg
END:VEVENT
END:VCALENDAR