BEGIN:VCALENDAR
VERSION:2.0
PRODID:-//MetalExpress - ECPv6.15.19//NONSGML v1.0//EN
CALSCALE:GREGORIAN
METHOD:PUBLISH
X-ORIGINAL-URL:https://metalexpress.sk
X-WR-CALDESC:Udalosti pre MetalExpress
REFRESH-INTERVAL;VALUE=DURATION:PT1H
X-Robots-Tag:noindex
X-PUBLISHED-TTL:PT1H
BEGIN:VTIMEZONE
TZID:Europe/Bratislava
BEGIN:DAYLIGHT
TZOFFSETFROM:+0100
TZOFFSETTO:+0200
TZNAME:CEST
DTSTART:20240331T010000
END:DAYLIGHT
BEGIN:STANDARD
TZOFFSETFROM:+0200
TZOFFSETTO:+0100
TZNAME:CET
DTSTART:20241027T010000
END:STANDARD
BEGIN:DAYLIGHT
TZOFFSETFROM:+0100
TZOFFSETTO:+0200
TZNAME:CEST
DTSTART:20250330T010000
END:DAYLIGHT
BEGIN:STANDARD
TZOFFSETFROM:+0200
TZOFFSETTO:+0100
TZNAME:CET
DTSTART:20251026T010000
END:STANDARD
BEGIN:DAYLIGHT
TZOFFSETFROM:+0100
TZOFFSETTO:+0200
TZNAME:CEST
DTSTART:20260329T010000
END:DAYLIGHT
BEGIN:STANDARD
TZOFFSETFROM:+0200
TZOFFSETTO:+0100
TZNAME:CET
DTSTART:20261025T010000
END:STANDARD
END:VTIMEZONE
BEGIN:VEVENT
DTSTART;TZID=Europe/Bratislava:20250509T170000
DTEND;TZID=Europe/Bratislava:20250509T213000
DTSTAMP:20260423T115345
CREATED:20250503T171640Z
LAST-MODIFIED:20250505T171647Z
UID:52297-1746810000-1746826200@metalexpress.sk
SUMMARY:Unpopular B-day Fest v piatok v Žalári!
DESCRIPTION:Náš verný štamgast a dobrý kamoš Massi bude oslavovať svoje 45. narodeniny a tak sa rozhodol zorganizovať si u nás takýto divoký večierok. A nám sa tento nápad páčil a tak sme si plácli! 9. mája teda nebudeme len oslavovať ale aj besniť pod pódium na poriadnu dávku grindu!\nZahrajú:\nPAINKILLER PARTY\nhttps://painkillerparty.bandcamp.com/\nURINAEMIA\nhttps://www.facebook.com/Urinaemia/\nSPERM OF MANKIND\nhttps://spermofmankind.bandcamp.com/album/platypus-blues\nCANNABEAST\nhttps://cannabeast.bandcamp.com/album/fuckdoll-remembrance-2\nIRITATOR\nhttps://morenoiserecords.bandcamp.com/…/iritator-jebo… \nDátum: 09.05.2025\nMiesto: Žalár\, Bratislava\nVstup: 10 Eur\, mládež pod 18 za päťku\nFB Udalosť: https://www.facebook.com/events/975638914312149/\nText prebratý z FB udalosti
URL:https://metalexpress.sk/event/unpopular-b-day-fest-v-piatok-v-zalari/
LOCATION:Žalár\, Štefánikova 47\, Bratislava\, 831 04\, Slovakia (Slovak Republic)
CATEGORIES:Kalendár,Koncerty,Udalosti
ATTACH;FMTTYPE=image/jpeg:https://metalexpress.sk/wp-content/uploads/2025/05/488599713_122125389248654046_4593225023894937260_n.jpg
END:VEVENT
BEGIN:VEVENT
DTSTART;TZID=Europe/Bratislava:20250509T170000
DTEND;TZID=Europe/Bratislava:20250509T213000
DTSTAMP:20260423T115345
CREATED:20250503T172201Z
LAST-MODIFIED:20250505T172212Z
UID:52301-1746810000-1746826200@metalexpress.sk
SUMMARY:1349 - The Ruins of Beverast - Vitriol - Sarcator - v Randal Music Clube!
DESCRIPTION:09 / 05 / 2025 / BRATISLAVA / RANDAL\nObscure vstupenky: https://obscure.cz/cs/tickets/detail/id/839\ndále pak ticketportal: https://www.ticketportal.sk/…/1349-The-Ruins-Of…\n1349\, Norská black metalová mašina\, která nikdy neslevila ze své původní vize: udržet plamen true black metalu naživu. Nové album „The Wolf and the King“ je syrové\, apokalyptické a připomíná\, proč je 1349 považováno za jedno z nejzásadnějších jmen scény. Ravn\, Frost (Satyricon) a spol. přinášejí surovou energii druhé vlny norského black metalu\, přefiltrovanou skrze chaos 21. století. \nSpolu s nimi vystoupí i The Ruins of Beverast\, projekt Alexandera von Meilenwalda\, který rozplétá hranice mezi black metalem\, doomem a ambientními plochami. The Ruins of Beverast je zvuková noční můra\, která vás vtáhne do svých vrstevnatých\, tísnivých aranží a nepustí\, dokud se neztratíte v temnotě. Přidá se také portlandská trojice Vitriol\, která předvádí death metal\, který je stejně brutální\, jako precizní. Jejich zvuk je směsí Morbid Angel\, Hate Eternal a nefalšované zuřivosti. Večer otevře švédská čtyřka Sarcator\, která sází na mix black a thrash metalu.  \nFB Udalosť: https://www.facebook.com/events/8854020044726977/\n\nTlačová správa Obscure Promotion
URL:https://metalexpress.sk/event/1349-the-ruins-of-beverast-vitriol-sarcator-v-randal-music-clube/
LOCATION:Randal Music Club\, Karpatská 2\, Bratislava\, Bratislava\, Bratislavský Kraj\, 81105\, Slovenská republika
CATEGORIES:Kalendár,Koncerty,Udalosti
ATTACH;FMTTYPE=image/jpeg:https://metalexpress.sk/wp-content/uploads/2025/05/483509883_951152650506616_5069976060201061243_n.jpg
END:VEVENT
BEGIN:VEVENT
DTSTART;TZID=Europe/Bratislava:20250509T173000
DTEND;TZID=Europe/Bratislava:20250509T203000
DTSTAMP:20260423T115345
CREATED:20250503T172830Z
LAST-MODIFIED:20250505T172839Z
UID:52304-1746811800-1746822600@metalexpress.sk
SUMMARY:Obludárium na Werande už tento piatok!
DESCRIPTION:V piatok sa vo Werande pripravte na tri slovenské kapely rôznych žánrov\, nakoľko sa za večer predstaví metalcore\, grunge aj pivny punk.\nZahrajú:\nSTIR OF ECHOES\nhardcore/metalcore (Bratislava)\nhttps://open.spotify.com/artist/0rwbMU52otJ66CZbhU0LB0\nOBLUDA\nrock-grunge (Banská Bystrica)\nveselé pesničky smutnejšich textov\nhttps://www.facebook.com/share/1BmCBCW3bv/\nPRIMITÍVI\nheavy beer punk-rock (Bratislava)\nhttps://www.youtube.com/channel/UCYrKO-FK7UFZwJ9FPJBaZWg \nDátum: 09.05.2025\nMiesto: Weranda\, Bratislava\nVstup : 4 €\nFB Udalosť: https://www.facebook.com/events/687246586994076/ \nText prebratý z FB Udalosti
URL:https://metalexpress.sk/event/obludarium-na-werande-uz-tento-piatok/
LOCATION:Weranda\, Májová 3303/23\, 851 01 Bratislava-Petržalka\, Bratislava\, Slovenská republika
CATEGORIES:Kalendár,Koncerty,Udalosti
ATTACH;FMTTYPE=image/jpeg:https://metalexpress.sk/wp-content/uploads/2025/05/490779849_1196575745809297_2397285504533451827_n.jpg
END:VEVENT
END:VCALENDAR