BEGIN:VCALENDAR
VERSION:2.0
PRODID:-//MetalExpress - ECPv6.15.19//NONSGML v1.0//EN
CALSCALE:GREGORIAN
METHOD:PUBLISH
X-ORIGINAL-URL:https://metalexpress.sk
X-WR-CALDESC:Udalosti pre MetalExpress
REFRESH-INTERVAL;VALUE=DURATION:PT1H
X-Robots-Tag:noindex
X-PUBLISHED-TTL:PT1H
BEGIN:VTIMEZONE
TZID:Europe/Bratislava
BEGIN:DAYLIGHT
TZOFFSETFROM:+0100
TZOFFSETTO:+0200
TZNAME:CEST
DTSTART:20230326T010000
END:DAYLIGHT
BEGIN:STANDARD
TZOFFSETFROM:+0200
TZOFFSETTO:+0100
TZNAME:CET
DTSTART:20231029T010000
END:STANDARD
BEGIN:DAYLIGHT
TZOFFSETFROM:+0100
TZOFFSETTO:+0200
TZNAME:CEST
DTSTART:20240331T010000
END:DAYLIGHT
BEGIN:STANDARD
TZOFFSETFROM:+0200
TZOFFSETTO:+0100
TZNAME:CET
DTSTART:20241027T010000
END:STANDARD
BEGIN:DAYLIGHT
TZOFFSETFROM:+0100
TZOFFSETTO:+0200
TZNAME:CEST
DTSTART:20250330T010000
END:DAYLIGHT
BEGIN:STANDARD
TZOFFSETFROM:+0200
TZOFFSETTO:+0100
TZNAME:CET
DTSTART:20251026T010000
END:STANDARD
END:VTIMEZONE
BEGIN:VEVENT
DTSTART;TZID=Europe/Bratislava:20241123T180000
DTEND;TZID=Europe/Bratislava:20241123T213000
DTSTAMP:20260420T131215
CREATED:20241119T171912Z
LAST-MODIFIED:20241119T171912Z
UID:51369-1732384800-1732397400@metalexpress.sk
SUMMARY:Time Out III v Liptovskom Mikuláši!
DESCRIPTION:Po dlhšej dobe sa uskutoční menší koncert lokálnych kapiel aj v Liptovskom Mikuláši. Na svoje si prídu hlavne death metalisti\, pretože vystúpia WAYD z Prešova\, SOULS TO DENY z LM a FIERY WALTZ taktiež z LM. Príďte podporiť kultúru v Liptovskom Mikuláši ako aj kapely.  \nWayd – death metal PO\nhttps://www.facebook.com/wayd.official/ \nSouls to Deny – death metal LM\nhttps://www.facebook.com/SoulsToDeny/ \nFiery Waltz – death metal LM\nhttps://www.facebook.com/FieryWaltz/ \nDátum: 23.11.2024\nMiesto: Hory Doly\, Liptovský Mikuláš\nFB Udalosť: https://www.facebook.com/events/1671396590259222/
URL:https://metalexpress.sk/event/time-out-iii-v-liptovskom-mikulasi/
LOCATION:HoryDoly Liptovský Mikuláš\, Guothova\, Liptovsky Mikulas\, Slovakia\, Liptovský Mikuláš\, Slovenská republika
CATEGORIES:Kalendár,Koncerty,Udalosti
ATTACH;FMTTYPE=image/jpeg:https://metalexpress.sk/wp-content/uploads/2024/11/463721388_1088205146522735_6415937419911886561_n.jpg
END:VEVENT
BEGIN:VEVENT
DTSTART;TZID=Europe/Bratislava:20241123T180000
DTEND;TZID=Europe/Bratislava:20241123T223000
DTSTAMP:20260420T131215
CREATED:20241119T172516Z
LAST-MODIFIED:20241119T172516Z
UID:51372-1732384800-1732401000@metalexpress.sk
SUMMARY:A NEW AGE OF EVIL TOUR 2024 v Žiline!
DESCRIPTION:DeathCoffee&CrossCreww booking uvádzajú deathcorovou smršť v podobe deathcorovej A NEW AGE OF EVIL TOUR 2024: \nBONECARVER (ESP-UK) – brutal deathcore\nFB: https://www.facebook.com/bonecarverofficial\n \nANIME TORMENT (CZ) – dissonant deathcore\nFB: https://www.facebook.com/animetorment\n \nSTERCORE (SK) – deathcore\nFB: https://www.facebook.com/stercore.slovakia\n \nAS THEY RISE (SK) – metalcore/djent\nFB: https://www.facebook.com/astheyriseofficial\n \nLine-up:\n19:00-As The Rise\n20:00-Stercore\n21:00-Anime Torment\n22:00-Bonecarver \nDátum: 23.11.2024\nMiesto: Smer Klub 77\, Žilina\nVstup : 15 €\nFB Udalosť: https://www.facebook.com/events/454603747600190/ \nText prebratý z FB Udalosti
URL:https://metalexpress.sk/event/a-new-age-of-evil-tour-2024-v-ziline/
LOCATION:Smer Klub 77 Žilina\, R. Zaymusa 72/8\, Zilina\, Slovakia\, Žilina\, Žilina\, Slovenská republika
CATEGORIES:Kalendár,Koncerty,Udalosti
ATTACH;FMTTYPE=image/jpeg:https://metalexpress.sk/wp-content/uploads/2024/11/461985865_1070737828387156_2984095326178638283_n.jpg
END:VEVENT
BEGIN:VEVENT
DTSTART;TZID=Europe/Bratislava:20241123T180000
DTEND;TZID=Europe/Bratislava:20241123T223000
DTSTAMP:20260420T131215
CREATED:20241119T173327Z
LAST-MODIFIED:20241119T173327Z
UID:51374-1732384800-1732401000@metalexpress.sk
SUMMARY:MASO in Memoriam v Šuranoch!
DESCRIPTION:Táto akcia vznikla z nešťastnej udalosti nášho veľmi dobrého kamaráta Martina\, ktorého každý poznal pod prezývkami ako Menďo/Maso/Mengele official a iné srandy\, srandičky a kadejaké legrácie. Keďže sa matka príroda rozhodla\, že chce tohto fanatického vyznávača slobody\, deathmetalu a grindcoru naspäť\, už tu s nami nieje. Takže táto akcia veľká\, silná a plná uši ničiacich riffov\, kvílenia dvojchlapových píl a bicích\, o ktorých si budeš myslieť\, že tam nieje bubeník ale gulomet silnej ráže\, bude spomienkou na kamoša\, s ktorým sa raz vidíme niekde v pekle. Na mieste bude aj distro s trikami a mikinami\, ktoré si Maso ani nestihol obliecť a sekáč s vecami zánovnými. Výťažok z distra putuje Masovej mamine. Prachy smútok nezmažú\, to je nám všetkým jasné.. ale určite pomôžu človeku\, ktorý tu bez Masa zostal v tom našom utrápenom mestečku sám. No..\nCibri pečeň.. \nABORTION — grindcore\, bomby nielen na Nitru\, ale aj Šurany\nhttps://www.facebook.com/abortiongrindcore\nSEDEM MINÚT STRACHU — ?!#@#&!? GrindNoiseMasaker\n\nASSEMBLY OF DECEASED — classical death metal\, mladá krv\nHRDZAVÝ NÓŽ — zámský hardcore\nhttps://www.facebook.com/hrzavynoz \nDátum: 23.11.2024\nMiesto: DOLE\, Šurany\nVstup: ?\nFB Udalosť: https://www.facebook.com/events/1021441816450403/ \nText prebratý z FB Udalosti
URL:https://metalexpress.sk/event/maso-in-memoriam-v-suranoch/
LOCATION:DOLE – Underground Culture Pub\, M.R.Štefánika 3\, Šurany 942 01\, Surany\, Slovakia\, Šurany\, 94201\, Slovenská republika
CATEGORIES:Kalendár,Koncerty,Udalosti
ATTACH;FMTTYPE=image/jpeg:https://metalexpress.sk/wp-content/uploads/2024/11/465366786_1087573816125036_8355661338889860032_n.jpg
END:VEVENT
END:VCALENDAR