BEGIN:VCALENDAR
VERSION:2.0
PRODID:-//MetalExpress - ECPv6.15.19//NONSGML v1.0//EN
CALSCALE:GREGORIAN
METHOD:PUBLISH
X-WR-CALNAME:MetalExpress
X-ORIGINAL-URL:https://metalexpress.sk
X-WR-CALDESC:Udalosti pre MetalExpress
REFRESH-INTERVAL;VALUE=DURATION:PT1H
X-Robots-Tag:noindex
X-PUBLISHED-TTL:PT1H
BEGIN:VTIMEZONE
TZID:Europe/Bratislava
BEGIN:DAYLIGHT
TZOFFSETFROM:+0100
TZOFFSETTO:+0200
TZNAME:CEST
DTSTART:20230326T010000
END:DAYLIGHT
BEGIN:STANDARD
TZOFFSETFROM:+0200
TZOFFSETTO:+0100
TZNAME:CET
DTSTART:20231029T010000
END:STANDARD
BEGIN:DAYLIGHT
TZOFFSETFROM:+0100
TZOFFSETTO:+0200
TZNAME:CEST
DTSTART:20240331T010000
END:DAYLIGHT
BEGIN:STANDARD
TZOFFSETFROM:+0200
TZOFFSETTO:+0100
TZNAME:CET
DTSTART:20241027T010000
END:STANDARD
BEGIN:DAYLIGHT
TZOFFSETFROM:+0100
TZOFFSETTO:+0200
TZNAME:CEST
DTSTART:20250330T010000
END:DAYLIGHT
BEGIN:STANDARD
TZOFFSETFROM:+0200
TZOFFSETTO:+0100
TZNAME:CET
DTSTART:20251026T010000
END:STANDARD
END:VTIMEZONE
BEGIN:VEVENT
DTSTART;TZID=Europe/Bratislava:20241116T150000
DTEND;TZID=Europe/Bratislava:20241116T220000
DTSTAMP:20260420T131047
CREATED:20241111T103505Z
LAST-MODIFIED:20241111T103505Z
UID:51310-1731769200-1731794400@metalexpress.sk
SUMMARY:CELESTIAL HELPFEST 2024
DESCRIPTION:Celestial Helpfest sa dožíva svojho 12.pokračovania a vy všetci ste srdečne pozvaný. Fakt je ten že sa zase po roku stretneme v kultových priestoroch MSKS a verím že zase to bude stáť za to!!! Tešiť sa môžete na parádne kapelky\, super zvuk\, výborne drinky a jedlo. Ale hlavne na tú atmosféru ktorú tam vždy vytvoríme!!!\nAko už býva zvykom\, zahrajú domáce aj české metalové\, či punkové kapely\, staršie\, aj začínajúce kapely. Program začína už od 16:00\, takže príďte včas a podporte aj prvé kapely.  \nZAHRAJÚ \nThe Animus \nhttps://www.facebook.com/profile.php?id=61551612853499 \nV.V.U. (CZ) \nhttps://www.facebook.com/vvu.original \nKazostroj (SK)\nhttps://www.facebook.com/xkzstrjx \nColdblooded (SK)\nhttps://www.facebook.com/CLBDofficial \nBarikády z Popelnic (CZ)\nhttps://www.facebook.com/profile.php?id=100063440752063 \nSanatorium (SK)\nhttps://www.facebook.com/SANATORIUMbrutal \nAbortion (SK)\nhttps://www.facebook.com/abortiongrindcore \nDr. Pako (SK)\nhttps://www.facebook.com/profile.php?id=100063487511873 \nDeathrosy (SK)\nhttps://www.facebook.com/profile.php?id=61567428610316 \nPROGRAM\n16:15 – 17:00 The Animus\n17:15 – 18:00 V.V.Ú\n18:15 – 19:00 Kazostroj\n19:15 – 20:00 Coldblooded\n20:15 – 21:00 Barikády z Popelnic\n21:15 – 22:00 Sanatorium\n22:15 – 23:00 Abortion\n23:15 – 00:00 Dr.Pako\n00:15 –  Deathrosy \nDátum: 16.11.2024\nMiesto: MSKS\, Bánovce nad Bebravou\nVstup: 15 €\, len na mieste\nFB Event: https://www.facebook.com/events/1263960778071390/
URL:https://metalexpress.sk/event/celestial-helpfest-2024/
LOCATION:MSKS Bánovce na Bebravou\, J. Matušku 766/19\, Bánovce nad Bebravou\, 957 01\, Slovenská republika
CATEGORIES:Kalendár,Koncerty,Udalosti
ATTACH;FMTTYPE=image/jpeg:https://metalexpress.sk/wp-content/uploads/2024/11/464223077_2692280334288509_828852193677584373_n.jpg
END:VEVENT
BEGIN:VEVENT
DTSTART;TZID=Europe/Bratislava:20241116T170000
DTEND;TZID=Europe/Bratislava:20241116T220000
DTSTAMP:20260420T131047
CREATED:20241111T133701Z
LAST-MODIFIED:20241111T133701Z
UID:51317-1731776400-1731794400@metalexpress.sk
SUMMARY:Thrashing Madness vol. 1 v Bratislave!
DESCRIPTION:Vraj je málo thrash metalu v Bratislave. No tak my teda na jeden večer obsadíme celé naše podpalubie práve týmto žánrom. Rýchlostná metelica sa udeje v sobotu 16. novembra na oboch pódiách podpalubia a čaká nás dokopy až 9 kapiel.\nZahrajú:\nHELLISH CROSSFIRE (thrash\, Nemecko)\n\nPREDICTION (black/thrash\, Rakúsko)\nhttps://miadtapes.bandcamp.com/album/demonical-possession\nFAÜST (thrash\, Praha)\nhttps://faustxthrashingdoom.bandcamp.com/\nBLACK LIGHT (thrash\, Košice)\nhttps://blacklightthrash.bandcamp.com/…/the-crones-single\nBLIND RÄTTVISA (crossover/thrash-punk\, Malacky)\nhttps://blindrattvisa.bandcamp.com/…/bury-your-stupid-days\nHROBAR (crossover\, Banská Štiavnica)\nhttps://hrobar.bandcamp.com/album/m-tvy-ah-2024\nDEMONIC-EYED (thrash/hardcore\, Zvolen)\nhttps://demonic-eyed.bandcamp.com/album/d-ep-23-ep\nWOLNERA (old school thrash metal\, Vranov nad Topľou)\nhttps://wolnera.bandcamp.com/album/product-of-fear\nDEVIANCE (thrash/heavy\, Brno)\nhttps://deviance.bandcamp.com/album/freeze-obey \nČasový rozpis\nVeľká sála\n18:00 – 18:45 Blind Rättvisa\n19:15 – 20:00 Black Light\n20:30 – 21:15 Prediction\n22:00 – 23:00 Hellish Crossfire\n23:30 – 00:30 Faüst\nMalá sála\n18:45 – 19:15 Wolnera\n20:00 – 20:30 Deviance\n21:15 – 22:00 demonic-eyed\n23:00 – 23:30 Hrobar \nZa plagát díky @seeruus\nFB Event: https://www.facebook.com/events/541224621604986/\nText z FB eventu
URL:https://metalexpress.sk/event/thrashing-madness-vol-1-v-bratislave/
LOCATION:Pink Whale\, Nábrežie armádneho generála Ludvíka Svobodu 1868rkm\, 811 02 Staré Mesto\, Bratislava\, Slovakia 0911 177 172\, Bratislava\, Bratislava\, 81102\, Slovenská republika
CATEGORIES:Kalendár,Koncerty,Udalosti
ATTACH;FMTTYPE=image/jpeg:https://metalexpress.sk/wp-content/uploads/2024/11/461396765_550003790740551_1594172306220463098_n.jpg
END:VEVENT
BEGIN:VEVENT
DTSTART;TZID=Europe/Bratislava:20241116T180000
DTEND;TZID=Europe/Bratislava:20241116T220000
DTSTAMP:20260420T131047
CREATED:20241111T143358Z
LAST-MODIFIED:20241111T143358Z
UID:51320-1731780000-1731794400@metalexpress.sk
SUMMARY:November Requiem v Banskej Bystrici!
DESCRIPTION:V Klube 77 v Banskej Bystrici sa tento víkend uskutoční koncert troch slovenských a jednej poľskej kapely. Viac informácii o kapelách nájdete nižšie a taktiež sledujte FB udalosť pre viac informácií.  \nDOOMAS – Death doom metal\nhttps://www.facebook.com/DoomasOfficial\nVELESAR – Folk metal – Poľsko\nhttps://www.facebook.com/VelesarOfficial\nABSTRACT – Instrumental metal\nhttps://www.facebook.com/abstractinstrumental\nGAZDASGRIND – Death metal grind\nhttps://www.facebook.com/gazdasgrind \nDátum: 16.11.2024\nMiesto: Klub 77\, Banská Bystrica\nVstup: 15 €\nFB Udalosť: https://www.facebook.com/events/354623544393107/
URL:https://metalexpress.sk/event/november-requiem-v-banskej-bystrici/
LOCATION:Klub 77 Banská Bystrica\, Horná 54\, Banská Bystrica\, Slovakia\, Banská Bystrica\, Banskobystrický kraj
CATEGORIES:Kalendár,Koncerty,Udalosti
ATTACH;FMTTYPE=image/jpeg:https://metalexpress.sk/wp-content/uploads/2024/11/456720170_10225824127693095_8584570531602849535_n.jpg
END:VEVENT
BEGIN:VEVENT
DTSTART;TZID=Europe/Bratislava:20241116T180000
DTEND;TZID=Europe/Bratislava:20241116T223000
DTSTAMP:20260420T131047
CREATED:20241113T130526Z
LAST-MODIFIED:20241113T130526Z
UID:51330-1731780000-1731796200@metalexpress.sk
SUMMARY:Nocturnal Art 2024 v Nitre už tento víkend!
DESCRIPTION:Nocturnal Art je akcia\, ktorú ako kapela PEORTH organizujeme posledné roky vo Frankie Rock Clube v Nitre. Tento rok je zostava viac ako zaujímavá\, zahrať prídu: Trnavskí dark/black metalový OHEN\, ktorí prídu propagovať pripravovaný album „Whispering Lies“. Dvojnásobní víťazi Rádia FM v kategórií Hard and Heavy\, víťazi Wacken Open Air Slovakia 2017 a pionieri progresívneho death metalu MORNA aj českí veteráni elektronického gothic/black metalu ADOR DORATH\, ktorí v súčasnosti aktívne koncertujú na podporu vydarenej novinky „Unlimate Black“. Naša maličkosť a organizátori tejto akcie – kapela PEORTH. ktorá na akcií pokrstí svoj nadchádzajúci\, v poradí 4. dlhotrvajúci album s názvom „(De)formation“. Ten v podobe digipacku výjde krátko pred akciou.  \nOHEN\nhttps://www.facebook.com/ohen.band\nMORNA\nhttps://www.facebook.com/Mornaband\nADOR DORATH \nhttps://www.facebook.com/bandadordorath\nPEORTH\nhttps://www.facebook.com/peorthsvk \nMiesto: Nitra\, Frankie rock club\nDátum: 16.11.2024 (sobota)\, 20:00\nVstup: 7€\nFB Udalosť: https://www.facebook.com/events/1861294094346149/
URL:https://metalexpress.sk/event/nocturnal-art-2024-v-nitre-uz-tento-vikend/
LOCATION:Frankie Rock Club\, Mostná 42\, Nitra\, Slovakia\, Nitra\, Nitra\, Slovenská republika
CATEGORIES:Kalendár,Koncerty,Udalosti
ATTACH;FMTTYPE=image/jpeg:https://metalexpress.sk/wp-content/uploads/2024/11/465578543_957385919743172_2911836610094537380_n.jpg
END:VEVENT
END:VCALENDAR