BEGIN:VCALENDAR
VERSION:2.0
PRODID:-//MetalExpress - ECPv6.15.19//NONSGML v1.0//EN
CALSCALE:GREGORIAN
METHOD:PUBLISH
X-WR-CALNAME:MetalExpress
X-ORIGINAL-URL:https://metalexpress.sk
X-WR-CALDESC:Udalosti pre MetalExpress
REFRESH-INTERVAL;VALUE=DURATION:PT1H
X-Robots-Tag:noindex
X-PUBLISHED-TTL:PT1H
BEGIN:VTIMEZONE
TZID:Europe/Bratislava
BEGIN:DAYLIGHT
TZOFFSETFROM:+0100
TZOFFSETTO:+0200
TZNAME:CEST
DTSTART:20230326T010000
END:DAYLIGHT
BEGIN:STANDARD
TZOFFSETFROM:+0200
TZOFFSETTO:+0100
TZNAME:CET
DTSTART:20231029T010000
END:STANDARD
BEGIN:DAYLIGHT
TZOFFSETFROM:+0100
TZOFFSETTO:+0200
TZNAME:CEST
DTSTART:20240331T010000
END:DAYLIGHT
BEGIN:STANDARD
TZOFFSETFROM:+0200
TZOFFSETTO:+0100
TZNAME:CET
DTSTART:20241027T010000
END:STANDARD
BEGIN:DAYLIGHT
TZOFFSETFROM:+0100
TZOFFSETTO:+0200
TZNAME:CEST
DTSTART:20250330T010000
END:DAYLIGHT
BEGIN:STANDARD
TZOFFSETFROM:+0200
TZOFFSETTO:+0100
TZNAME:CET
DTSTART:20251026T010000
END:STANDARD
END:VTIMEZONE
BEGIN:VEVENT
DTSTART;TZID=Europe/Bratislava:20241108T180000
DTEND;TZID=Europe/Bratislava:20241108T220000
DTSTAMP:20260422T103805
CREATED:20241021T094904Z
LAST-MODIFIED:20241021T094904Z
UID:51156-1731088800-1731103200@metalexpress.sk
SUMMARY:Besna\, Holotropic a Hmota v Nových Zámkoch!
DESCRIPTION:Nové Zámky nezažívajú metalové akcie veľmi často\, takže 8. Novembra to bude v miestnom klube Hollywood malý metalový sviatok. Navštívia ho bratislavské kapely Besna a Holotropic\, spolu s podporou domáceho spolku Hmota.\nBESNA je post-black metalová kapela z Bratislavy\, ktorá vznikla v roku 2017. Ich hudba má moderný metalový zvuk položený na základoch black metalu pretkanom progresívnymi a post-rockovými prvkami. Charakterizujú ju trúchlivé melódie kombinované s besným revom v rodnom jazyku. Ich koncerty sú plné strhujúcej energie a podmanivej atmosféry. Debutový album „Zverstvá“\, ocenený porotou Radio_Head Awards ako najlepšia slovenská Hard&Heavy nahrávka za rok 2022 a následný singel „Neha“ postupne predstavili na pódiách po Slovensku\, Česku aj zvyšku Európy. V tomto roku vstúpili do štúdia\, aby nahrali nový dlhohrajúci materiál\, z ktorého bude znieť mnoho piesní aj v Nových Zámkoch.\nHOLOTROPIC prinesú progresívny extrémny metal so základmi v death metale\, ale s mnohými ďalšími žánrovými odbočkami a silným vplyvom orientálnych melódií. Za svoj debutový album „Permeate“ si zaslúžili nomináciu na Radio_Head Awards Rádia_FM rovnako ako vynikajúce ohlasy doma i v zahraničí. Odohrali k nemu mnohé koncertý na Slovensku a v Čechách\, ukázali sa ale aj v Poľsku\, či Maďarsku. Materiál na jeho nasledovníka je v súčasnosti výraznou časťou ich koncertného programu. Kapela prešla od svojho vzniku aj niekoľkými personálnymi zmenami a v súčasnosti je s nimi na pódiu možné vidieť členov a ex-členov kapiel ako 0N0\, God Defamer\, či Catastrofy.\nH M O T A je postmetalová partia z Nových Zámkov\, v ktorej tvorbe sa objavujú ako melancholické a vzletné atmosférické pasáže\, tak aj hutné a valivé gitarové steny\, či výrazne zefektované plochy a melódie vložené do dlhých a kľukatých skladieb. Debutujú singlom „Komediant“ a pracujú aj na ďalších nahrávkach.\nHollywood – otvorený kultúrny priestor teda zažije rôznorodú kombináciu tvrdých gitarových žánrov\, ktorým nechýba silná atmosféra. \nBESNA – v búrke post-black metalových riffov nájdeš útočisko aj nepokoj.\nhttps://www.facebook.com/BesnaBand\nhttps://www.instagram.com/besna.band/\n \nHOLOTROPIC – technický death metal\, ktorý ťa prenesie za hranice tvojho vnímania.\nhttps://www.facebook.com/holotropic\nhttps://www.instagram.com/holotropic_band/\n \nH M O T A – zvuky post-metalu\, ktoré sa ako hmota ťahajú a splývajú s temnotou.\nhttps://www.facebook.com/HMOTAband\nhttps://www.instagram.com/hmotaband/\n \nFB Event: https://fb.me/e/4QTFszRbz \nTlačová správa
URL:https://metalexpress.sk/event/besna-holotropic-a-hmota-v-novych-zamkoch/
LOCATION:Hollywood – otvorený kultúrny priestor\, Námestie Györgya Széchényiho 5154/9\, Nové Zámky\, Slovakia\, Nové Zámky\, 940 02\, Slovenská republika
CATEGORIES:Kalendár,Koncerty,Udalosti
ATTACH;FMTTYPE=image/png:https://metalexpress.sk/wp-content/uploads/2024/10/plagat.png
END:VEVENT
BEGIN:VEVENT
DTSTART;TZID=Europe/Bratislava:20241108T180000
DTEND;TZID=Europe/Bratislava:20241108T223000
DTSTAMP:20260422T103805
CREATED:20241103T102557Z
LAST-MODIFIED:20241103T102557Z
UID:51242-1731088800-1731105000@metalexpress.sk
SUMMARY:Svätomartinský Randal vol. 3 už tento piatok!
DESCRIPTION:Tretie pokračovanie Svätomartinského Randálu bude zároveň bratislavskou oslavou 30 rokov existencie ANTARES. Veru tak\, naša púť sa začala na jeseň roku 1994 a dúfame\, že túto oslavu si budú pamätať všetci\, čo na ňu zavítajú. Okrem oslavujúcich Antares sa na pódiu vystriedajú tri slovenské kapely. Až z ďalekého Prešova zavítajú do Bratislavy death metalisti PERVERSITY. Jesennú dávku melanchólie umocnia AUTUMN NOSTALGIE a trnavská blackened dark metalová kapela OHEN odprezentuje nové skladby z nadchádzajúceho albumu.  \nANTARES\nhttps://www.facebook.com/antaresdeathmetal\n \nPERVERSITY\nhttps://www.facebook.com/perversityband\n  \nAUTUMN NOSTALGIE\nhttps://www.facebook.com/Autumn.Nostalgie.Official\n \nOHEN\nhttps://www.facebook.com/ohen.band\n \nDátum: 08.11.2024\nMiesto: Randal Music Club\, Bratislava\nFB Udalosť: https://www.facebook.com/events/423906290222548/
URL:https://metalexpress.sk/event/svatomartinsky-randal-vol-3-uz-tento-piatok/
LOCATION:Randal Music Club\, Karpatská 2\, Bratislava\, Bratislava\, Bratislavský Kraj\, 81105\, Slovenská republika
CATEGORIES:Kalendár,Koncerty,Udalosti
ATTACH;FMTTYPE=image/jpeg:https://metalexpress.sk/wp-content/uploads/2024/11/454637453_833481645426506_2085681353466335513_n.jpg
END:VEVENT
BEGIN:VEVENT
DTSTART;TZID=Europe/Bratislava:20241108T180000
DTEND;TZID=Europe/Bratislava:20241108T223000
DTSTAMP:20260422T103805
CREATED:20241103T103347Z
LAST-MODIFIED:20241103T103347Z
UID:51247-1731088800-1731105000@metalexpress.sk
SUMMARY:Fast Friday in Frankie!
DESCRIPTION:Cestou na náš výročný koncert dáme rýchlu piatkovú zastávku v nitrianskom Frankie Rock Club\, príď sa rozbiť\, bude metal!✊🏻 \nAcid Force – z banskobystrického kovošrotu šírime oldschool thrash pod krídlami švédskeho labelu Jawbreaker Records.\nOprobuj:\n\n \nRefore – Ogaři z Valašska drtia kov v smrtiacom tempe.\n\n \nMörghuul – večer prídu svojím špinavým blackspeedom znesvätiť brnenskí rúhači Mörghuul\nPrežehnať a vypočuť:\n\n \nManyac – od úvodu začneme prudko s domácimi thrashermi Manyac!\nKoštuj:\n\n \nDátum: 08.11.2024\nMiesto: Frankie Rock Club\, Nitra\nFB Udalosť: https://www.facebook.com/events/1238701260519141/\n\nText a opisy sú prebraté z FB Udalosti
URL:https://metalexpress.sk/event/fast-friday-in-frankie/
LOCATION:Frankie Rock Club\, Mostná 42\, Nitra\, Slovakia\, Nitra\, Nitra\, Slovenská republika
CATEGORIES:Kalendár,Koncerty,Udalosti
ATTACH;FMTTYPE=image/jpeg:https://metalexpress.sk/wp-content/uploads/2024/11/458948773_1076858941111443_3455918070697257660_n.jpg
END:VEVENT
END:VCALENDAR