BEGIN:VCALENDAR
VERSION:2.0
PRODID:-//MetalExpress - ECPv6.15.19//NONSGML v1.0//EN
CALSCALE:GREGORIAN
METHOD:PUBLISH
X-ORIGINAL-URL:https://metalexpress.sk
X-WR-CALDESC:Udalosti pre MetalExpress
REFRESH-INTERVAL;VALUE=DURATION:PT1H
X-Robots-Tag:noindex
X-PUBLISHED-TTL:PT1H
BEGIN:VTIMEZONE
TZID:Europe/Bratislava
BEGIN:DAYLIGHT
TZOFFSETFROM:+0100
TZOFFSETTO:+0200
TZNAME:CEST
DTSTART:20230326T010000
END:DAYLIGHT
BEGIN:STANDARD
TZOFFSETFROM:+0200
TZOFFSETTO:+0100
TZNAME:CET
DTSTART:20231029T010000
END:STANDARD
BEGIN:DAYLIGHT
TZOFFSETFROM:+0100
TZOFFSETTO:+0200
TZNAME:CEST
DTSTART:20240331T010000
END:DAYLIGHT
BEGIN:STANDARD
TZOFFSETFROM:+0200
TZOFFSETTO:+0100
TZNAME:CET
DTSTART:20241027T010000
END:STANDARD
BEGIN:DAYLIGHT
TZOFFSETFROM:+0100
TZOFFSETTO:+0200
TZNAME:CEST
DTSTART:20250330T010000
END:DAYLIGHT
BEGIN:STANDARD
TZOFFSETFROM:+0200
TZOFFSETTO:+0100
TZNAME:CET
DTSTART:20251026T010000
END:STANDARD
END:VTIMEZONE
BEGIN:VEVENT
DTSTART;TZID=Europe/Bratislava:20241101T180000
DTEND;TZID=Europe/Bratislava:20241101T220000
DTSTAMP:20260420T114608
CREATED:20241030T080507Z
LAST-MODIFIED:20241030T080507Z
UID:51197-1730484000-1730498400@metalexpress.sk
SUMMARY:Hardcore Punk Evening vol. IV - The Idoru - Damato - Black Passenger na Pink Whale!
DESCRIPTION:1.11. sa na palube lodi PUNK WHILE uskutoční táto namakaná akcia. Ako headliner večera sa predstaví The Idoru z Maďarska. Táto post hardcorová legenda brázdi pódia už viac ako dve dekády a po dlhej dobe konečne zamieri do Bratislavy! Sprevádzať ich budú hardcore metalové zoskupenie Damato a domáca hardcore punková mlátička Black Passenger.\nTu nesmieš chýbať!! \nThe Idoru\nPost hardcore\, HU\nwww.facebook.com/TheIdoruBand\nhttps://blackstarfoundation.bandcamp.com/album/undertow \nDamato\nHardcore metal\, SK\nwww.facebook.com/DamatoHC\nhttps://damatohc.bandcamp.com/album/triumf-smrti \nBlack Passenger\nHardcore punk\, SK\nwww.facebook.com/blackpassengerband\nhttps://blackpassenger.bandcamp.com/album/na-ierno \nDátum: 01.11.2024\nMiesto: Pink Whale\, Bratislava\nFB Udalosť: https://www.facebook.com/events/1038811130416926/
URL:https://metalexpress.sk/event/hardcore-punk-evening-vol-iv-the-idoru-damato-black-passenger-na-pink-whale/
LOCATION:Pink Whale\, Nábrežie armádneho generála Ludvíka Svobodu 1868rkm\, 811 02 Staré Mesto\, Bratislava\, Slovakia 0911 177 172\, Bratislava\, Bratislava\, 81102\, Slovenská republika
CATEGORIES:Kalendár,Koncerty,Udalosti
ATTACH;FMTTYPE=image/jpeg:https://metalexpress.sk/wp-content/uploads/2024/10/453416650_1023128483149495_4379207918474776667_n.jpg
END:VEVENT
END:VCALENDAR