BEGIN:VCALENDAR
VERSION:2.0
PRODID:-//MetalExpress - ECPv6.15.19//NONSGML v1.0//EN
CALSCALE:GREGORIAN
METHOD:PUBLISH
X-ORIGINAL-URL:https://metalexpress.sk
X-WR-CALDESC:Udalosti pre MetalExpress
REFRESH-INTERVAL;VALUE=DURATION:PT1H
X-Robots-Tag:noindex
X-PUBLISHED-TTL:PT1H
BEGIN:VTIMEZONE
TZID:Europe/Bratislava
BEGIN:DAYLIGHT
TZOFFSETFROM:+0100
TZOFFSETTO:+0200
TZNAME:CEST
DTSTART:20230326T010000
END:DAYLIGHT
BEGIN:STANDARD
TZOFFSETFROM:+0200
TZOFFSETTO:+0100
TZNAME:CET
DTSTART:20231029T010000
END:STANDARD
BEGIN:DAYLIGHT
TZOFFSETFROM:+0100
TZOFFSETTO:+0200
TZNAME:CEST
DTSTART:20240331T010000
END:DAYLIGHT
BEGIN:STANDARD
TZOFFSETFROM:+0200
TZOFFSETTO:+0100
TZNAME:CET
DTSTART:20241027T010000
END:STANDARD
BEGIN:DAYLIGHT
TZOFFSETFROM:+0100
TZOFFSETTO:+0200
TZNAME:CEST
DTSTART:20250330T010000
END:DAYLIGHT
BEGIN:STANDARD
TZOFFSETFROM:+0200
TZOFFSETTO:+0100
TZNAME:CET
DTSTART:20251026T010000
END:STANDARD
END:VTIMEZONE
BEGIN:VEVENT
DTSTART;TZID=Europe/Bratislava:20241031T170000
DTEND;TZID=Europe/Bratislava:20241031T223000
DTSTAMP:20260420T115444
CREATED:20241030T074101Z
LAST-MODIFIED:20241030T074101Z
UID:51193-1730394000-1730413800@metalexpress.sk
SUMMARY:30 rokov Antares vo Vrútkach!
DESCRIPTION:JE TO TAK\, BANDA. 30 ROKOV ZA NAMI\, TAKŽE TO JE CELKOM DOBRÝ ARGUMENT NA OSLAVU!!! Na tohtoročný Helouvín si nič iné neplánujte! Gratulovať prídu skvelí východniari BREAKING THE TAROT\, domáci pukáči ODPAD a namiesto kapely OHEN odohrajú BLOODY REDEMPTION. \nANTARES\nhttps://www.facebook.com/antaresdeathmetal\nBREAKING THE TAROT\nhttps://www.facebook.com/breakingthetarot\nODPAD \nhttps://www.facebook.com/punkodpad\nBLOODY REDEMPTION\nhttps://www.facebook.com/bloodyredemptionRA \nProgram:\n19:00 Breaking the Tarrot\n20:00 Odpad\n21:00 Antares\n22:00 Boody Redemption \nDátum: 31.10.2024\nMiesto: Mlyn\, Vrútky\nVstup: 10 €\nFB Udalosť: https://www.facebook.com/events/991663175886113
URL:https://metalexpress.sk/event/30-rokov-antares-vo-vrutkach/
LOCATION:RC Mlyn\, Matušovičovský rad 5652\, Vrútky\, Slovakia\, Vrútky\, Vrútky\, 038 61\, Slovenská republika
CATEGORIES:Kalendár,Koncerty,Udalosti
ATTACH;FMTTYPE=image/jpeg:https://metalexpress.sk/wp-content/uploads/2024/10/464268634_882908990483771_1673831666788217737_n.jpg
END:VEVENT
END:VCALENDAR