BEGIN:VCALENDAR
VERSION:2.0
PRODID:-//MetalExpress - ECPv6.15.19//NONSGML v1.0//EN
CALSCALE:GREGORIAN
METHOD:PUBLISH
X-WR-CALNAME:MetalExpress
X-ORIGINAL-URL:https://metalexpress.sk
X-WR-CALDESC:Udalosti pre MetalExpress
REFRESH-INTERVAL;VALUE=DURATION:PT1H
X-Robots-Tag:noindex
X-PUBLISHED-TTL:PT1H
BEGIN:VTIMEZONE
TZID:Europe/Bratislava
BEGIN:DAYLIGHT
TZOFFSETFROM:+0100
TZOFFSETTO:+0200
TZNAME:CEST
DTSTART:20230326T010000
END:DAYLIGHT
BEGIN:STANDARD
TZOFFSETFROM:+0200
TZOFFSETTO:+0100
TZNAME:CET
DTSTART:20231029T010000
END:STANDARD
BEGIN:DAYLIGHT
TZOFFSETFROM:+0100
TZOFFSETTO:+0200
TZNAME:CEST
DTSTART:20240331T010000
END:DAYLIGHT
BEGIN:STANDARD
TZOFFSETFROM:+0200
TZOFFSETTO:+0100
TZNAME:CET
DTSTART:20241027T010000
END:STANDARD
BEGIN:DAYLIGHT
TZOFFSETFROM:+0100
TZOFFSETTO:+0200
TZNAME:CEST
DTSTART:20250330T010000
END:DAYLIGHT
BEGIN:STANDARD
TZOFFSETFROM:+0200
TZOFFSETTO:+0100
TZNAME:CET
DTSTART:20251026T010000
END:STANDARD
END:VTIMEZONE
BEGIN:VEVENT
DTSTART;TZID=Europe/Bratislava:20241026T170000
DTEND;TZID=Europe/Bratislava:20241026T213000
DTSTAMP:20260420T143816
CREATED:20241017T172942Z
LAST-MODIFIED:20241017T172942Z
UID:51125-1729962000-1729978200@metalexpress.sk
SUMMARY:GOATBURNER a M.O.R.E. v Nitre!
DESCRIPTION:Rest of Noise productions present:\nGOATBURNER (Fínsko)\n– death metal ve dvou 🙂 za mikrofónom Keijo\,spevák z Rotten Sound \,ktorý mal tu čest a zaskočil aj v kapele Nasum ako spevák!!!\nhttps://www.facebook.com/GoatburnerMosh\nhttps://goatburner.bandcamp.com/album/fatal \nM.O.R.E. (Fínsko)\n– nadupaný hard core s dvoma speváčkami\,to musíš proste vidiet!!!\nhttps://www.facebook.com/mora09hc\nhttps://mora09hc.bandcamp.com/music \n+ support\nvstupné 13\,- na mieste len (majte presne!!!) \nText prebratý z FB udalosti
URL:https://metalexpress.sk/event/goatburner-a-m-o-r-e-v-nitre/
LOCATION:Mariatchi Nitra\, Mostná 35\, Nitra\, Slovakia\, Nitra\, Slovenská republika
CATEGORIES:Kalendár,Koncerty,Udalosti
ATTACH;FMTTYPE=image/jpeg:https://metalexpress.sk/wp-content/uploads/2024/10/462747589_9090882240943772_3675836486776206769_n.jpg
END:VEVENT
BEGIN:VEVENT
DTSTART;TZID=Europe/Bratislava:20241026T170000
DTEND;TZID=Europe/Bratislava:20241026T213000
DTSTAMP:20260420T143816
CREATED:20241017T174427Z
LAST-MODIFIED:20241017T174427Z
UID:51136-1729962000-1729978200@metalexpress.sk
SUMMARY:Zlolen vol. 2 v klube Barbar!
DESCRIPTION:JaKuBysKo ťa pozývajú na druhú udalosť tohto hlukového charakteru.\nNa Bar(bare) ako vždy nadupané pivné šlágre a iné.\nPochopiteľne bude aj vlezné. \nHluchovody ti dajú do pucu:\nHROBAR\nWe are Hrobar (Oni sú Hrobar)\nhttps://hrobar.bandcamp.com/ \nJAKUBYSKO\nhobby-violence-cháska\nhttps://jakubysko.bandcamp.com/ \nSANGRE DE IDIOTAS\nNeanderthal Drums & Bass Grindcore\nhttps://sangredeidiotas.bandcamp.com/ \nINCRIMINATE\nHardcore 90210\nhttps://incriminate.bandcamp.com/  \nDátum: 26.10.2024\nMiesto:\nVstup: 7 – 10 €\nFB Udalosť: https://www.facebook.com/events/1882728082137099/
URL:https://metalexpress.sk/event/zlolen-vol-2-v-klube-barbar/
LOCATION:BarBar Zvolen\, Nám. SNP 36\, Zvolen\, Slovakia\, Zvolen\, Banskobystrický kraj\, Slovenská republika
CATEGORIES:Kalendár,Koncerty,Udalosti
ATTACH;FMTTYPE=image/jpeg:https://metalexpress.sk/wp-content/uploads/2024/10/461975684_10232016403688171_1293447381886687028_n.jpg
END:VEVENT
BEGIN:VEVENT
DTSTART;TZID=Europe/Bratislava:20241026T173000
DTEND;TZID=Europe/Bratislava:20241026T213000
DTSTAMP:20260420T143816
CREATED:20241017T173411Z
LAST-MODIFIED:20241017T173411Z
UID:51128-1729963800-1729978200@metalexpress.sk
SUMMARY:Night of Chaos vol. 8 v Krupine!
DESCRIPTION:Ôsme pokračovanie Night Of Chaos na podporu UG scény v Krupine!!! \nVystúpia kapely\nREALMS OF CHAOS (Brutal Death – BB)\nhttps://www.facebook.com/RealmsOfChaosSVK\n \nPATRIARCHA (Black/Death – ZH)\nhttps://www.facebook.com/PatriarchaOfficial\n \nMODERN AGE DYING (Melodic/Death – NR)\nhttps://www.facebook.com/modernagedying\nhttps://youtube.com/playlist… \nSOLIPSISM (Urban Black – BB)\nhttps://www.facebook.com/solipsismband\n \nDátum: 26.10.2024\nMiesto: Royal Club\, Krupina\nZačiatok: 19:30\nKoniec: 24:00\nVstup: 7€\nFB Udalosť: https://www.facebook.com/events/324221354100770/
URL:https://metalexpress.sk/event/night-of-chaos-vol-8-v-krupine/
LOCATION:Royal Club Krupina\, Obchodná 4\, Krupina\, Slovakia\, Krupina\, Slovenská republika
CATEGORIES:Kalendár,Koncerty,Udalosti
ATTACH;FMTTYPE=image/jpeg:https://metalexpress.sk/wp-content/uploads/2024/10/452445381_10230188937580203_5681439737990263120_n.jpg
END:VEVENT
END:VCALENDAR