BEGIN:VCALENDAR
VERSION:2.0
PRODID:-//MetalExpress - ECPv6.15.19//NONSGML v1.0//EN
CALSCALE:GREGORIAN
METHOD:PUBLISH
X-ORIGINAL-URL:https://metalexpress.sk
X-WR-CALDESC:Udalosti pre MetalExpress
REFRESH-INTERVAL;VALUE=DURATION:PT1H
X-Robots-Tag:noindex
X-PUBLISHED-TTL:PT1H
BEGIN:VTIMEZONE
TZID:Europe/Bratislava
BEGIN:DAYLIGHT
TZOFFSETFROM:+0100
TZOFFSETTO:+0200
TZNAME:CEST
DTSTART:20230326T010000
END:DAYLIGHT
BEGIN:STANDARD
TZOFFSETFROM:+0200
TZOFFSETTO:+0100
TZNAME:CET
DTSTART:20231029T010000
END:STANDARD
BEGIN:DAYLIGHT
TZOFFSETFROM:+0100
TZOFFSETTO:+0200
TZNAME:CEST
DTSTART:20240331T010000
END:DAYLIGHT
BEGIN:STANDARD
TZOFFSETFROM:+0200
TZOFFSETTO:+0100
TZNAME:CET
DTSTART:20241027T010000
END:STANDARD
BEGIN:DAYLIGHT
TZOFFSETFROM:+0100
TZOFFSETTO:+0200
TZNAME:CEST
DTSTART:20250330T010000
END:DAYLIGHT
BEGIN:STANDARD
TZOFFSETFROM:+0200
TZOFFSETTO:+0100
TZNAME:CET
DTSTART:20251026T010000
END:STANDARD
END:VTIMEZONE
BEGIN:VEVENT
DTSTART;TZID=Europe/Bratislava:20241016T170000
DTEND;TZID=Europe/Bratislava:20241016T200000
DTSTAMP:20260420T131959
CREATED:20241015T161845Z
LAST-MODIFIED:20241015T161845Z
UID:51101-1729098000-1729108800@metalexpress.sk
SUMMARY:Hluk na dedine č.7
DESCRIPTION:Unearthly Rites (Fínsko) – ťažký\, pochmúrny death metal položený na crustových základoch. Lyrika proti korporátnej chamtivosti\, environmentálnej nedbanlivosti s ostrým poukázaním na tých\, ktorí sú vinní za ekocídu a ničenie klímy. Proste keď punks hrajú death metal. Debutový album „Ecdysis“ vyšiel na Prosthetic records a členovia pôsobia v ďalších kapelách ako Frogskin\, Dome Runner\, Praise\, Hexhammer alebo Hygellig.\nhttps://unearthlyrites.bandcamp.com/ \nTunkio (Jyväskylä\, Fínsko) – bublajúci\, priamočiary goregrind neprekračujúc hranice žánru. Na konte množstvo nahrávok v podobe splitov a singlov\, taktiež turné po USA\, Írsku alebo Anglicku. Obaja členovia sa vyskytujú v rôznych kapelách ako Beer Terror\, Rust\, Lawnmower\, Hävitys a mnoho ďalších.\nhttps://tunkio.bandcamp.com/ \nRuineum (Osko\, Zvolen) – tam\, kde je vôľa tam je aj cesta. Založiť si kapelu s ľuďmi\, ktorí v živote death metal nepočuli a prepracovať sa s ňou k aktívnemu hraniu po celej republike\, nahrať kvalitné\, nadpriemerné demo a v priebehu 2 rokov od jeho vydania napísať materiál na debutový album dokáže naozaj len pre death metal zapálený nadšenec. Hudobne sa jedná o strednotempový death metal so skvelo nafrázovaným vokálom vo viacerých polohách\, zádumčivými gitarovými melódiami\, ťažkými bicími a dunivou basou. Takto sa to robí do psej matere!\nhttps://ruineum.bandcamp.com/album/demo-2022 \n7M$ (Osko\, Zvolen) – ryby\, marsky\, rožky\, čapy a údržba\nhttps://sedemminutstrachu.bandcamp.com/ \nDátum: 16.10.2024\nMiesto: Pohoda Pub and Pizza\, Lovčica\nVstup: 10€\nFB Event: https://www.facebook.com/events/1190095638933603/
URL:https://metalexpress.sk/event/hluk-na-dedine-c-7/
LOCATION:Pohoda Pub & Pizza\, Lovčica\, Lovčica 118\, Lovcica\, Lovčica\, Slovenská republika
CATEGORIES:Kalendár,Koncerty,Udalosti
ATTACH;FMTTYPE=image/jpeg:https://metalexpress.sk/wp-content/uploads/2024/09/459758693_8128962910529829_1971254641119026712_n.jpg
END:VEVENT
END:VCALENDAR