BEGIN:VCALENDAR
VERSION:2.0
PRODID:-//MetalExpress - ECPv6.15.19//NONSGML v1.0//EN
CALSCALE:GREGORIAN
METHOD:PUBLISH
X-WR-CALNAME:MetalExpress
X-ORIGINAL-URL:https://metalexpress.sk
X-WR-CALDESC:Udalosti pre MetalExpress
REFRESH-INTERVAL;VALUE=DURATION:PT1H
X-Robots-Tag:noindex
X-PUBLISHED-TTL:PT1H
BEGIN:VTIMEZONE
TZID:Europe/Bratislava
BEGIN:DAYLIGHT
TZOFFSETFROM:+0100
TZOFFSETTO:+0200
TZNAME:CEST
DTSTART:20230326T010000
END:DAYLIGHT
BEGIN:STANDARD
TZOFFSETFROM:+0200
TZOFFSETTO:+0100
TZNAME:CET
DTSTART:20231029T010000
END:STANDARD
BEGIN:DAYLIGHT
TZOFFSETFROM:+0100
TZOFFSETTO:+0200
TZNAME:CEST
DTSTART:20240331T010000
END:DAYLIGHT
BEGIN:STANDARD
TZOFFSETFROM:+0200
TZOFFSETTO:+0100
TZNAME:CET
DTSTART:20241027T010000
END:STANDARD
BEGIN:DAYLIGHT
TZOFFSETFROM:+0100
TZOFFSETTO:+0200
TZNAME:CEST
DTSTART:20250330T010000
END:DAYLIGHT
BEGIN:STANDARD
TZOFFSETFROM:+0200
TZOFFSETTO:+0100
TZNAME:CET
DTSTART:20251026T010000
END:STANDARD
END:VTIMEZONE
BEGIN:VEVENT
DTSTART;TZID=Europe/Bratislava:20241005T170000
DTEND;TZID=Europe/Bratislava:20241005T200000
DTSTAMP:20260420T131839
CREATED:20240919T085031Z
LAST-MODIFIED:20240919T085031Z
UID:50999-1728147600-1728158400@metalexpress.sk
SUMMARY:PREHISTORIC WAR CULT a DOLCHSTOß na Werande!
DESCRIPTION:PREHISTORIC WAR CULT\nBrutálny\, smrťou nasiaknutý\, warmetal v štýle Revenge\, Antichrist Siege Machine\, Black Witchery z Nemecka\nhttps://prehistoricwarcult.bandcamp.com/ \nDOLCHSTOß\nKrutý primitívny black metal honiaci si na ranných 90s Nórskych teenage kazeťákových nahrávkach. Muzika\, po kerej sa rozbehneš do rozbahnených Dunajských brehov so svietnikom a kriedou nafotiť pár snímkov na svoje stredoškolské tablo a prvú garageband demo kazetu.\nhttps://dolchstosz.bandcamp.com \n+ predkapela\, ak ju správne vylúštime v Ouiji \nDátum: 5.10.2024\nŠtart: 19.00\nMiesto: Weranda\, Bratislava\nVstup: 10 EUR(do 18 rokov – 5E)\nposter: Lidl\nFB event: https://www.facebook.com/events/3819338351716392/
URL:https://metalexpress.sk/event/prehistoric-war-cult-a-dolchstos-na-werande/
LOCATION:Weranda\, Májová 3303/23\, 851 01 Bratislava-Petržalka\, Bratislava\, Slovenská republika
CATEGORIES:Kalendár,Koncerty,Udalosti
ATTACH;FMTTYPE=image/jpeg:https://metalexpress.sk/wp-content/uploads/2024/09/459753379_948228997346545_805967379075608800_n.jpg
END:VEVENT
END:VCALENDAR