BEGIN:VCALENDAR
VERSION:2.0
PRODID:-//MetalExpress - ECPv6.15.19//NONSGML v1.0//EN
CALSCALE:GREGORIAN
METHOD:PUBLISH
X-ORIGINAL-URL:https://metalexpress.sk
X-WR-CALDESC:Udalosti pre MetalExpress
REFRESH-INTERVAL;VALUE=DURATION:PT1H
X-Robots-Tag:noindex
X-PUBLISHED-TTL:PT1H
BEGIN:VTIMEZONE
TZID:Europe/Bratislava
BEGIN:DAYLIGHT
TZOFFSETFROM:+0100
TZOFFSETTO:+0200
TZNAME:CEST
DTSTART:20230326T010000
END:DAYLIGHT
BEGIN:STANDARD
TZOFFSETFROM:+0200
TZOFFSETTO:+0100
TZNAME:CET
DTSTART:20231029T010000
END:STANDARD
BEGIN:DAYLIGHT
TZOFFSETFROM:+0100
TZOFFSETTO:+0200
TZNAME:CEST
DTSTART:20240331T010000
END:DAYLIGHT
BEGIN:STANDARD
TZOFFSETFROM:+0200
TZOFFSETTO:+0100
TZNAME:CET
DTSTART:20241027T010000
END:STANDARD
BEGIN:DAYLIGHT
TZOFFSETFROM:+0100
TZOFFSETTO:+0200
TZNAME:CEST
DTSTART:20250330T010000
END:DAYLIGHT
BEGIN:STANDARD
TZOFFSETFROM:+0200
TZOFFSETTO:+0100
TZNAME:CET
DTSTART:20251026T010000
END:STANDARD
END:VTIMEZONE
BEGIN:VEVENT
DTSTART;TZID=Europe/Bratislava:20240922T170000
DTEND;TZID=Europe/Bratislava:20240922T200000
DTSTAMP:20260420T155953
CREATED:20240919T083123Z
LAST-MODIFIED:20240919T083123Z
UID:50996-1727024400-1727035200@metalexpress.sk
SUMMARY:A.N.F. - FACEPALM NATION a RAID SIREN v nedeľu na Garážach v Bratislave!
DESCRIPTION:A.N.F.\n(aka ALWAYS NEVER FUN)\nmafiánsky Siciliánsky powerviolence fastcore s legendárnym Totom na mikrofóne – kto ho nezná\, je príliš mladý na tento koncert!!!\nhttps://alwaysneverfun.bandcamp.com/\nhttps://www.facebook.com/alwaysneverfun \nFACEPALM NATION\nGermánska hardcore/grindcore hrubota\nhttps://www.facebook.com/facepalmXnation\nhttps://facepalmnation.bandcamp.com \nRAID SIREN\nlokálny mix šeckých underground žánrov!\nhttps://raidsiren.bandcamp.com/ \n22.9. 19.00\nBratislava @ Garáže pod Prístavným mostom\nNa mieste vegan buffeé s pivom Jurki!\n19.00 – 22.00\nvstup: 7 – 10 EUR(do 18 rokov – 5E)\nposter: Lidl\nFB Udalosť: https://www.facebook.com/events/1041854257522842/
URL:https://metalexpress.sk/event/a-n-f-facepalm-nation-a-raid-siren-v-nedelu-na-garazach-v-bratislave/
LOCATION:Garáže pod Prístavným mostom Bratislava\, Prístavná 9\, Bratislava\, Bratislava\, Bratislava\, Slovenská republika
CATEGORIES:Kalendár,Koncerty,Udalosti
ATTACH;FMTTYPE=image/jpeg:https://metalexpress.sk/wp-content/uploads/2024/09/460426998_948200050682773_7700011414887549209_n.jpg
END:VEVENT
BEGIN:VEVENT
DTSTART;TZID=Europe/Bratislava:20240922T170000
DTEND;TZID=Europe/Bratislava:20240922T210000
DTSTAMP:20260420T155953
CREATED:20240917T090509Z
LAST-MODIFIED:20240917T090509Z
UID:50990-1727024400-1727038800@metalexpress.sk
SUMMARY:Defacement - Gorrch a Ceremony of Silence v nedeľu na Pink Whale!
DESCRIPTION:Death / blackmetalová temnota v podpalubí! \nDefacement – blackened death metal (NL)\nDefacement je blackened death metalová kapela založená v Utrechte v roku 2019\, v ktorej pôsobia členovia z Líbye\, Talianska a Holandska. Ako pôvodne vedľajší projekt black metalovej kapely Deathcrush\, sa kapela Defacement vyvinula do jedného z najsľubnejších počinov na dissonant black / death metalovej scéne\, ktorý sa nebojí experimentovania. Ich debutový album „Deviant“ a self-titled nasledovník prinášajú silné vyjadrenia o násilí a zúfalstve skúmajúc vnútorný boj spôsobený pocitom chýbajúceho zmyslu života. Album siaha od chaotických blastov až po melancholické pomalé pasáže a ambientné medzihry vytvárajúce atmosférickú cestu do hlbiny mysle. Po troch rokoch sa kapela vracia s novým albumom „Duality“\, epickým zväzkom temných emanácií\, ktorý vytvára pohlcujúcu cestu do prázdna.\nhttps://defacementofficial.bandcamp.com/\nhttps://www.facebook.com/officialdefacement/ \nGorrch – black metal (IT)\nGorrch je duo pochádzajúce zo severovýchodného regiónu Benátskych Álp\, ktoré hrá nekompromisný black metal využívajúc moderné štruktúry s dotykom progresívnych postupov. V roku 2013 vydali rovnomenné EP\, nasledované albumom „Nera Estasi“\, a ďalším EP „Introvertere“ v roku 2020. Ich živé vystúpenia sú zriedkavé\, no o to viac dokážu navodiť mystickú atmosféru s okultným nádychom\, ktorú dvojica prinesie aj do bratislavského Pink Whalu!\nhttps://gorrch.bandcamp.com/ \nCeremony of Silence – blackened death metal (SK)\nCeremony of Silence prináša nekompromisný death metal\, balansuje na hranici technickosti a disonancie\, a to všetko je zabalené v ťaživej a temnej atmosfére\, ktorá odkazuje na black metalové pozadie autorskej dvojice Svjatogor a Vilozof (Nevaloth\, Abbey Ov Thelema\, Porenut). Ich debut “Oútis“ vyšiel pod americkým labelom Willowtip Records a po piatich rokoch sa dočkal následníka s názvom “Hálios“\, ktorý uzrel svetlo sveta júli tohto roku.\nhttps://ceremonyofsilence.bandcamp.com/album/h-lios\nhttps://www.facebook.com/ceremonyofsilence/ \nDÁTUM: 22.09.2024\nMIESTO: Pink Whale\, Bratislava\nPREDPREDAJ 12€ / NA MIESTE 15€:\nhttps://goout.net/…/defacement+gorrch+ceremony…/szlovix/\nFB Udalosť: https://www.facebook.com/events/509841084831069/ \nPoužitý text pochádza z FB udalosti
URL:https://metalexpress.sk/event/defacement-gorrch-a-ceremony-of-silence-v-nedelu-na-pink-whale/
LOCATION:Pink Whale\, Nábrežie armádneho generála Ludvíka Svobodu 1868rkm\, 811 02 Staré Mesto\, Bratislava\, Slovakia 0911 177 172\, Bratislava\, Bratislava\, 81102\, Slovenská republika
CATEGORIES:Kalendár,Koncerty,Udalosti
ATTACH;FMTTYPE=image/jpeg:https://metalexpress.sk/wp-content/uploads/2024/08/453903916_830500062519089_7915293600693824790_n.jpg
END:VEVENT
END:VCALENDAR