BEGIN:VCALENDAR
VERSION:2.0
PRODID:-//MetalExpress - ECPv6.15.19//NONSGML v1.0//EN
CALSCALE:GREGORIAN
METHOD:PUBLISH
X-ORIGINAL-URL:https://metalexpress.sk
X-WR-CALDESC:Udalosti pre MetalExpress
REFRESH-INTERVAL;VALUE=DURATION:PT1H
X-Robots-Tag:noindex
X-PUBLISHED-TTL:PT1H
BEGIN:VTIMEZONE
TZID:Europe/Bratislava
BEGIN:DAYLIGHT
TZOFFSETFROM:+0100
TZOFFSETTO:+0200
TZNAME:CEST
DTSTART:20230326T010000
END:DAYLIGHT
BEGIN:STANDARD
TZOFFSETFROM:+0200
TZOFFSETTO:+0100
TZNAME:CET
DTSTART:20231029T010000
END:STANDARD
BEGIN:DAYLIGHT
TZOFFSETFROM:+0100
TZOFFSETTO:+0200
TZNAME:CEST
DTSTART:20240331T010000
END:DAYLIGHT
BEGIN:STANDARD
TZOFFSETFROM:+0200
TZOFFSETTO:+0100
TZNAME:CET
DTSTART:20241027T010000
END:STANDARD
BEGIN:DAYLIGHT
TZOFFSETFROM:+0100
TZOFFSETTO:+0200
TZNAME:CEST
DTSTART:20250330T010000
END:DAYLIGHT
BEGIN:STANDARD
TZOFFSETFROM:+0200
TZOFFSETTO:+0100
TZNAME:CET
DTSTART:20251026T010000
END:STANDARD
END:VTIMEZONE
BEGIN:VEVENT
DTSTART;TZID=Europe/Bratislava:20240920T173000
DTEND;TZID=Europe/Bratislava:20240920T200000
DTSTAMP:20260420T160543
CREATED:20240917T092734Z
LAST-MODIFIED:20240917T092734Z
UID:50992-1726853400-1726862400@metalexpress.sk
SUMMARY:Rituál metal večer na Garážach v Bratislave!
DESCRIPTION:Do Bratislavy si to namierili tento týždeň v piatok dve kapely z Čiech\, pričom obidve prezentujú vo svojej tvorbe temnotu. Black metal budete počuť od kapely NĀV a hoci je v posledných dňoch dosť bahna aj po záplavách\, ďalšiu dávku prinesie Ł​Ū​T z Českých Budějovíc. Tieto kapely sa ešte v Bratislave pokiaľ viem neukázali\, takže máte jedinečnú príležitosť vidieť ich po prvýkrát. Ak to počasie bude dovoľovať\, stretneme sa v piatok na Garážach.  \nNĀV\nJindrichuv Hradec – Black metal\nhttps://navcult.bandcamp.com/ \nŁ​Ū​T\nČeské Budějovice_/ex TOSIRO/ – Sludge\nhttps://lutband.bandcamp.com/ \nMiesto: Garáže pod Prístavným mostom\, Bratislava\nDátum: 20.09.2024\nVstup: 6€ /mládež 5€\nFB udalosť: https://www.facebook.com/events/1028583252070255/
URL:https://metalexpress.sk/event/ritual-metal-vecer-na-garazach-v-bratislave/
LOCATION:Garáže pod Prístavným mostom Bratislava\, Prístavná 9\, Bratislava\, Bratislava\, Bratislava\, Slovenská republika
CATEGORIES:Kalendár,Koncerty,Udalosti
ATTACH;FMTTYPE=image/jpeg:https://metalexpress.sk/wp-content/uploads/2024/09/459792616_1015968756984169_5269572684905979861_n.jpg
END:VEVENT
END:VCALENDAR