BEGIN:VCALENDAR
VERSION:2.0
PRODID:-//MetalExpress - ECPv6.15.19//NONSGML v1.0//EN
CALSCALE:GREGORIAN
METHOD:PUBLISH
X-ORIGINAL-URL:https://metalexpress.sk
X-WR-CALDESC:Udalosti pre MetalExpress
REFRESH-INTERVAL;VALUE=DURATION:PT1H
X-Robots-Tag:noindex
X-PUBLISHED-TTL:PT1H
BEGIN:VTIMEZONE
TZID:Europe/Bratislava
BEGIN:DAYLIGHT
TZOFFSETFROM:+0100
TZOFFSETTO:+0200
TZNAME:CEST
DTSTART:20230326T010000
END:DAYLIGHT
BEGIN:STANDARD
TZOFFSETFROM:+0200
TZOFFSETTO:+0100
TZNAME:CET
DTSTART:20231029T010000
END:STANDARD
BEGIN:DAYLIGHT
TZOFFSETFROM:+0100
TZOFFSETTO:+0200
TZNAME:CEST
DTSTART:20240331T010000
END:DAYLIGHT
BEGIN:STANDARD
TZOFFSETFROM:+0200
TZOFFSETTO:+0100
TZNAME:CET
DTSTART:20241027T010000
END:STANDARD
BEGIN:DAYLIGHT
TZOFFSETFROM:+0100
TZOFFSETTO:+0200
TZNAME:CEST
DTSTART:20250330T010000
END:DAYLIGHT
BEGIN:STANDARD
TZOFFSETFROM:+0200
TZOFFSETTO:+0100
TZNAME:CET
DTSTART:20251026T010000
END:STANDARD
END:VTIMEZONE
BEGIN:VEVENT
DTSTART;TZID=Europe/Bratislava:20240824T170000
DTEND;TZID=Europe/Bratislava:20240824T210000
DTSTAMP:20260420T172745
CREATED:20240822T061950Z
LAST-MODIFIED:20240822T061950Z
UID:50871-1724518800-1724533200@metalexpress.sk
SUMMARY:MANTRA - BRAIN DEALERS - HOMO PRIMITIVE - STYPHERYT - na Garážach v Bratislave!
DESCRIPTION:Túto sobotu sa na Garážach v Bratislave bude konať koncert kapely až z ďalekej Kostariky menom MANTRA. Zvyšok účinkujúcich doplnia slovenské kapely – BRAIN DEALERS\, HOMO PRIMITIVE a STYPHERYT.  \nMANTRA\nThrash metal z Kostariky\nhttps://mantracr.bandcamp.com/\nhttps://www.youtube.com/@mantrathrash-deathmetalcos9634 \nBRAIN DEALERS\nDeath metal \, Zvolen\nhttps://www.facebook.com/braindealers\nhttps://open.spotify.com/artist/3xcXMxO9Re1au04I59Y3Ye\nhttps://braindealers.bandcamp.com/\nhttps://www.youtube.com/channel/UCwTLIXwQPE0JCujjoYDrBng\nHOMO PRIMITIVE\nTechnik Thrash \, BA\nhttps://open.spotify.com/artist/1RdLE4GdYlQaD2sW9Q5J1X \nSTYPHERYT\nštípe riť grind metal\,\nhttps://www.facebook.com/stypheryt \nDátum: 24.08.2024\nMiesto: Garáže pod Prístavným mostom\nVstup: 5 – 10 €\nFB Udalosť: https://www.facebook.com/events/1184039536348520/
URL:https://metalexpress.sk/event/mantra-brain-dealers-homo-primitive-stypheryt-na-garazach-v-bratislave/
LOCATION:Garáže pod Prístavným mostom Bratislava\, Prístavná 9\, Bratislava\, Bratislava\, Bratislava\, Slovenská republika
CATEGORIES:Kalendár,Koncerty,Udalosti
ATTACH;FMTTYPE=image/jpeg:https://metalexpress.sk/wp-content/uploads/2024/08/455248927_994332595814452_7670876332757156468_n.jpg
END:VEVENT
END:VCALENDAR