BEGIN:VCALENDAR
VERSION:2.0
PRODID:-//MetalExpress - ECPv6.15.19//NONSGML v1.0//EN
CALSCALE:GREGORIAN
METHOD:PUBLISH
X-WR-CALNAME:MetalExpress
X-ORIGINAL-URL:https://metalexpress.sk
X-WR-CALDESC:Udalosti pre MetalExpress
REFRESH-INTERVAL;VALUE=DURATION:PT1H
X-Robots-Tag:noindex
X-PUBLISHED-TTL:PT1H
BEGIN:VTIMEZONE
TZID:Europe/Bratislava
BEGIN:DAYLIGHT
TZOFFSETFROM:+0100
TZOFFSETTO:+0200
TZNAME:CEST
DTSTART:20230326T010000
END:DAYLIGHT
BEGIN:STANDARD
TZOFFSETFROM:+0200
TZOFFSETTO:+0100
TZNAME:CET
DTSTART:20231029T010000
END:STANDARD
BEGIN:DAYLIGHT
TZOFFSETFROM:+0100
TZOFFSETTO:+0200
TZNAME:CEST
DTSTART:20240331T010000
END:DAYLIGHT
BEGIN:STANDARD
TZOFFSETFROM:+0200
TZOFFSETTO:+0100
TZNAME:CET
DTSTART:20241027T010000
END:STANDARD
BEGIN:DAYLIGHT
TZOFFSETFROM:+0100
TZOFFSETTO:+0200
TZNAME:CEST
DTSTART:20250330T010000
END:DAYLIGHT
BEGIN:STANDARD
TZOFFSETFROM:+0200
TZOFFSETTO:+0100
TZNAME:CET
DTSTART:20251026T010000
END:STANDARD
END:VTIMEZONE
BEGIN:VEVENT
DTSTART;TZID=Europe/Bratislava:20240823T170000
DTEND;TZID=Europe/Bratislava:20240823T200000
DTSTAMP:20260420T172635
CREATED:20240822T060711Z
LAST-MODIFIED:20240822T060711Z
UID:50867-1724432400-1724443200@metalexpress.sk
SUMMARY:SKULLD - FESSUS - INDOCRINATE - RUINEUM - na Garážach v Bratislave!
DESCRIPTION:V piatok 23.augusta na Garážach takýto nájeb do hlavinky:\nSkulld (ITA)\nAntifascist\, feminist\, occult death metal punk from Italy.\nhttps://skulldband.bandcamp.com/album/reinventing-darkness\nFessus (AT)\nHnilý old school death metal z Viedne\nhttps://fessus.bandcamp.com/album/pilgrims-of-morbidity\nIndocrinate (AT)\nDostrihaný hcpunk s prímesami grindu tiež od vedľa\nhttps://indoctrinate.bandcamp.com/album/failbringer\nRuineum (SK)\nDeath doom metal zo Zvolänä\nhttps://ruineum.bandcamp.com/album/demo-2022 \nDátum: 23.08.2024\nMiesto: Garáže pod Prístavným mostom\, Bratislava\nVstup: 7+ €\nFB Udalosť: https://www.facebook.com/events/342489658925948/ \nPoužitý text pochádza z FB udalosti
URL:https://metalexpress.sk/event/skulld-fessus-indocrinate-ruineum-na-garazach-v-bratislave/
LOCATION:Garáže pod Prístavným mostom Bratislava\, Prístavná 9\, Bratislava\, Bratislava\, Bratislava\, Slovenská republika
CATEGORIES:Kalendár,Koncerty,Udalosti
ATTACH;FMTTYPE=image/jpeg:https://metalexpress.sk/wp-content/uploads/2024/08/453969573_986658113248567_7064353402079894192_n.jpg
END:VEVENT
END:VCALENDAR