BEGIN:VCALENDAR
VERSION:2.0
PRODID:-//MetalExpress - ECPv6.15.19//NONSGML v1.0//EN
CALSCALE:GREGORIAN
METHOD:PUBLISH
X-ORIGINAL-URL:https://metalexpress.sk
X-WR-CALDESC:Udalosti pre MetalExpress
REFRESH-INTERVAL;VALUE=DURATION:PT1H
X-Robots-Tag:noindex
X-PUBLISHED-TTL:PT1H
BEGIN:VTIMEZONE
TZID:Europe/Bratislava
BEGIN:DAYLIGHT
TZOFFSETFROM:+0100
TZOFFSETTO:+0200
TZNAME:CEST
DTSTART:20230326T010000
END:DAYLIGHT
BEGIN:STANDARD
TZOFFSETFROM:+0200
TZOFFSETTO:+0100
TZNAME:CET
DTSTART:20231029T010000
END:STANDARD
BEGIN:DAYLIGHT
TZOFFSETFROM:+0100
TZOFFSETTO:+0200
TZNAME:CEST
DTSTART:20240331T010000
END:DAYLIGHT
BEGIN:STANDARD
TZOFFSETFROM:+0200
TZOFFSETTO:+0100
TZNAME:CET
DTSTART:20241027T010000
END:STANDARD
BEGIN:DAYLIGHT
TZOFFSETFROM:+0100
TZOFFSETTO:+0200
TZNAME:CEST
DTSTART:20250330T010000
END:DAYLIGHT
BEGIN:STANDARD
TZOFFSETFROM:+0200
TZOFFSETTO:+0100
TZNAME:CET
DTSTART:20251026T010000
END:STANDARD
END:VTIMEZONE
BEGIN:VEVENT
DTSTART;TZID=Europe/Bratislava:20240801T163000
DTEND;TZID=Europe/Bratislava:20240801T203000
DTSTAMP:20260420T173312
CREATED:20240731T085803Z
LAST-MODIFIED:20240731T085803Z
UID:50738-1722529800-1722544200@metalexpress.sk
SUMMARY:Suffocation vo štvrtok v Collosseum Clube v Košiciach!
DESCRIPTION:Je třeba představovat legendární „vynálezce“ slamu SUFFOCATION\, jednu z nejlepších koncertních kapel a 35 let jednoho z nejosobitějších interpretů death metalu\, který jeho hranice posunul už několikrát?\nJejich hudba snese nejpřísnější měřítka\, ať se to týká techniky\, skladatelství či osobitosti. Každé z jejich 8 alb je unikum\, každé z nich přineslo inteligentní brutalitu\, která vychází z tradična a přitom zachovává progresivní přístup. Každá deska SUFFOCATION posunuje nejen tvář kapely\, ale i celého žánru\, a tak to bez pochyb je i s 9. deskou „Hymns from the Apocrypha“\, která vyšla 3. listopadu. \nLokální support: \nSURGERY / death metal / Poprad\nhttps://www.facebook.com/Surgery.Poprad/\nhttps://www.instagram.com/surgery_osdmslovakia/\n\n \nSOULS TO DENY / death metal / Liptovský Mikuláš\nhttps://www.facebook.com/SoulsToDeny/\nhttps://www.instagram.com/soulstodenyband/\n\n \n18:00 doors\n18:30 – 19:15 Souls to Deny\n19:35 – 20:20 Surgery\n20:50 – 22:00 suffocation\nPředprodej končí o půlnoci před koncertem\, poté budou vstupenky v prodeji i na místě. \nDátum: 01.08.2024\nMiesto: Collosseum Club\, Košice\nVstup: Nejlevnější lístky: https://obscure.cz/cs/tickets/detail/id/705\nA dále v sítích ticketportal:\nhttps://www.ticketportal.sk/event/SUFFOCATION-supports\nFB Udalosť: https://www.facebook.com/events/765080298615890/ \nText prebratý z FB udalosti
URL:https://metalexpress.sk/event/suffocation-vo-stvrtok-v-collosseum-clube-v-kosiciach/
LOCATION:Collosseum\, Dominikánske námestie 35\, Košice\, Košice\, 04001\, Slovenská republika
CATEGORIES:Kalendár,Koncerty,Udalosti
ATTACH;FMTTYPE=image/jpeg:https://metalexpress.sk/wp-content/uploads/2024/07/450803959_786697800285436_3107046103839932625_n.jpg
END:VEVENT
END:VCALENDAR