BEGIN:VCALENDAR
VERSION:2.0
PRODID:-//MetalExpress - ECPv6.15.19//NONSGML v1.0//EN
CALSCALE:GREGORIAN
METHOD:PUBLISH
X-ORIGINAL-URL:https://metalexpress.sk
X-WR-CALDESC:Udalosti pre MetalExpress
REFRESH-INTERVAL;VALUE=DURATION:PT1H
X-Robots-Tag:noindex
X-PUBLISHED-TTL:PT1H
BEGIN:VTIMEZONE
TZID:Europe/Bratislava
BEGIN:DAYLIGHT
TZOFFSETFROM:+0100
TZOFFSETTO:+0200
TZNAME:CEST
DTSTART:20230326T010000
END:DAYLIGHT
BEGIN:STANDARD
TZOFFSETFROM:+0200
TZOFFSETTO:+0100
TZNAME:CET
DTSTART:20231029T010000
END:STANDARD
BEGIN:DAYLIGHT
TZOFFSETFROM:+0100
TZOFFSETTO:+0200
TZNAME:CEST
DTSTART:20240331T010000
END:DAYLIGHT
BEGIN:STANDARD
TZOFFSETFROM:+0200
TZOFFSETTO:+0100
TZNAME:CET
DTSTART:20241027T010000
END:STANDARD
BEGIN:DAYLIGHT
TZOFFSETFROM:+0100
TZOFFSETTO:+0200
TZNAME:CEST
DTSTART:20250330T010000
END:DAYLIGHT
BEGIN:STANDARD
TZOFFSETFROM:+0200
TZOFFSETTO:+0100
TZNAME:CET
DTSTART:20251026T010000
END:STANDARD
END:VTIMEZONE
BEGIN:VEVENT
DTSTART;TZID=Europe/Bratislava:20240728T170000
DTEND;TZID=Europe/Bratislava:20240728T210000
DTSTAMP:20260420T185838
CREATED:20240722T130018Z
LAST-MODIFIED:20240722T130018Z
UID:50655-1722186000-1722200400@metalexpress.sk
SUMMARY:STONED JESUS a DOPELORD sa zastavia v Bratislave!
DESCRIPTION:Koncom júla sa u nás zastaví legendárne ukrajinské trio STONED JESUS!\nOkrem dnes už dobre známeho albumu Seven Thunders Roar (2012) predstaví trio premiéru svojho piateho LP nesúci názov „Father Light“.\nAko support zahrajú ich poľskí stoner/doom dritiaci kolegovia DOPELORD\, ktorí nám predstavia ich nový album „Songs for Satan“\, ktorý vyšiel koncom minulého roka.\nNávštevou show si môžete nielen vychutnať kvalitný kultúrny zážitok\, ale aj podporiť Ukrajinu a pomôcť jej vyhrať aj na kultúrnom fronte!\n___________________________________________\nSTONED JESUS (UA) – psych/doom/prog\nFB: https://www.facebook.com/stonedjesusband\n\nDOPELORD (PL) – stoner-metal/doom-metal\nFB: https://www.facebook.com/Dopelord666\nhttps://www.youtube.com/watch?v=_LzyPIqatCg
URL:https://metalexpress.sk/event/stoned-jesus-a-dopelord-sa-zastavia-v-bratislave/
LOCATION:Pink Whale\, Nábrežie armádneho generála Ludvíka Svobodu 1868rkm\, 811 02 Staré Mesto\, Bratislava\, Slovakia 0911 177 172\, Bratislava\, Bratislava\, 81102\, Slovenská republika
CATEGORIES:Kalendár,Koncerty,Udalosti
ATTACH;FMTTYPE=image/jpeg:https://metalexpress.sk/wp-content/uploads/2024/07/431178001_1179139913501897_5716997723306301673_n.jpg
END:VEVENT
END:VCALENDAR