BEGIN:VCALENDAR
VERSION:2.0
PRODID:-//MetalExpress - ECPv6.15.19//NONSGML v1.0//EN
CALSCALE:GREGORIAN
METHOD:PUBLISH
X-WR-CALNAME:MetalExpress
X-ORIGINAL-URL:https://metalexpress.sk
X-WR-CALDESC:Udalosti pre MetalExpress
REFRESH-INTERVAL;VALUE=DURATION:PT1H
X-Robots-Tag:noindex
X-PUBLISHED-TTL:PT1H
BEGIN:VTIMEZONE
TZID:Europe/Bratislava
BEGIN:DAYLIGHT
TZOFFSETFROM:+0100
TZOFFSETTO:+0200
TZNAME:CEST
DTSTART:20230326T010000
END:DAYLIGHT
BEGIN:STANDARD
TZOFFSETFROM:+0200
TZOFFSETTO:+0100
TZNAME:CET
DTSTART:20231029T010000
END:STANDARD
BEGIN:DAYLIGHT
TZOFFSETFROM:+0100
TZOFFSETTO:+0200
TZNAME:CEST
DTSTART:20240331T010000
END:DAYLIGHT
BEGIN:STANDARD
TZOFFSETFROM:+0200
TZOFFSETTO:+0100
TZNAME:CET
DTSTART:20241027T010000
END:STANDARD
BEGIN:DAYLIGHT
TZOFFSETFROM:+0100
TZOFFSETTO:+0200
TZNAME:CEST
DTSTART:20250330T010000
END:DAYLIGHT
BEGIN:STANDARD
TZOFFSETFROM:+0200
TZOFFSETTO:+0100
TZNAME:CET
DTSTART:20251026T010000
END:STANDARD
END:VTIMEZONE
BEGIN:VEVENT
DTSTART;TZID=Europe/Bratislava:20240720T110000
DTEND;TZID=Europe/Bratislava:20240720T213000
DTSTAMP:20260420T185548
CREATED:20240715T174428Z
LAST-MODIFIED:20240715T174711Z
UID:50610-1721473200-1721511000@metalexpress.sk
SUMMARY:ZRAZ ANONYMNÝCH ALKOHOLIKOV OPEN AIR
DESCRIPTION:Už túto sobotu sa uskutoční už pravidelná akcia v českej republike – Zraz anonymných alkoholikov\, avšak tentokrát v open air verzii. Na tomto mini festivale odohrá slovenská crust punková kapela BLAMAGE ako jediná kapela zo Slovenska. Zvyšný line-up tvoria české grind core zoskupenia\, ako KANDAR\, ČLOVEK V PLÍSNÍ\, LOCUR\, ale aj CHOKED BY OWN WOMITS\, crust HC – POSTEA\, SICHERHATESYSTEM ako jediný zástupca thrash metalu\, anarcho-punk INSTANT IRONY\, no aj MUSHROOMANIAC a FM WAVE – punk drum’n’bass. Festival sa uskutoční v areáli CAKLA v Ústí nad Orlici. Príďte podporiť tento malý festival\, ak máte cestu :).\nZAHRAJÚ:\nBLAMAGE – crust punk/ Bratislava\nKANDAR – sick’n’horror grindcore/ Brno\nČLOVĚK V PLÍSNÍ – grind crust/ Trutnov\nLOCURA – grind violence/ Česká Třebová\nCHOKED BY OWN VOMITS – deathgrind/ Dolní Chčij\nPOSTEA – crust hardcore/ Lukavice\nSICHERHATESYSTEM/ thrasHCrust/ Kostelec nad Orlicí\nINSTANT IRONY – anarcho punk/ Ústí nad Orlicí\nMUSHROOMANIAC – freestylejamming/ Dolní Čermná\nFM WAVE – punk drum’n’bass/ Dejvice \nDátum: 20.7.2024\nMiesto: CAKLE\, Ústí nad Orlici\nVstup: 300/250 CZK předprodej: 42troSKA@seznam.cz\nFB Udalosť: https://www.facebook.com/events/880814810379815/ \nĎalšie informácie:\nNa čepu bude Holba Šerák i Keprník a bezinková limonáda + jiná piva i nealko v plechu.\nJídlo bude pro masožravce i vegetariány.\nV kempu je samozřejmě možnost stanování (100 kč za stan pro kemp).\nNejbližší vlaková zastávka je Dolní Libchavy na trase Ústí nad Orlicí – Letohrad (cca 7 minut).\nParkoviště bude hned u hlavní silnice při sjezdu do kempu.\nPrvní kapela začne hrát v poledne.\nProgram bude zveřejněn brzy.\nTěšíme se na Vás
URL:https://metalexpress.sk/event/zraz-anonymnych-alkoholikov-open-air/
LOCATION:Bratislavský
CATEGORIES:Kalendár,Koncerty,Udalosti
ATTACH;FMTTYPE=image/jpeg:https://metalexpress.sk/wp-content/uploads/2024/07/451021052_26763987209855242_4984434440751643628_n.jpg
END:VEVENT
END:VCALENDAR