BEGIN:VCALENDAR
VERSION:2.0
PRODID:-//MetalExpress - ECPv6.15.19//NONSGML v1.0//EN
CALSCALE:GREGORIAN
METHOD:PUBLISH
X-WR-CALNAME:MetalExpress
X-ORIGINAL-URL:https://metalexpress.sk
X-WR-CALDESC:Udalosti pre MetalExpress
REFRESH-INTERVAL;VALUE=DURATION:PT1H
X-Robots-Tag:noindex
X-PUBLISHED-TTL:PT1H
BEGIN:VTIMEZONE
TZID:Europe/Bratislava
BEGIN:DAYLIGHT
TZOFFSETFROM:+0100
TZOFFSETTO:+0200
TZNAME:CEST
DTSTART:20230326T010000
END:DAYLIGHT
BEGIN:STANDARD
TZOFFSETFROM:+0200
TZOFFSETTO:+0100
TZNAME:CET
DTSTART:20231029T010000
END:STANDARD
BEGIN:DAYLIGHT
TZOFFSETFROM:+0100
TZOFFSETTO:+0200
TZNAME:CEST
DTSTART:20240331T010000
END:DAYLIGHT
BEGIN:STANDARD
TZOFFSETFROM:+0200
TZOFFSETTO:+0100
TZNAME:CET
DTSTART:20241027T010000
END:STANDARD
BEGIN:DAYLIGHT
TZOFFSETFROM:+0100
TZOFFSETTO:+0200
TZNAME:CEST
DTSTART:20250330T010000
END:DAYLIGHT
BEGIN:STANDARD
TZOFFSETFROM:+0200
TZOFFSETTO:+0100
TZNAME:CET
DTSTART:20251026T010000
END:STANDARD
END:VTIMEZONE
BEGIN:VEVENT
DTSTART;TZID=Europe/Bratislava:20240520T170000
DTEND;TZID=Europe/Bratislava:20240520T210000
DTSTAMP:20260420T215051
CREATED:20240517T111752Z
LAST-MODIFIED:20240517T111752Z
UID:50262-1716224400-1716238800@metalexpress.sk
SUMMARY:WAKE - HOMO PRIMITIVE - WE STILL HERE v pondelok vo FUGE!
DESCRIPTION:Metalový pondeloček vo FUGE? Prečo nie\, veď dobré koncerty môžu byť aj v pondelok. A tak sa k nám 20. mája dovalí kanadská partička WAKE\, ktorí do nás nasypú tak surovú dávku deathgrindu\, že zostanete vystrelení po celý zvyšok týždňa. Presne preto treba prísť. Ako supportujúca kapela vystúpi domáca skupina HOMO PRIMITIVE\, ktorí sa objavili minulý rok a boli veľmi veľmi aktívny v koncertnej činnosti hlavne v Bratislave. Zošrotujú vás svojím agresívnym thrash metalom. Druhý support bude taktiež v podobe slovenských WE STILL HERE. V ich hudbe sa prenesiete do melodického death metálu zmiešaného s prvkami metalcoru.  \nWAKE (CA)\nhttps://www.facebook.com/wakeyyc\nhttps://wakegrind.bandcamp.com/ \nHOMO PRIMITIVE\nhttps://www.instagram.com/homo_primitive/\nhttps://www.facebook.com/profile.php?id=100089733593013 \nWE STILL HERE\nhttps://westillhere.bandcamp.com/\nhttps://www.facebook.com/WeStillHereBand \nDÁTUM: 20.05.2024\nMIESTO: FUGA\, Bratislava\nVSTUP: https://tootoot.fm/en/events/663367121b234e07b8e9b243\nFB Udalosť: https://www.facebook.com/events/720675340232047/ \nText čiastočne prebratý z FB Udalosti
URL:https://metalexpress.sk/event/wake-homo-primitive-we-still-here-v-pondelok-vo-fuge/
LOCATION:Bratislavský
CATEGORIES:Kalendár,Koncerty,Udalosti
ATTACH;FMTTYPE=image/jpeg:https://metalexpress.sk/wp-content/uploads/2024/05/441961442_751392383832201_4828559265746485790_n.jpg
END:VEVENT
END:VCALENDAR