BEGIN:VCALENDAR
VERSION:2.0
PRODID:-//MetalExpress - ECPv6.15.19//NONSGML v1.0//EN
CALSCALE:GREGORIAN
METHOD:PUBLISH
X-ORIGINAL-URL:https://metalexpress.sk
X-WR-CALDESC:Udalosti pre MetalExpress
REFRESH-INTERVAL;VALUE=DURATION:PT1H
X-Robots-Tag:noindex
X-PUBLISHED-TTL:PT1H
BEGIN:VTIMEZONE
TZID:Europe/Bratislava
BEGIN:DAYLIGHT
TZOFFSETFROM:+0100
TZOFFSETTO:+0200
TZNAME:CEST
DTSTART:20230326T010000
END:DAYLIGHT
BEGIN:STANDARD
TZOFFSETFROM:+0200
TZOFFSETTO:+0100
TZNAME:CET
DTSTART:20231029T010000
END:STANDARD
BEGIN:DAYLIGHT
TZOFFSETFROM:+0100
TZOFFSETTO:+0200
TZNAME:CEST
DTSTART:20240331T010000
END:DAYLIGHT
BEGIN:STANDARD
TZOFFSETFROM:+0200
TZOFFSETTO:+0100
TZNAME:CET
DTSTART:20241027T010000
END:STANDARD
BEGIN:DAYLIGHT
TZOFFSETFROM:+0100
TZOFFSETTO:+0200
TZNAME:CEST
DTSTART:20250330T010000
END:DAYLIGHT
BEGIN:STANDARD
TZOFFSETFROM:+0200
TZOFFSETTO:+0100
TZNAME:CET
DTSTART:20251026T010000
END:STANDARD
END:VTIMEZONE
BEGIN:VEVENT
DTSTART;TZID=Europe/Bratislava:20240503T170000
DTEND;TZID=Europe/Bratislava:20240503T210000
DTSTAMP:20260420T215341
CREATED:20240502T104541Z
LAST-MODIFIED:20240502T104541Z
UID:50188-1714755600-1714770000@metalexpress.sk
SUMMARY:Powerviolence na Garážach!
DESCRIPTION:Kedy ste naposledy videli a počuli pohromade dobré powerviolence kapely za jeden večer? Takáto príležitosť tu už dávnejšie nebola. Za jeden večer sa preženie vašimi ušami power violence z Čiech\, Slovinska\, ale aj zo Slovenska. Ak si nechcete nechať ujsť túto hudobnú smršť\, príďte už tento piatok na Garáže pod Prístavným mostom. Zostava bude nasledovná: \nSheeva Yoga (CZ)\nhttps://sheevayoga.bandcamp.com/\nLickspit (CZ/SK)\nhttps://lickspit.bandcamp.com/\nMental Tension (SK)\nhttps://mentaltension.bandcamp.com/\nPropad (SLO)\nhttps://propad.bandcamp.com/album/s-t\nKu-Ri-Boh (SLO)\nhttps://ku-ri-boh.bandcamp.com/album/s-t\nCarlxJohnson (SLO)\nhttps://carlxjohnsonpv.bandcamp.com/album/s-t\nIncriminate (SK)\nhttps://incriminate.bandcamp.com/album/the-end-is-nigh \nDátum: 03.05.2024\nMiesto: Garáže pod Prístavným mostom\nVstupné: 8-10 €\nZačiatok presne o 19:01\nFB Udalosť: https://www.facebook.com/events/372009862472777/
URL:https://metalexpress.sk/event/powerviolence-na-garazach/
LOCATION:Garáže pod Prístavným mostom Bratislava\, Prístavná 9\, Bratislava\, Bratislava\, Bratislava\, Slovenská republika
CATEGORIES:Kalendár,Koncerty,Udalosti
ATTACH;FMTTYPE=image/jpeg:https://metalexpress.sk/wp-content/uploads/2024/04/434658970_914120027169043_1733691326593441055_n.jpg
END:VEVENT
END:VCALENDAR