BEGIN:VCALENDAR
VERSION:2.0
PRODID:-//MetalExpress - ECPv6.15.19//NONSGML v1.0//EN
CALSCALE:GREGORIAN
METHOD:PUBLISH
X-WR-CALNAME:MetalExpress
X-ORIGINAL-URL:https://metalexpress.sk
X-WR-CALDESC:Udalosti pre MetalExpress
REFRESH-INTERVAL;VALUE=DURATION:PT1H
X-Robots-Tag:noindex
X-PUBLISHED-TTL:PT1H
BEGIN:VTIMEZONE
TZID:Europe/Bratislava
BEGIN:DAYLIGHT
TZOFFSETFROM:+0100
TZOFFSETTO:+0200
TZNAME:CEST
DTSTART:20230326T010000
END:DAYLIGHT
BEGIN:STANDARD
TZOFFSETFROM:+0200
TZOFFSETTO:+0100
TZNAME:CET
DTSTART:20231029T010000
END:STANDARD
BEGIN:DAYLIGHT
TZOFFSETFROM:+0100
TZOFFSETTO:+0200
TZNAME:CEST
DTSTART:20240331T010000
END:DAYLIGHT
BEGIN:STANDARD
TZOFFSETFROM:+0200
TZOFFSETTO:+0100
TZNAME:CET
DTSTART:20241027T010000
END:STANDARD
BEGIN:DAYLIGHT
TZOFFSETFROM:+0100
TZOFFSETTO:+0200
TZNAME:CEST
DTSTART:20250330T010000
END:DAYLIGHT
BEGIN:STANDARD
TZOFFSETFROM:+0200
TZOFFSETTO:+0100
TZNAME:CET
DTSTART:20251026T010000
END:STANDARD
END:VTIMEZONE
BEGIN:VEVENT
DTSTART;TZID=Europe/Bratislava:20240414T170000
DTEND;TZID=Europe/Bratislava:20240414T203000
DTSTAMP:20260420T232117
CREATED:20240409T122908Z
LAST-MODIFIED:20240409T122908Z
UID:50020-1713114000-1713126600@metalexpress.sk
SUMMARY:Enemic Interior - Pilori - Nerva - Wargame v Podpalubí!
DESCRIPTION:Naša obľúbená nedeľná omša! Opäť raz sa nám podarili fantastické úlovky\, do rytmov ktorých budeme môcť hromžiť v malej sále nášho podpalubia. A že sa isto aj zapotíme! Z Barcelony k nám totižto prídu pankáči Enemic Interior\, ktorí majú zatiaľ na konte tri nahrávky\, z toho každú jednu úplne našlapanú. Rýchly punk\, texty v rodnej katalánštine\, energiu do vás sypú celý set. Dobre bude. Okrem nich sa nám z druhého tour podarilo uloviť francúzov Pilori a to tiež nebude len tak. Tuto sa už zaťahuje obloha. Blackened crust mixnutý s death metalom a grindom\, nakladačka taká\, že ti stena dá druhú. Toto je presne tá nedeľná omša o ktorej hovoríme. Za domácich budú kopať Košičania Nerva so svojím nasratým punkom a garážisti Wargame\, ktorí do vás nasypú dvacaťminutovky poctivého d-beatu. Ale vie byť tá nedeľa krásna čo? \nENEMIC INTERIOR (Barcelona punx)\nhttps://enemicinterior.bandcamp.com/…/enemic-interior-iii \nPILORI (Rouen\, blackened crust death grind)\nhttps://pilori.bandcamp.com/album/quand-bien-m-me-lenfer-et-le-d-luge-sabattraient-sur-nous \nNERVA (Košice nasratý punk)\nhttps://nervapunx.bandcamp.com/album/nerva \nWARGAME (garáže\, d-beat)\nhttps://wargamedbeat.bandcamp.com/album/wargame \nHarmonogram:\n19:30 Wargame\n20:15 Nerva\n21:00 Pilori\n21:45 Enemic Interior \nDátum: 14.04.2024\nMiesto: Pink Whale\, Bratislava\nVstup iba na mieste za 10 Eur.\nFB Udalosť: https://www.facebook.com/events/406567215186680/\nZa frajerský plagát veľké @seeruus.  \nPoužitý text pochádza z FB udalosti
URL:https://metalexpress.sk/event/enemic-interior-pilori-nerva-wargame-v-podpalubi/
LOCATION:Pink Whale\, Nábrežie armádneho generála Ludvíka Svobodu 1868rkm\, 811 02 Staré Mesto\, Bratislava\, Slovakia 0911 177 172\, Bratislava\, Bratislava\, 81102\, Slovenská republika
CATEGORIES:Kalendár,Koncerty,Udalosti
ATTACH;FMTTYPE=image/jpeg:https://metalexpress.sk/wp-content/uploads/2024/04/426279956_411105367963728_5974031690644360452_n.jpg
END:VEVENT
END:VCALENDAR