BEGIN:VCALENDAR
VERSION:2.0
PRODID:-//MetalExpress - ECPv6.15.19//NONSGML v1.0//EN
CALSCALE:GREGORIAN
METHOD:PUBLISH
X-WR-CALNAME:MetalExpress
X-ORIGINAL-URL:https://metalexpress.sk
X-WR-CALDESC:Udalosti pre MetalExpress
REFRESH-INTERVAL;VALUE=DURATION:PT1H
X-Robots-Tag:noindex
X-PUBLISHED-TTL:PT1H
BEGIN:VTIMEZONE
TZID:Europe/Bratislava
BEGIN:DAYLIGHT
TZOFFSETFROM:+0100
TZOFFSETTO:+0200
TZNAME:CEST
DTSTART:20230326T010000
END:DAYLIGHT
BEGIN:STANDARD
TZOFFSETFROM:+0200
TZOFFSETTO:+0100
TZNAME:CET
DTSTART:20231029T010000
END:STANDARD
BEGIN:DAYLIGHT
TZOFFSETFROM:+0100
TZOFFSETTO:+0200
TZNAME:CEST
DTSTART:20240331T010000
END:DAYLIGHT
BEGIN:STANDARD
TZOFFSETFROM:+0200
TZOFFSETTO:+0100
TZNAME:CET
DTSTART:20241027T010000
END:STANDARD
BEGIN:DAYLIGHT
TZOFFSETFROM:+0100
TZOFFSETTO:+0200
TZNAME:CEST
DTSTART:20250330T010000
END:DAYLIGHT
BEGIN:STANDARD
TZOFFSETFROM:+0200
TZOFFSETTO:+0100
TZNAME:CET
DTSTART:20251026T010000
END:STANDARD
END:VTIMEZONE
BEGIN:VEVENT
DTSTART;TZID=Europe/Bratislava:20240406T170000
DTEND;TZID=Europe/Bratislava:20240406T210000
DTSTAMP:20260420T232120
CREATED:20240403T150001Z
LAST-MODIFIED:20240403T150001Z
UID:49956-1712422800-1712437200@metalexpress.sk
SUMMARY:Marno - Moira a Rana v Bašte v Bardejove!
DESCRIPTION:No pekne to na jar melieme a válcujeme…\nPríďte si popočúvať a popozerať súčasných predstaviteľov žánrovo príbuzných štýlov a názorových prúdov…Bratislavská Rana už v Bardejove pred pár rokmi hrala\, vtedy na skušobni v 2015. Teraz spojila sily s novou moravskou zostavou Marno a vyrazila na niekoľko víkendoviek. V Bašte sa pridajú ešte kolegovia a kolegyňa z Poľska\, Moira:\nMarno\n– neocrust\, Uherské Hradište\nhttps://marnocrust.bandcamp.com/track/marno\nMoira\n– dark hardcore\, Bielsko Biala\, Polsko\nhttps://moirapl.bandcamp.com/\nRana\n– post metal/emo\, Bratislava\nhttps://rana.bandcamp.com/ \nDátum: 06.04.2024\nMiesto: Bašta\, Bardejov\nVstup: bude 7 €\nFB udalosť: https://www.facebook.com/events/1505933656620481/ \nSúčasťou večera bude II. Vegánska večera\, na ktorej budete mať možnosť niečo fajné ochutnať od našich kámošov a kámošiek.\nAj tento rok nás podporil z verejných zdrojov Fond na podporu umenia\, čo nie je samozrejmosť. Ďakujeme! \nText prebratý z FB udalosti
URL:https://metalexpress.sk/event/marno-moira-a-rana-v-baste-v-bardejove/
LOCATION:BAŠTA – kultúrno-komunitné centrum\, Na hradbách 94/3 \, Bardejov\, Slovakia\, Bardejov\, Slovenská republika
CATEGORIES:Kalendár,Koncerty,Udalosti
ATTACH;FMTTYPE=image/jpeg:https://metalexpress.sk/wp-content/uploads/2024/04/430737934_807345814755895_1750351967166959011_n.jpg
END:VEVENT
BEGIN:VEVENT
DTSTART;TZID=Europe/Bratislava:20240406T170000
DTEND;TZID=Europe/Bratislava:20240406T213000
DTSTAMP:20260420T232120
CREATED:20240402T072936Z
LAST-MODIFIED:20240402T072936Z
UID:49925-1712422800-1712439000@metalexpress.sk
SUMMARY:Xalpen (CL) & Unpure (SWE) + Otras / Black Light
DESCRIPTION:No my sme sa už načisto zbláznili. V našom podpalubí ideme opäť otvárať brány pekelné. A že to tentokrát bude ozaj drsné – prídu k nám totiž členovia legendárnej kapely Watain. Samozrejme\, nie zrovna v tejto formácii\, to by nám asi zhorela loď. Ale bude to takto:\nXALPEN (CL)\nZ ďalekého Chile dorazí formácia Xalpen (Morbid Skull Records)\, ktorú ako už bolo spomenuté\, tvoria členovia legendy Watain. Raw black metal vo svojej najlepšej podobe. Šamanizmus a okultizmus všetko ako má byť!\nhttps://xalpencult.bandcamp.com/album/the-curse-of-kw-nyep\n \nUNPURE (SWE)\nJednoduchá definícia. Cult band. Na scéne od roku 1991 rozsievajú zlo na 4 predchádzajúcich albumoch a do Bratislavy dorazia s novým „Prophecies Ablaze“\, ktorý vyšiel v marci 2023. Black-speed-thrash rúbanica jak oči.\nhttps://unpure.bandcamp.com/album/coldland\n \nOTRAS\nDo podpalubia sa vracia Otras. Raw black-punx toť z Košíc. Čisté zlo. Cintorín Blues.\n \nBLACK LIGHT\nA zostavu uzatvárajú košickí thrasheri Black Light. Bude dusno.\nhttps://blacklightthrash.bandcamp.com/album/firestealer-ep\n \nZa plagát diky David Kukoľ aka @seeruus.\nPredpredaj bude v sieti goout po 15 Eur. \nHarmonogram orientačne takto:\n19:30 Black Light\n20:30 Otras\n21:30 Unpure\n22:30 Xalpen \nDátum: 6.4.2024\nMiesto: Pink Whale\, Bratislava\nVstup: 15€\nFB Event: https://www.facebook.com/events/248081101477570 \nText pochádza z FB udalosti
URL:https://metalexpress.sk/event/xalpen-cl-unpure-swe-otras-black-light/
LOCATION:Pink Whale\, Nábrežie armádneho generála Ludvíka Svobodu 1868rkm\, 811 02 Staré Mesto\, Bratislava\, Slovakia 0911 177 172\, Bratislava\, Bratislava\, 81102\, Slovenská republika
ATTACH;FMTTYPE=image/jpeg:https://metalexpress.sk/wp-content/uploads/2024/04/xalpen.jpg
END:VEVENT
END:VCALENDAR