BEGIN:VCALENDAR
VERSION:2.0
PRODID:-//MetalExpress - ECPv6.15.19//NONSGML v1.0//EN
CALSCALE:GREGORIAN
METHOD:PUBLISH
X-WR-CALNAME:MetalExpress
X-ORIGINAL-URL:https://metalexpress.sk
X-WR-CALDESC:Udalosti pre MetalExpress
REFRESH-INTERVAL;VALUE=DURATION:PT1H
X-Robots-Tag:noindex
X-PUBLISHED-TTL:PT1H
BEGIN:VTIMEZONE
TZID:Europe/Bratislava
BEGIN:DAYLIGHT
TZOFFSETFROM:+0100
TZOFFSETTO:+0200
TZNAME:CEST
DTSTART:20230326T010000
END:DAYLIGHT
BEGIN:STANDARD
TZOFFSETFROM:+0200
TZOFFSETTO:+0100
TZNAME:CET
DTSTART:20231029T010000
END:STANDARD
BEGIN:DAYLIGHT
TZOFFSETFROM:+0100
TZOFFSETTO:+0200
TZNAME:CEST
DTSTART:20240331T010000
END:DAYLIGHT
BEGIN:STANDARD
TZOFFSETFROM:+0200
TZOFFSETTO:+0100
TZNAME:CET
DTSTART:20241027T010000
END:STANDARD
BEGIN:DAYLIGHT
TZOFFSETFROM:+0100
TZOFFSETTO:+0200
TZNAME:CEST
DTSTART:20250330T010000
END:DAYLIGHT
BEGIN:STANDARD
TZOFFSETFROM:+0200
TZOFFSETTO:+0100
TZNAME:CET
DTSTART:20251026T010000
END:STANDARD
END:VTIMEZONE
BEGIN:VEVENT
DTSTART;TZID=Europe/Bratislava:20240403T173000
DTEND;TZID=Europe/Bratislava:20240403T200000
DTSTAMP:20260420T232122
CREATED:20240402T141642Z
LAST-MODIFIED:20240402T141642Z
UID:49930-1712165400-1712174400@metalexpress.sk
SUMMARY:Temná omša v podpalubí Pink Whale!
DESCRIPTION:Temná omša v našom podpalubí!\nGothic doom metalová legenda z Talianska Abysmal Grief vyráža na Európske tour a tentokrát konečne neminie ani Bratislavu.\nhttps://horrorrecords.bandcamp.com/album/feretri\nO domáci support sa postará doom metalová stálica Old Tomb\nhttps://oldtomb.bandcamp.com/album/phantom-hour \nPlagát nám robil Lichtle\, za čo vďaka veľká! \nHarmonogram podujatia:\n19:30 open doors\n20:00 Old Tomb\n21:00 Abysmal Grief  \nVstup: 14 Eur predpredaj / 18 Eur na mieste\nFB Udalosť: https://www.facebook.com/events/900619241460660/ \nText prebratý z FB Udalosti
URL:https://metalexpress.sk/event/temna-omsa-v-podpalubi-pink-whale/
LOCATION:Pink Whale\, Nábrežie armádneho generála Ludvíka Svobodu 1868rkm\, 811 02 Staré Mesto\, Bratislava\, Slovakia 0911 177 172\, Bratislava\, Bratislava\, 81102\, Slovenská republika
CATEGORIES:Kalendár,Koncerty,Udalosti
ATTACH;FMTTYPE=image/jpeg:https://metalexpress.sk/wp-content/uploads/2024/04/420995182_400600969014168_8482027469595026297_n.jpg
END:VEVENT
BEGIN:VEVENT
DTSTART;TZID=Europe/Bratislava:20240403T180000
DTEND;TZID=Europe/Bratislava:20240403T213000
DTSTAMP:20260420T232122
CREATED:20240402T071843Z
LAST-MODIFIED:20240402T071843Z
UID:49921-1712167200-1712179800@metalexpress.sk
SUMMARY:𝐀𝐠𝐚𝐫𝐰𝐚𝐞𝐧 + 𝐌𝐨𝐝𝐞𝐫𝐧 𝐀𝐠𝐞 𝐃𝐲𝐢𝐧𝐠  + 𝐏𝐫𝐢𝐬𝐨𝐧 𝐨𝐟 𝐌𝐲 𝐋𝐢𝐟𝐞 @ Mariatchi - Nitra
DESCRIPTION:𝐀𝐠𝐚𝐫𝐰𝐚𝐞𝐧 (𝐅𝐈𝐍)\nFormed in 2006\, the Asylum Metal band Agarwaen released their first EP in 2010 and first album „Dottore I“ in 2019.\nIn 2023\, they released their second LP album „Channel: Lunacy“ with the new line-up. It’s an odd ball that mixes all kinds of different metal styles into one frantic and lunatic Asylum Metal album!\nAgarwaen bounces all around the place and will offer wild\, crazy soundscapes with catchy riffs and stunning atmosphere.\nThe gig will be like a scene from a mental asylum horror movie!\nhttps://www.instagram.com/agarwaen_official/\nhttps://www.facebook.com/Agarwaenband/\n \n𝐌𝐨𝐝𝐞𝐫𝐧 𝐀𝐠𝐞 𝐃𝐲𝐢𝐧𝐠 (𝐒𝐕𝐊)\nModern Age Dying is a local band combining various styles of modern metal like melodic death\, groove\, thrash\, and metalcore. Boys will present the strongest tracks off their long prepared debut album „The Sunless Empire“\, that was finally released last year\, and also some of their early work off their „The Age Of Regression“ era.\nhttps://www.instagram.com/modernagedying/\nhttps://www.facebook.com/modernagedying\n \n𝐏𝐫𝐢𝐬𝐨𝐧 𝐨𝐟 𝐌𝐲 𝐋𝐢𝐟𝐞 (𝐒𝐕𝐊)\nA Melodic Death Metal band hailing from Nitra.\nhttps://www.facebook.com/prisonofmylife\n \n20:00 Prison of My Life\n20:35 Modern Age Dying\n21:10 Agarwaen \nDátum: 3.4.2024\nMiesto: Mariatchi Nitra\, Mostná 35\, 949 01 Nitra\nVstup: 10€\nFB Event: https://www.facebook.com/events/820089739758585 \nText pochádza z FB udalosti
URL:https://metalexpress.sk/event/%f0%9d%90%80%f0%9d%90%a0%f0%9d%90%9a%f0%9d%90%ab%f0%9d%90%b0%f0%9d%90%9a%f0%9d%90%9e%f0%9d%90%a7-%f0%9d%90%8c%f0%9d%90%a8%f0%9d%90%9d%f0%9d%90%9e%f0%9d%90%ab%f0%9d%90%a7-%f0%9d%90%80%f0%9d%90%a0/
LOCATION:Mariatchi Nitra\, Mostná 35\, Nitra\, Slovakia\, Nitra\, Slovenská republika
ATTACH;FMTTYPE=image/jpeg:https://metalexpress.sk/wp-content/uploads/2024/04/nitra.jpg
END:VEVENT
END:VCALENDAR