BEGIN:VCALENDAR
VERSION:2.0
PRODID:-//MetalExpress - ECPv6.15.19//NONSGML v1.0//EN
CALSCALE:GREGORIAN
METHOD:PUBLISH
X-WR-CALNAME:MetalExpress
X-ORIGINAL-URL:https://metalexpress.sk
X-WR-CALDESC:Udalosti pre MetalExpress
REFRESH-INTERVAL;VALUE=DURATION:PT1H
X-Robots-Tag:noindex
X-PUBLISHED-TTL:PT1H
BEGIN:VTIMEZONE
TZID:Europe/Bratislava
BEGIN:DAYLIGHT
TZOFFSETFROM:+0100
TZOFFSETTO:+0200
TZNAME:CEST
DTSTART:20230326T010000
END:DAYLIGHT
BEGIN:STANDARD
TZOFFSETFROM:+0200
TZOFFSETTO:+0100
TZNAME:CET
DTSTART:20231029T010000
END:STANDARD
BEGIN:DAYLIGHT
TZOFFSETFROM:+0100
TZOFFSETTO:+0200
TZNAME:CEST
DTSTART:20240331T010000
END:DAYLIGHT
BEGIN:STANDARD
TZOFFSETFROM:+0200
TZOFFSETTO:+0100
TZNAME:CET
DTSTART:20241027T010000
END:STANDARD
BEGIN:DAYLIGHT
TZOFFSETFROM:+0100
TZOFFSETTO:+0200
TZNAME:CEST
DTSTART:20250330T010000
END:DAYLIGHT
BEGIN:STANDARD
TZOFFSETFROM:+0200
TZOFFSETTO:+0100
TZNAME:CET
DTSTART:20251026T010000
END:STANDARD
END:VTIMEZONE
BEGIN:VEVENT
DTSTART;TZID=Europe/Bratislava:20240322T180000
DTEND;TZID=Europe/Bratislava:20240322T220000
DTSTAMP:20260421T005116
CREATED:20240320T144507Z
LAST-MODIFIED:20240320T144507Z
UID:49824-1711130400-1711144800@metalexpress.sk
SUMMARY:MIST ABOVE EUROPE TOUR 2024 tento piatok v Bratislave!
DESCRIPTION:MIST ABOVE EUROPE TOUR 2024\nUž 22.3 sa počas svojho tour Mist Over Europe objaví v Bratislave deathcorové zoskupenie na čele s Reformist a Abyss Above!\nREFORMIST / ABYSS ABOVE / CASTIEL / STERCORE\n22.3.2024 / Bratislava @pink_whale_cultc\nREFORMIST (NL)\nFB: https://www.facebook.com/rfrmst\nYT: https://www.youtube.com/watch?v=OGA9WftUymY\nABYSS ABOVE (SVK)\nFB: https://www.facebook.com/abyssabove\nYT: https://www.youtube.com/watch?v=FtxSuP6zksk\nCASTIEL (AU)\nFB: https://www.facebook.com/CastielofficialBand\nYT: https://www.youtube.com/watch?v=u7avsuKAAFE\nSTERCORE (SVK)\nFB: https://www.facebook.com/stercore.slovakia\nYT: https://www.youtube.com/watch?v=sZU7zlDMXDc \nDátum: 22.03.2024\nMiesto: PINK Whale\, Bratislava\nVstup: 12-15 €\nFB udalosť: https://www.facebook.com/events/1312966772749006/
URL:https://metalexpress.sk/event/mist-above-europe-tour-2024-tento-piatok-v-bratislave/
LOCATION:Pink Whale\, Nábrežie armádneho generála Ludvíka Svobodu 1868rkm\, 811 02 Staré Mesto\, Bratislava\, Slovakia 0911 177 172\, Bratislava\, Bratislava\, 81102\, Slovenská republika
CATEGORIES:Kalendár,Koncerty,Udalosti
ATTACH;FMTTYPE=image/jpeg:https://metalexpress.sk/wp-content/uploads/2024/03/421832070_1147531469996075_6399540552335453195_n.jpg
END:VEVENT
END:VCALENDAR