BEGIN:VCALENDAR
VERSION:2.0
PRODID:-//MetalExpress - ECPv6.15.19//NONSGML v1.0//EN
CALSCALE:GREGORIAN
METHOD:PUBLISH
X-ORIGINAL-URL:https://metalexpress.sk
X-WR-CALDESC:Udalosti pre MetalExpress
REFRESH-INTERVAL;VALUE=DURATION:PT1H
X-Robots-Tag:noindex
X-PUBLISHED-TTL:PT1H
BEGIN:VTIMEZONE
TZID:Europe/Bratislava
BEGIN:DAYLIGHT
TZOFFSETFROM:+0100
TZOFFSETTO:+0200
TZNAME:CEST
DTSTART:20230326T010000
END:DAYLIGHT
BEGIN:STANDARD
TZOFFSETFROM:+0200
TZOFFSETTO:+0100
TZNAME:CET
DTSTART:20231029T010000
END:STANDARD
BEGIN:DAYLIGHT
TZOFFSETFROM:+0100
TZOFFSETTO:+0200
TZNAME:CEST
DTSTART:20240331T010000
END:DAYLIGHT
BEGIN:STANDARD
TZOFFSETFROM:+0200
TZOFFSETTO:+0100
TZNAME:CET
DTSTART:20241027T010000
END:STANDARD
BEGIN:DAYLIGHT
TZOFFSETFROM:+0100
TZOFFSETTO:+0200
TZNAME:CEST
DTSTART:20250330T010000
END:DAYLIGHT
BEGIN:STANDARD
TZOFFSETFROM:+0200
TZOFFSETTO:+0100
TZNAME:CET
DTSTART:20251026T010000
END:STANDARD
END:VTIMEZONE
BEGIN:VEVENT
DTSTART;TZID=Europe/Bratislava:20240315T170000
DTEND;TZID=Europe/Bratislava:20240315T210000
DTSTAMP:20260421T005507
CREATED:20240310T111951Z
LAST-MODIFIED:20240310T111951Z
UID:49637-1710522000-1710536400@metalexpress.sk
SUMMARY:SPACE OF VARIATIONS v Collosseum Clube!
DESCRIPTION:SPACE OF VARIATIONS [UA] metal/electronics\nSpace of Variations je ukrajinská metalová kapela\, ktorá dva krát vyhrala titul najlepšej metalovej kapely na Ukrajine. Sú jedným z mála predstaviteľov takejto hudobnej scény na Ukrajine\, ktorí majú pravidelné turné po celej Európe\, Ázii a USA\, a dostavajú skvelú spätnú väzbu. Kapela zdieľala pódium so svetoznámymi kapelami ako P.O.D\, Architects\, Jinjer\, Devildriver\, Electric Callboy\, Emmure\, Bad Omens\, Three Days Grace\, Malevolence\,Vended…. V roku 2019 podpísali zmluvu s rakúskym hlavým vydavateľom Napalm Records.\nhttps://www.instagram.com/spaceofvariations_band/\nhttps://www.facebook.com/SpaceOfVariations/\n\n\n \nEVERMORPHING [USA/California] metalcore\nhttps://www.facebook.com/evermorphingband/\nhttps://www.instagram.com/evermorphingband/\n\n \nALL THE FURY [Košice] melodic death metal\nhttps://www.facebook.com/atf.metal/\nhttps://www.instagram.com/allthefury/\n\n \nDátum: 15.03.2024\nMiesto: Collosseum Club\, Košice\nPredpredaj – v bare 12€ / online 14€\nFB Udalosť: https://www.facebook.com/events/856116102874209/ \nInformácie prebraté z FB udalosti
URL:https://metalexpress.sk/event/space-of-variations-v-collosseum-clube/
LOCATION:Collosseum\, Dominikánske námestie 35\, Košice\, Košice\, 04001\, Slovenská republika
CATEGORIES:Kalendár,Koncerty,Udalosti
ATTACH;FMTTYPE=image/jpeg:https://metalexpress.sk/wp-content/uploads/2024/03/417434229_831563995647000_1165964324990894979_n.jpg
END:VEVENT
END:VCALENDAR