BEGIN:VCALENDAR
VERSION:2.0
PRODID:-//MetalExpress - ECPv6.15.19//NONSGML v1.0//EN
CALSCALE:GREGORIAN
METHOD:PUBLISH
X-WR-CALNAME:MetalExpress
X-ORIGINAL-URL:https://metalexpress.sk
X-WR-CALDESC:Udalosti pre MetalExpress
REFRESH-INTERVAL;VALUE=DURATION:PT1H
X-Robots-Tag:noindex
X-PUBLISHED-TTL:PT1H
BEGIN:VTIMEZONE
TZID:Europe/Bratislava
BEGIN:DAYLIGHT
TZOFFSETFROM:+0100
TZOFFSETTO:+0200
TZNAME:CEST
DTSTART:20230326T010000
END:DAYLIGHT
BEGIN:STANDARD
TZOFFSETFROM:+0200
TZOFFSETTO:+0100
TZNAME:CET
DTSTART:20231029T010000
END:STANDARD
BEGIN:DAYLIGHT
TZOFFSETFROM:+0100
TZOFFSETTO:+0200
TZNAME:CEST
DTSTART:20240331T010000
END:DAYLIGHT
BEGIN:STANDARD
TZOFFSETFROM:+0200
TZOFFSETTO:+0100
TZNAME:CET
DTSTART:20241027T010000
END:STANDARD
BEGIN:DAYLIGHT
TZOFFSETFROM:+0100
TZOFFSETTO:+0200
TZNAME:CEST
DTSTART:20250330T010000
END:DAYLIGHT
BEGIN:STANDARD
TZOFFSETFROM:+0200
TZOFFSETTO:+0100
TZNAME:CET
DTSTART:20251026T010000
END:STANDARD
END:VTIMEZONE
BEGIN:VEVENT
DTSTART;TZID=Europe/Bratislava:20240303T180000
DTEND;TZID=Europe/Bratislava:20240303T223000
DTSTAMP:20260421T005115
CREATED:20240229T132514Z
LAST-MODIFIED:20240229T132514Z
UID:49453-1709488800-1709505000@metalexpress.sk
SUMMARY:ERROR a SATURNISTS v nedeľu v T3 v Bratislave!
DESCRIPTION:Príďte si užiť prvý marcový víkend na koncert v T3-ke v Bratislave. Ako lepšie zakončiť víkend\, keď nie hudbou. T3-Kultúrny Prostriedok na Tyršovom námestí\, ponúka 3.3.2024 koncert dvoch postových zahraničných kapiel. Nižšie nájdete bližšie informácie ku koncertu aj ku kapelám. Podľa počasia sa koncert uskutoční buď v električke\, alebo aj pred ňou. Hoci vás možno po koncerte neminie depka zo začínajúceho pracovného týždňa\, aspoň si môžete povedať\, že ste posledné chvíle víkendu prežili naplno.  \nERRORR (Berlín) – post-punk/shoegaze/noise pop\nNemeckým Errorr akurát v deň koncertu vyjde debutový album Self Destruct. Kapelu založil gitarista skupiny Underground Youth Leonard Kaage. Jedná sa o celkom chytlavý post-punk\, ktorý treba vidieť.\nKontroluješ tu:\nhttps://errorr.bandcamp.com/album/self-destruct-lp\nhttps://www.instagram.com/errorr_band/ \n♄♄♄♄♄/SATURNISTS (Graz) – post-blackmetal/sludge\nTemnejšia atmosféra\, boľavé riffy. Pozostáva aj z členov sludgeových Nekrodeus.\nhttps://saturnists.bandcamp.com/album/split-w-black-yen\nhttps://www.facebook.com/saturnists \nVstup 5-7e\, v prípade dobrého počasia snáď koncert pred električkou. \nDátum: 03.03.2024\nMiesto: T3 – Kultúrny Prostriedok\, Bratislava\nVstup: 5-7 €\nFB Udalosť: https://www.facebook.com/events/739659344485739/
URL:https://metalexpress.sk/event/error-a-saturnists-v-nedelu-v-t3-v-bratislave/
LOCATION:T3 – Kultúrny Prostriedok\, Tyršovo nábrežie\, Bratislava\, Slovakia\, Bratislava\, Bratislavský Kraj\, Slovenská republika
CATEGORIES:Kalendár,Koncerty,Udalosti
ATTACH;FMTTYPE=image/jpeg:https://metalexpress.sk/wp-content/uploads/2024/02/422935298_874033054511074_6757780321507117711_n.jpg
END:VEVENT
END:VCALENDAR