BEGIN:VCALENDAR
VERSION:2.0
PRODID:-//MetalExpress - ECPv6.15.19//NONSGML v1.0//EN
CALSCALE:GREGORIAN
METHOD:PUBLISH
X-WR-CALNAME:MetalExpress
X-ORIGINAL-URL:https://metalexpress.sk
X-WR-CALDESC:Udalosti pre MetalExpress
REFRESH-INTERVAL;VALUE=DURATION:PT1H
X-Robots-Tag:noindex
X-PUBLISHED-TTL:PT1H
BEGIN:VTIMEZONE
TZID:Europe/Bratislava
BEGIN:DAYLIGHT
TZOFFSETFROM:+0100
TZOFFSETTO:+0200
TZNAME:CEST
DTSTART:20230326T010000
END:DAYLIGHT
BEGIN:STANDARD
TZOFFSETFROM:+0200
TZOFFSETTO:+0100
TZNAME:CET
DTSTART:20231029T010000
END:STANDARD
BEGIN:DAYLIGHT
TZOFFSETFROM:+0100
TZOFFSETTO:+0200
TZNAME:CEST
DTSTART:20240331T010000
END:DAYLIGHT
BEGIN:STANDARD
TZOFFSETFROM:+0200
TZOFFSETTO:+0100
TZNAME:CET
DTSTART:20241027T010000
END:STANDARD
BEGIN:DAYLIGHT
TZOFFSETFROM:+0100
TZOFFSETTO:+0200
TZNAME:CEST
DTSTART:20250330T010000
END:DAYLIGHT
BEGIN:STANDARD
TZOFFSETFROM:+0200
TZOFFSETTO:+0100
TZNAME:CET
DTSTART:20251026T010000
END:STANDARD
END:VTIMEZONE
BEGIN:VEVENT
DTSTART;TZID=Europe/Bratislava:20240224T170000
DTEND;TZID=Europe/Bratislava:20240224T223000
DTSTAMP:20260421T022754
CREATED:20240219T142739Z
LAST-MODIFIED:20240219T142739Z
UID:49238-1708794000-1708813800@metalexpress.sk
SUMMARY:Serpent´s Nest
DESCRIPTION:Bratislavský Randla Club ovládnu temné a pohansky mrazivé svorky vlkov čirneho kovu.\nPozívame vás na koncert black metalovej muziky v podani kapiel: \nVoltumna – IT\n \nWelicoruss – CZ\n \nInnersphere – CZ\n \nZriebadlo – SK\n \nPatriarcha – SK\n \nHracie časy:\n18:30 Zriebadlo\n19:30 Patriarcha\n20:30 Innersphere\n21:30 Welicoruss\n22:30 Voltumna\n\nDátum: 24.2.2024\nMiesto: Randal Club\, Bratislava\nVstup: 15€\nFB Event: https://www.facebook.com/events/25307749718824468
URL:https://metalexpress.sk/event/serpents-nest/
LOCATION:Randal Music Club\, Karpatská 2\, Bratislava\, Bratislava\, Bratislavský Kraj\, 81105\, Slovenská republika
CATEGORIES:Kalendár,Koncerty,Udalosti
ATTACH;FMTTYPE=image/jpeg:https://metalexpress.sk/wp-content/uploads/2024/02/serpent.jpg
END:VEVENT
BEGIN:VEVENT
DTSTART;TZID=Europe/Bratislava:20240224T183000
DTEND;TZID=Europe/Bratislava:20240224T223000
DTSTAMP:20260421T022754
CREATED:20240209T125202Z
LAST-MODIFIED:20240209T125202Z
UID:49144-1708799400-1708813800@metalexpress.sk
SUMMARY:20 rokov na ťahu\,alebo Jakubysko oslavuje dvadsať rokov!
DESCRIPTION:JaKuBysKo ťa zvú na prvú a …dúfam nie poslednú akciu tohto hlukového charakteru. Na Bar(bare) ako vždy nadupané pivné šlágre. Pochopiteľne bude aj vlezné. \nZvukovody ti vyčistia:\nBETON [BA]\nnaveky nasratý deathmetal / d-takt\nhttps://betoncrust.bandcamp.com/ \nJAKUBYSKO [ZV]\nhobby-violence-kapela\nhttps://jakubysko.bandcamp.com/ \nFYASCO [TN]\nvokálnoinštrumentálnapičovina\nhttps://fyasco.bandcamp.com/ \nRUINEUM [ZV]\ndeathmetalová záhuba\nhttps://ruineum.bandcamp.com/  \nDátum: 24.02.2024\nMiesto: BarBar\, Zvolen\nFB Udalosť: https://www.facebook.com/events/935797854204968/ \nPoužitý text pochádza z FB udalosti
URL:https://metalexpress.sk/event/20-rokov-na-tahualebo-jakubysko-oslavuje-dvadsat-rokov/
LOCATION:BarBar Zvolen\, Nám. SNP 36\, Zvolen\, Slovakia\, Zvolen\, Banskobystrický kraj\, Slovenská republika
CATEGORIES:Kalendár,Koncerty,Udalosti
ATTACH;FMTTYPE=image/jpeg:https://metalexpress.sk/wp-content/uploads/2024/02/425727814_10230206431600000_8964387993671315508_n.jpg
END:VEVENT
BEGIN:VEVENT
DTSTART;TZID=Europe/Bratislava:20240224T190000
DTEND;TZID=Europe/Bratislava:20240224T223000
DTSTAMP:20260421T022754
CREATED:20240219T145453Z
LAST-MODIFIED:20240220T140607Z
UID:49262-1708801200-1708813800@metalexpress.sk
SUMMARY:Metal Pod Hradom
DESCRIPTION:COLDBLOODED pochádzajú z Bánoviec nad Bebravou. Ich tvorbu môžeme označiť za nekompromisný moderný hard core. Energiou nabité gitarové riffy nenechajú určite nikoho chladným a budú tým pravým orechovým na otvorenie tohto metalového večera. Za mikrofónom bude mať premiéru ich nový frontman\, tak držíme palce!!\nFB: https://www.facebook.com/CLBDofficial \nBREAKING THE TAROT je metal coreová kapela z Košíc. Založili ju v máji 2021 bývalí členovia slovenských kapiel ako Dementor\, Within Silence\, Meredith\, čiže všetko ostrieľaní\, vetrom a rokmi ošľahaní borci. Aktuálne kapele vyšlo debutové album „Beyond The Breaking Point“ pod hlavičkou slovenského vydavateľstva Gothoom productions.\nFB: https://hyperfollow.com/breakingthetarot \nPANYCHIDA pochádza z Plzne a potuluje sa nielen českými kotlinami už od roku 2005. Z pôvodného Pagan/Black Metalu sa v priebehu rokov vyvinul skôr temnejší Heavy metal s prvkami Black a Melodic Death Metalu. Aktuálna éra sa točí okolo zatiaľ poslednej vydanej\, česky spievanej dosky Gabreta Aeterna a následného EP Dreisessel~Říruřec. Oba počiny sú venované ich krásnej a temnej Šumave. PANYCHIDA nedávno oznámila tiež zmenu na poste frontmana a predstaví sa u nás v novej zostave.\nFB: https://www.panychida.com/ \nPagan metalový martinský RAMCHAT založila známa slovenská metalová persóna\, Pavel „Hirax“ Baričák v roku 2013 po odchode z Lunatic Gods\, čiže koncom minulého roka kapela oslávila 10 rokov na scéne. Za ten čas má za sebou bohatú diskografiu a získala si srdcia metalových fanúšikov po celom svete. Ramchat koncertoval na mnohých festivaloch\, potiahol nejednu slovensko-českú klubovú šnúru\, hral na Hellfeste vo Francuzsku\, uskutočnil miniturné v Rusku a Poľsku. Ich pódiová show je nenapodobiteľná\, plná dynamiky a pestrosti. Ani trenčianskemu fanúšikovi nie sú neznámi\, nakoľko kapela už v našom meste niekoľko krát vystupovala a vždy s výbornou odozvou!\nFB: https://www.facebook.com/ramchatband \nDomácu legendu DEPRESY netreba nejako zvlášť predstavovať. Na trenčianskej klubovej scéne sú stálicou. Týmto vystúpením odštartujú koncertné ťaženie v novom roku. Opäť sa môžeme tešiť na show poskladanú zo starých aj nových songov\, ktoré mapujú ich viac ako 30 ročné pôsobenie na scéne.\nFB: https://www.facebook.com/depresyofficial \nČasový rozpis:\n19:00 – 19:35 Coldblooded\n19:50 – 20:30 Breaking The Tarot\n20:45 – 21:45 Ramchat\n22:00 – 23:00 Depresy\n23:15 – 00:15 Panychida \nDátum: 24.2.2024\nMiesto: Klub Lúč\, Trenčín\nVstup: 15€\nFB Event: https://www.facebook.com/events/391092363389356 \nText pochádza FB udalosti
URL:https://metalexpress.sk/event/49262/
LOCATION:Klub Lúč\, Mierové námestie 19\, Trencin\, Slovakia\, Trenčín\, Trenčín\, Slovenská republika
ATTACH;FMTTYPE=image/jpeg:https://metalexpress.sk/wp-content/uploads/2024/02/MetalpH.jpg
END:VEVENT
END:VCALENDAR