BEGIN:VCALENDAR
VERSION:2.0
PRODID:-//MetalExpress - ECPv6.15.19//NONSGML v1.0//EN
CALSCALE:GREGORIAN
METHOD:PUBLISH
X-WR-CALNAME:MetalExpress
X-ORIGINAL-URL:https://metalexpress.sk
X-WR-CALDESC:Udalosti pre MetalExpress
REFRESH-INTERVAL;VALUE=DURATION:PT1H
X-Robots-Tag:noindex
X-PUBLISHED-TTL:PT1H
BEGIN:VTIMEZONE
TZID:Europe/Bratislava
BEGIN:DAYLIGHT
TZOFFSETFROM:+0100
TZOFFSETTO:+0200
TZNAME:CEST
DTSTART:20230326T010000
END:DAYLIGHT
BEGIN:STANDARD
TZOFFSETFROM:+0200
TZOFFSETTO:+0100
TZNAME:CET
DTSTART:20231029T010000
END:STANDARD
BEGIN:DAYLIGHT
TZOFFSETFROM:+0100
TZOFFSETTO:+0200
TZNAME:CEST
DTSTART:20240331T010000
END:DAYLIGHT
BEGIN:STANDARD
TZOFFSETFROM:+0200
TZOFFSETTO:+0100
TZNAME:CET
DTSTART:20241027T010000
END:STANDARD
BEGIN:DAYLIGHT
TZOFFSETFROM:+0100
TZOFFSETTO:+0200
TZNAME:CEST
DTSTART:20250330T010000
END:DAYLIGHT
BEGIN:STANDARD
TZOFFSETFROM:+0200
TZOFFSETTO:+0100
TZNAME:CET
DTSTART:20251026T010000
END:STANDARD
END:VTIMEZONE
BEGIN:VEVENT
DTSTART;TZID=Europe/Bratislava:20240127T180000
DTEND;TZID=Europe/Bratislava:20240127T180000
DTSTAMP:20260421T035938
CREATED:20240121T154331Z
LAST-MODIFIED:20240121T154331Z
UID:49001-1706378400-1706378400@metalexpress.sk
SUMMARY:Ramchat a Infer v sobotu v Strážskom!
DESCRIPTION:Silno elektrizujúce a nezabudnuteľné vystúpenie kapely RAMCHAT\, ktorý si už od svojich začiatkov začal budovať vlastnú hudobnú cestu\, vlastný štýl\, ktorý ho ľahko odlišuje od iných kapiel a ktorý stavia na hudobnej rozmanitosti a neskutočne skvelých textoch.\nSpolu s Ramchatom vystúpi už známa stálica slovenského undegroundu z východoslovenskej metropoly\, black/death metalový INFER.\n\nRAMCHAT\n\nINFER\n \nDátum: 27.01.2023\nMiesto: Park Pub\, Strážske\nŠtart: 19:00\nFB Udalosť: https://www.facebook.com/events/709510714452659/
URL:https://metalexpress.sk/event/ramchat-a-infer-v-sobotu-v-strazskom/
LOCATION:Park Pub Strážske\, Laborecká\, Strazske\, Slovakia\, Strážske\, 07222\, Slovenská republika
CATEGORIES:Kalendár,Koncerty,Udalosti
ATTACH;FMTTYPE=image/jpeg:https://metalexpress.sk/wp-content/uploads/2024/01/418952334_846530313938299_3514176377228686121_n.jpg
END:VEVENT
BEGIN:VEVENT
DTSTART;TZID=Europe/Bratislava:20240127T180000
DTEND;TZID=Europe/Bratislava:20240127T210000
DTSTAMP:20260421T035938
CREATED:20240122T150212Z
LAST-MODIFIED:20240122T150212Z
UID:49020-1706378400-1706389200@metalexpress.sk
SUMMARY:Louder than Hell pt. 3 už v sobotu v Kanianke!
DESCRIPTION:Pravý metal sa vracia do Kanianky!\nJediný slovenský Manowar Tribute – Warriors of Steel v zložení Mayo Petranin – spev\, Zolti Daraban – gitara\, Janko Kovár – bicie a Juraj Ondrejmiška – basa prinesie tie najlegendárnejšie hymny kráľov metalu! Hail & Kill! Fuck the World! \nPOZOR ZMENA\nMotörscream sa ospravedlnili\, ale podarilo sa nám zachovať spojenie Manowar+Motörhead! Set tých najzásadnejších hitov Lemmyho a spol. nám doručí Motherhood z Bratislavy! Tribute Motherhood vznikol pri príležitosti 1. výročia úmrtia Lemmyho v r. 2016\, v zostave Michal – spev\, basa\, Marek – gitara a Lojzo bicie. Motherhood môžte poznať z pravidelnej bratislavskej spomienkovej akcie Randal pre Lemmyho! \nTak neváhaj a príď do Momentu (bývalý Matrix)! \nDátum: 27.01.2023\nMiesto: Moment Club\, Kanianka\nZačiatok: 19.00\nFB Udalosť: https://www.facebook.com/events/998021128129642/ \nText prebratý z FB Udalosti
URL:https://metalexpress.sk/event/louder-than-hell-pt-3-uz-v-sobotu-v-kanianke/
LOCATION:Moment Club Kanianka\, SNP 588/2\, Kanianka\, Slovakia\, Kanianka\, Prievidza\, Kanianka\, Slovakia (Slovak Republic)
CATEGORIES:Kalendár,Koncerty,Udalosti
ATTACH;FMTTYPE=image/jpeg:https://metalexpress.sk/wp-content/uploads/2024/01/418954731_1799296523848874_8882319982038172401_n.jpg
END:VEVENT
END:VCALENDAR