BEGIN:VCALENDAR
VERSION:2.0
PRODID:-//MetalExpress - ECPv6.15.19//NONSGML v1.0//EN
CALSCALE:GREGORIAN
METHOD:PUBLISH
X-ORIGINAL-URL:https://metalexpress.sk
X-WR-CALDESC:Udalosti pre MetalExpress
REFRESH-INTERVAL;VALUE=DURATION:PT1H
X-Robots-Tag:noindex
X-PUBLISHED-TTL:PT1H
BEGIN:VTIMEZONE
TZID:Europe/Bratislava
BEGIN:DAYLIGHT
TZOFFSETFROM:+0100
TZOFFSETTO:+0200
TZNAME:CEST
DTSTART:20230326T010000
END:DAYLIGHT
BEGIN:STANDARD
TZOFFSETFROM:+0200
TZOFFSETTO:+0100
TZNAME:CET
DTSTART:20231029T010000
END:STANDARD
BEGIN:DAYLIGHT
TZOFFSETFROM:+0100
TZOFFSETTO:+0200
TZNAME:CEST
DTSTART:20240331T010000
END:DAYLIGHT
BEGIN:STANDARD
TZOFFSETFROM:+0200
TZOFFSETTO:+0100
TZNAME:CET
DTSTART:20241027T010000
END:STANDARD
BEGIN:DAYLIGHT
TZOFFSETFROM:+0100
TZOFFSETTO:+0200
TZNAME:CEST
DTSTART:20250330T010000
END:DAYLIGHT
BEGIN:STANDARD
TZOFFSETFROM:+0200
TZOFFSETTO:+0100
TZNAME:CET
DTSTART:20251026T010000
END:STANDARD
END:VTIMEZONE
BEGIN:VEVENT
DTSTART;TZID=Europe/Bratislava:20240126T070000
DTEND;TZID=Europe/Bratislava:20240126T160000
DTSTAMP:20260421T053154
CREATED:20240122T145541Z
LAST-MODIFIED:20240122T145541Z
UID:49016-1706252400-1706284800@metalexpress.sk
SUMMARY:Podtatranský Mosh už tento piatok!
DESCRIPTION:Mladá krv spoji sily s veteránmi! Dojdi si zamoshovať! \n20:00 Wolnera – thrash dokrútený s hocičím\, rifľové bundy a nášivky však nečakajte\, 80te roky sú minulosť\, Wolnera je prítomnosť! Mladí gádžovia z Vranova sú síce zelenáči\, no ich debutový album je nominovaný v Rádiohlavách!\nhttps://open.spotify.com/album/472HKJmoMQDNX21eDTzIft…\nhttps://www.facebook.com/wolnera \n21:00 Black Light – nekompromisný thrash/death ktorý trhá krky a končatiny. Nie su to žiadni zelenáči\, v septembri oslávia 10te narodeniny! Košičania na konte majú už zopár albumov\, a všetky stoja za to!\nhttps://www.facebook.com/blacklightthrash \n22:00 Obliterate – grindcore z Košíc\, na scéne sú už 30 rokov\, no vajcá im ešte neodpadli\, stále režú jak páni! Nahrávok majú viac jak ty rokov\, bež si ich vypočuť!\nhttps://obliterate.bandcamp.com/ \nDátum: 26.01.2023\nMiesto: Rock Fabric\, Poprad\nVstup: 8 €\nFB Udalosť: https://www.facebook.com/events/1341905879794140/ \nText prebratý z FB udalosti
URL:https://metalexpress.sk/event/podtatransky-mosh-uz-tento-piatok/
LOCATION:Rock Fabric Poprad\, Podtatranská 149/7\, Poprad\, Slovakia\, Poprad\, Poprad\, Slovenská republika
CATEGORIES:Kalendár,Koncerty,Udalosti
ATTACH;FMTTYPE=image/jpeg:https://metalexpress.sk/wp-content/uploads/2024/01/417744589_282695974786475_1342602469252654665_n.jpg
END:VEVENT
END:VCALENDAR