BEGIN:VCALENDAR
VERSION:2.0
PRODID:-//MetalExpress - ECPv6.15.19//NONSGML v1.0//EN
CALSCALE:GREGORIAN
METHOD:PUBLISH
X-ORIGINAL-URL:https://metalexpress.sk
X-WR-CALDESC:Udalosti pre MetalExpress
REFRESH-INTERVAL;VALUE=DURATION:PT1H
X-Robots-Tag:noindex
X-PUBLISHED-TTL:PT1H
BEGIN:VTIMEZONE
TZID:Europe/Bratislava
BEGIN:DAYLIGHT
TZOFFSETFROM:+0100
TZOFFSETTO:+0200
TZNAME:CEST
DTSTART:20230326T010000
END:DAYLIGHT
BEGIN:STANDARD
TZOFFSETFROM:+0200
TZOFFSETTO:+0100
TZNAME:CET
DTSTART:20231029T010000
END:STANDARD
BEGIN:DAYLIGHT
TZOFFSETFROM:+0100
TZOFFSETTO:+0200
TZNAME:CEST
DTSTART:20240331T010000
END:DAYLIGHT
BEGIN:STANDARD
TZOFFSETFROM:+0200
TZOFFSETTO:+0100
TZNAME:CET
DTSTART:20241027T010000
END:STANDARD
BEGIN:DAYLIGHT
TZOFFSETFROM:+0100
TZOFFSETTO:+0200
TZNAME:CEST
DTSTART:20250330T010000
END:DAYLIGHT
BEGIN:STANDARD
TZOFFSETFROM:+0200
TZOFFSETTO:+0100
TZNAME:CET
DTSTART:20251026T010000
END:STANDARD
END:VTIMEZONE
BEGIN:VEVENT
DTSTART;TZID=Europe/Bratislava:20240113T180000
DTEND;TZID=Europe/Bratislava:20240113T223000
DTSTAMP:20260421T040106
CREATED:20240107T115515Z
LAST-MODIFIED:20240107T115515Z
UID:48905-1705168800-1705185000@metalexpress.sk
SUMMARY:Novoročný Výšplech - SPASM / SPERM OF MANKIND / CANNABEAST / BLAMAGE
DESCRIPTION:Milé Velrybky\, milé Sviňuchy! JE ČAS ÍSŤ SA VORVANIŤ!! 13TEHO JANUÁRA si to vyšplechneme so SPASM\, SPERM OF MANKIND a BLAMAGE v PINK WHALE!! Nebojte sa\, nebude vám treba sonar\, sme dosť hlasní!! Len si dajte bacha\, aby ste sa neutopili v decibeloch  Stroskotanie si zariaďuje každý sám\, naša Penny sa dá použiť jak záchranné koleso pre velmi limitovaný počet osôb. TEŠTE SA NA METALOVÉ ŠPLECHY!! Cmuk  \nSPASM – drum´n´bass gigolo gore grind\n \nSPERM OF MANKIND – powerful & stylish seichi-chan gore\n \nCANNABEAST – funky porno party\n \nBLAMAGE – d-beat crust priamo z garáže\n \nDátum: 13.1.2024\nMiesto: Pink Whale\, Bratislava\nFB Event: https://www.facebook.com/events/385102110610739 \nText pochádza z FB udalosti
URL:https://metalexpress.sk/event/novorocny-vysplech-spasm-sperm-of-mankind-cannabeast-blamage/
LOCATION:Pink Whale\, Nábrežie armádneho generála Ludvíka Svobodu 1868rkm\, 811 02 Staré Mesto\, Bratislava\, Slovakia 0911 177 172\, Bratislava\, Bratislava\, 81102\, Slovenská republika
ATTACH;FMTTYPE=image/jpeg:https://metalexpress.sk/wp-content/uploads/2024/01/240113_Pinkwhale.jpg
END:VEVENT
END:VCALENDAR