BEGIN:VCALENDAR
VERSION:2.0
PRODID:-//MetalExpress - ECPv6.15.19//NONSGML v1.0//EN
CALSCALE:GREGORIAN
METHOD:PUBLISH
X-ORIGINAL-URL:https://metalexpress.sk
X-WR-CALDESC:Udalosti pre MetalExpress
REFRESH-INTERVAL;VALUE=DURATION:PT1H
X-Robots-Tag:noindex
X-PUBLISHED-TTL:PT1H
BEGIN:VTIMEZONE
TZID:Europe/Bratislava
BEGIN:DAYLIGHT
TZOFFSETFROM:+0100
TZOFFSETTO:+0200
TZNAME:CEST
DTSTART:20220327T010000
END:DAYLIGHT
BEGIN:STANDARD
TZOFFSETFROM:+0200
TZOFFSETTO:+0100
TZNAME:CET
DTSTART:20221030T010000
END:STANDARD
BEGIN:DAYLIGHT
TZOFFSETFROM:+0100
TZOFFSETTO:+0200
TZNAME:CEST
DTSTART:20230326T010000
END:DAYLIGHT
BEGIN:STANDARD
TZOFFSETFROM:+0200
TZOFFSETTO:+0100
TZNAME:CET
DTSTART:20231029T010000
END:STANDARD
BEGIN:DAYLIGHT
TZOFFSETFROM:+0100
TZOFFSETTO:+0200
TZNAME:CEST
DTSTART:20240331T010000
END:DAYLIGHT
BEGIN:STANDARD
TZOFFSETFROM:+0200
TZOFFSETTO:+0100
TZNAME:CET
DTSTART:20241027T010000
END:STANDARD
END:VTIMEZONE
BEGIN:VEVENT
DTSTART;TZID=Europe/Bratislava:20231227T180000
DTEND;TZID=Europe/Bratislava:20231227T210000
DTSTAMP:20260421T070127
CREATED:20231227T113316Z
LAST-MODIFIED:20231227T113316Z
UID:48797-1703700000-1703710800@metalexpress.sk
SUMMARY:Nerva | Ničiteľ | Distax | v Spišskej Novej Vsi
DESCRIPTION:Po dlhšej pauze sme sa s Ničiteľom rozhodli zorganizovať v Spišskej koncert a prizvať k tomu spriatelené kapely. 27. 12. sa preto v pivnici divadla Kontra môžete tešiť na koncerty kapiel Nerva\, Ničiteľ a Distax. \nNerva\npunk\, KE\nnervapunx.bandcamp.com \nNičiteľ\ndark bass and drum core\, SN\nnicitel.bandcamp.com \nDistax\ncrust\, PP\ndistax.bandcamp.com \nDátum: 27.12.2023\nMiesto: Divadlo Kontra\, Spišská Nová Ves\nVstupné je dobrovoľné: 5 – 8 €\nFB Udalosť: https://www.facebook.com/events/1039706173939570/ \nText a informácie prebraté z FB udalosti
URL:https://metalexpress.sk/event/nerva-nicitel-distax-v-spisskej-novej-vsi/
LOCATION:Divadlo Kontra\, Spišská Nová Ves\, Zimná 68\, Spisska Nova Ves\, Slovakia\, Spišská Nová Ves\, Slovenská republika
CATEGORIES:Udalosti
ATTACH;FMTTYPE=image/jpeg:https://metalexpress.sk/wp-content/uploads/2023/12/403829279_6092758147494205_7939546005239832341_n.jpg
END:VEVENT
END:VCALENDAR