BEGIN:VCALENDAR
VERSION:2.0
PRODID:-//MetalExpress - ECPv6.15.19//NONSGML v1.0//EN
CALSCALE:GREGORIAN
METHOD:PUBLISH
X-ORIGINAL-URL:https://metalexpress.sk
X-WR-CALDESC:Udalosti pre MetalExpress
REFRESH-INTERVAL;VALUE=DURATION:PT1H
X-Robots-Tag:noindex
X-PUBLISHED-TTL:PT1H
BEGIN:VTIMEZONE
TZID:Europe/Bratislava
BEGIN:DAYLIGHT
TZOFFSETFROM:+0100
TZOFFSETTO:+0200
TZNAME:CEST
DTSTART:20220327T010000
END:DAYLIGHT
BEGIN:STANDARD
TZOFFSETFROM:+0200
TZOFFSETTO:+0100
TZNAME:CET
DTSTART:20221030T010000
END:STANDARD
BEGIN:DAYLIGHT
TZOFFSETFROM:+0100
TZOFFSETTO:+0200
TZNAME:CEST
DTSTART:20230326T010000
END:DAYLIGHT
BEGIN:STANDARD
TZOFFSETFROM:+0200
TZOFFSETTO:+0100
TZNAME:CET
DTSTART:20231029T010000
END:STANDARD
BEGIN:DAYLIGHT
TZOFFSETFROM:+0100
TZOFFSETTO:+0200
TZNAME:CEST
DTSTART:20240331T010000
END:DAYLIGHT
BEGIN:STANDARD
TZOFFSETFROM:+0200
TZOFFSETTO:+0100
TZNAME:CET
DTSTART:20241027T010000
END:STANDARD
END:VTIMEZONE
BEGIN:VEVENT
DTSTART;TZID=Europe/Bratislava:20231225T180000
DTEND;TZID=Europe/Bratislava:20231225T223000
DTSTAMP:20260423T115352
CREATED:20231221T162644Z
LAST-MODIFIED:20231221T162644Z
UID:48771-1703527200-1703543400@metalexpress.sk
SUMMARY:ADACTA | SLAŤ | VERRAT | LUTRA - vo FUGE!
DESCRIPTION:Tak ako takmer každý rok (s výnimkou pandémie pravdaže) sa aj tento rok uskutoční už tradičný koncert 25.12. v bratislavskom klube FUGA. Keďže tento večierok má pod palcom ADACTA\, nemôže chýbať na súpiske a o to viac\, pretože tento rok vydali aj nový album s názvom „Dno“. Ale nie len o novinke to bude samozrejme\, tešiť sa určite môžete aj na ďalšie skladby z dávnej aj novšej histórie. A bude aj nejaký hosť? Nechajme sa prekvapiť. Ťažké mazľavé bahno\, čo sa ti lepí na päty\, to je SLAŤ\, ktorí prídu z neďalekého Brna. Ešte predtým však odohrá svoj svižný crust-punk rakúska kapela VERRAT. Už vo februári sú potvrdení ako predkapela Napalm Death v Aréne vo Viedni\, takže máte sa na čo tešiť. Úlohu prvej kapely si odskáče tentokrát domáca kapela LUTRA.  \nADACTA\nhttps://www.facebook.com/adactaband\n \nSLAŤ\nhttps://slat.bandcamp.com/track/smoln-den \nVERRAT\nhttps://www.facebook.com/Verrat.punk/about\nhttps://verrat.bandcamp.com/album/zeiten-der-leere \nLUTRA\nhttps://www.facebook.com/LUTRAcrust \nDÁTUM: 25.12.2023\nMIESTO: FUGA\nFB Udalosť: https://www.facebook.com/events/6504280206360493
URL:https://metalexpress.sk/event/adacta-slat-verrat-lutra-vo-fuge/
LOCATION:FUGA\, Námestie SNP 24\, Bratislava\, Bratislavský Kraj\, Slovenská republika
CATEGORIES:Udalosti
ATTACH;FMTTYPE=image/jpeg:https://metalexpress.sk/wp-content/uploads/2023/12/396989062_822947099836219_6480927353034831927_n.jpg
END:VEVENT
END:VCALENDAR