BEGIN:VCALENDAR
VERSION:2.0
PRODID:-//MetalExpress - ECPv6.15.19//NONSGML v1.0//EN
CALSCALE:GREGORIAN
METHOD:PUBLISH
X-WR-CALNAME:MetalExpress
X-ORIGINAL-URL:https://metalexpress.sk
X-WR-CALDESC:Udalosti pre MetalExpress
REFRESH-INTERVAL;VALUE=DURATION:PT1H
X-Robots-Tag:noindex
X-PUBLISHED-TTL:PT1H
BEGIN:VTIMEZONE
TZID:Europe/Bratislava
BEGIN:DAYLIGHT
TZOFFSETFROM:+0100
TZOFFSETTO:+0200
TZNAME:CEST
DTSTART:20220327T010000
END:DAYLIGHT
BEGIN:STANDARD
TZOFFSETFROM:+0200
TZOFFSETTO:+0100
TZNAME:CET
DTSTART:20221030T010000
END:STANDARD
BEGIN:DAYLIGHT
TZOFFSETFROM:+0100
TZOFFSETTO:+0200
TZNAME:CEST
DTSTART:20230326T010000
END:DAYLIGHT
BEGIN:STANDARD
TZOFFSETFROM:+0200
TZOFFSETTO:+0100
TZNAME:CET
DTSTART:20231029T010000
END:STANDARD
BEGIN:DAYLIGHT
TZOFFSETFROM:+0100
TZOFFSETTO:+0200
TZNAME:CEST
DTSTART:20240331T010000
END:DAYLIGHT
BEGIN:STANDARD
TZOFFSETFROM:+0200
TZOFFSETTO:+0100
TZNAME:CET
DTSTART:20241027T010000
END:STANDARD
END:VTIMEZONE
BEGIN:VEVENT
DTSTART;TZID=Europe/Bratislava:20231210T180000
DTEND;TZID=Europe/Bratislava:20231210T220000
DTSTAMP:20260423T102035
CREATED:20231202T133507Z
LAST-MODIFIED:20231202T133507Z
UID:48501-1702231200-1702245600@metalexpress.sk
SUMMARY:ROTTEN SOUND (Fi) / WARFUCK (Fr) / THORWALD (Sk)
DESCRIPTION:Fínska grindcore legenda ROTTEN SOUND sa v rámci svojho tour s francúzskymi WARFUCK zastavia aj v Košickom Colloseu\, kde im budú robiť spoločnosť aj miestni\, švédskym soundom nasiaknutí THORWALD. \nROTTEN SOUND [Fínsko] grindcore\nhttps://www.instagram.com/rottensoundgrind/\nhttps://www.facebook.com/RottenSoundOfficial\n \nWARFUCK [Francúzsko] grindcore duo\nhttps://www.facebook.com/wrfck\nhttps://www.instagram.com/warfuckgrindcore/\n \nTHORWALD [Košice] grind-death\nhttps://www.facebook.com/Thorwaldgrind\nhttps://thorwald.bandcamp.com/\n \nDátum: 10.12.2023\nMiesto: Colloseum\, Kopšice\nVstup: 22€\nPredpredaj: https://collosseum.sk/event/rotten-sound-fi-warfuck-fr-thorwald-sk/?fbclid=IwAR1z9nBjY33cn1qRFB-mcKH9la7hDkgU8E8k4ZCowNRT4drGQTENVxoUL3c\nFB Udalosť: https://www.facebook.com/events/225437090326198
URL:https://metalexpress.sk/event/rotten-sound-fi-warfuck-fr-thorwald-sk/
LOCATION:Collosseum\, Dominikánske námestie 35\, Košice\, Košice\, 04001\, Slovenská republika
CATEGORIES:Kalendár,Koncerty,Udalosti
ATTACH;FMTTYPE=image/jpeg:https://metalexpress.sk/wp-content/uploads/2023/12/rotten1012.jpg
END:VEVENT
END:VCALENDAR