BEGIN:VCALENDAR
VERSION:2.0
PRODID:-//MetalExpress - ECPv6.15.19//NONSGML v1.0//EN
CALSCALE:GREGORIAN
METHOD:PUBLISH
X-ORIGINAL-URL:https://metalexpress.sk
X-WR-CALDESC:Udalosti pre MetalExpress
REFRESH-INTERVAL;VALUE=DURATION:PT1H
X-Robots-Tag:noindex
X-PUBLISHED-TTL:PT1H
BEGIN:VTIMEZONE
TZID:Europe/Bratislava
BEGIN:DAYLIGHT
TZOFFSETFROM:+0100
TZOFFSETTO:+0200
TZNAME:CEST
DTSTART:20220327T010000
END:DAYLIGHT
BEGIN:STANDARD
TZOFFSETFROM:+0200
TZOFFSETTO:+0100
TZNAME:CET
DTSTART:20221030T010000
END:STANDARD
BEGIN:DAYLIGHT
TZOFFSETFROM:+0100
TZOFFSETTO:+0200
TZNAME:CEST
DTSTART:20230326T010000
END:DAYLIGHT
BEGIN:STANDARD
TZOFFSETFROM:+0200
TZOFFSETTO:+0100
TZNAME:CET
DTSTART:20231029T010000
END:STANDARD
BEGIN:DAYLIGHT
TZOFFSETFROM:+0100
TZOFFSETTO:+0200
TZNAME:CEST
DTSTART:20240331T010000
END:DAYLIGHT
BEGIN:STANDARD
TZOFFSETFROM:+0200
TZOFFSETTO:+0100
TZNAME:CET
DTSTART:20241027T010000
END:STANDARD
END:VTIMEZONE
BEGIN:VEVENT
DTSTART;TZID=Europe/Bratislava:20231208T170000
DTEND;TZID=Europe/Bratislava:20231209T223000
DTSTAMP:20260421T070127
CREATED:20231202T112236Z
LAST-MODIFIED:20231202T112248Z
UID:48451-1702054800-1702161000@metalexpress.sk
SUMMARY:MEMORY ERROR vol.XI
DESCRIPTION:Po roku Vás znova pozývame na tentorkát DVOJDŇOVÉ indoor podujatie MEMORY ERROR\, kde sa každoročne oslavuje sviatok trvdej hudby. Tento rok Vám nabitý line-up ponúka dva dni plné zloby\, kde si každý príde na svoje. Pripravte si krky\, lakte a zažite s nami surovú energiu MEMORY ERROR ako nikdy predtým. \nROTTEN SOUND\nhttps://www.facebook.com/RottenSoundOfficial\n• Grindcore /Fínsko\n \nSTERCORE\nhttps://www.facebook.com/stercore.slovakia\n• Deathcore /SK\n \nCATASTROFY\nhttps://www.facebook.com/catastrofy\n• Thrash Metal /SK\n \nABYSS ABOVE\nhttps://www.facebook.com/abyssabove\n• Deathcore /SK\n \nSILENT GENERATION\nhttps://www.facebook.com/SGBandOfficial\n• Slamming Beatdown /CZ\n \nTORTHARRY\nhttps://www.facebook.com/tortharry\n• Death Metal /CZ\n \nSTELLVRIS\nhttps://www.facebook.com/STELLVRIS.band\n• Modern Metal/Metalcore /CZ\n \nWARFUCK\nhttps://www.facebook.com/wrfck\n• Power Grindcore /Francúzko\n \nADACTA\nhttps://www.facebook.com/adactaband\n• Crustcore /SK\n \nATTACK OF RAGE\nhttps://www.facebook.com/profile.php?id=100063577211154\n• Grindcore /SK\n \nHORRIBLE CREATURES\nhttps://www.facebook.com/horriblecreaturesthrash\n• Groove Thrash/Death Metal /CZ\n \nVIRAL DISEASE \nhttps://www.facebook.com/viraldiseasedm\n• Brutal Death Metal /SK\n \nSICK SINUS SYNDROME\nhttps://www.facebook.com/6ick6inus6yndrome\n• Gore Grind /CZ\n \nDátum: 8.-9.12.2023\nMiesto: Moment Club\, Kanianka\nVstup: 18€\nFB Event: https://www.facebook.com/events/1345036479728254 \nText prebratý z FB udalosti
URL:https://metalexpress.sk/event/memory-error-vol-xi/
LOCATION:Moment Club Kanianka\, SNP 588/2\, Kanianka\, Slovakia\, Kanianka\, Prievidza\, Kanianka\, Slovakia (Slovak Republic)
CATEGORIES:Kalendár,Koncerty,Udalosti
ATTACH;FMTTYPE=image/jpeg:https://metalexpress.sk/wp-content/uploads/2023/12/kanianka3.jpg
END:VEVENT
BEGIN:VEVENT
DTSTART;TZID=Europe/Bratislava:20231209T160000
DTEND;TZID=Europe/Bratislava:20231209T223000
DTSTAMP:20260421T070127
CREATED:20231202T114318Z
LAST-MODIFIED:20231202T114318Z
UID:48458-1702137600-1702161000@metalexpress.sk
SUMMARY:Voices Of Death vpl. 12
DESCRIPTION:Voices Of Death – Jednodňový metalový festival zameraný hlavne na deth metal sa uskutoční ako vždy 2. decembrovú sobotu.\nOrganizuje: Necrosanctum. \nLine up:\nPerversity (death\, Prešov)\nFB: https://www.facebook.com/perversityband \nInfer (death-black\, Košice)\nFB: https://www.facebook.com/infer666 \nRealms Of Chaos (death\, Banská Bystrica)\nFB: https://www.facebook.com/RealmsOfChaosSVK \nNecrosanctum (death\, Lednické Rovne)\nFB: https://www.facebook.com/Necrosanctumsk \nKrajiny Hmly (black\, Žilina)\nFB: https://www.facebook.com/krajinyhmlysk \nPseudosapiens (Groove-melodic\, Revúca)\nFB: https://www.facebook.com/pseudosapiens.metal \nDátum: 9.12.2023\nMiesto: DK Lednické Rovné\nFB Event: https://www.facebook.com/events/679397724164502
URL:https://metalexpress.sk/event/voices-of-death-vpl-12/
LOCATION:DK Lednické Rovné\, Uhrovecká 46/33\, Lednické Rovné\, Slovakia\, 02061\, Slovakia (Slovak Republic)
CATEGORIES:Kalendár,Koncerty,Udalosti
ATTACH;FMTTYPE=image/jpeg:https://metalexpress.sk/wp-content/uploads/2023/12/voicesod.jpg
END:VEVENT
BEGIN:VEVENT
DTSTART;TZID=Europe/Bratislava:20231209T160000
DTEND;TZID=Europe/Bratislava:20231209T223000
DTSTAMP:20260421T070127
CREATED:20231202T163735Z
LAST-MODIFIED:20231202T163735Z
UID:48511-1702137600-1702161000@metalexpress.sk
SUMMARY:KrutoFest Martins 2023
DESCRIPTION:Výročie desiatich rokov existencie martinského Ramchat na metalovej scéne kapela oslávi festivalom KrutoFest 2023\, ktorého sa zúčastní 8 slovenských a českých black\, death a folk metalových kapiel. Akcia sa preto bude konať vo väčšom priestore\, v kultúrnom dome v obci Dražkovce\, prvej dediny za Martinom smerom na Sklabiňu (Národný cintorín). \n– Ramchat (10 rokov na scéne\, pagan black / death metal\, Martin)\n \n– Depresy (death / black metal\, Slovensko)\n \n– Tortharry (death metal\, Čechy)\n \n– Panychida (pagan black metal\, Čechy)\n \n– Ador Dorath (symfo black metal\, Morava)\n \n– Krajiny Hmly (pagan black metal\, Slovensko)\n \n– Dark Seal (pagan black metal\, Brno\, Morava)\n \n– Poludnica (pagan folk / heavy metal\, Slovensko)\n \nJedlo a pitie:\nV sále bude bufet s pochutinami (tyčinky\, čipsy\, dobošky…)\, z teplého jedla budú minimálne párky.\nČapovať sa bude výborné\, horké\, martinské pivo Martins.\nPlus\, samozrejme\, kofola\, biele i červené víno\, základný alkohol (borovička\, vodka\, rum\, whisky\, gin\, becherovka\, becherovka…).\nTipy na spanie:\n1\, Penzión u Martina (0908 234 694) – jediný penzión v obci Dražkovce\, kde sa bude konať koncert.\n2\, Penzión Maja (0433240233) – už v meste Martin\, ale najbližšie k sále\nTaxíky: Hifo Taxi: 0915 370 690 \nDátum: 9.12.2023\nMiesto: DK Dražkovce\nVstup: 18€ – Vstupenky sú limitované\, po vypredaní uvoľneného počtu bude k dispozícii už len ďalšia séria\nPredpredaj: https://tootoot.fm/sk/events/64f85f431b234e0b58a1c19b?fbclid=IwAR0cK1AqCJjLBGMFuTorjmB9Wmj_ws7YMJ2qPqtnELUTvkkt3-8A3Cc2KZ4\nFB Event: https://www.facebook.com/events/2171445616388602 \nText prevzatý z FB udalosti
URL:https://metalexpress.sk/event/krutofest-martins-2023/
LOCATION:DK Dražkovce\, Dražkovce 45\, Dražkovce\, Slovakia\, 03802\, Slovakia (Slovak Republic)
CATEGORIES:Kalendár,Koncerty,Udalosti
ATTACH;FMTTYPE=image/jpeg:https://metalexpress.sk/wp-content/uploads/2023/12/ramcat-scaled.jpg
END:VEVENT
BEGIN:VEVENT
DTSTART;TZID=Europe/Bratislava:20231209T170000
DTEND;TZID=Europe/Bratislava:20231209T223000
DTSTAMP:20260421T070127
CREATED:20231202T121402Z
LAST-MODIFIED:20231202T121402Z
UID:48472-1702141200-1702161000@metalexpress.sk
SUMMARY:Šuriansky Masaker 2023
DESCRIPTION:Pozývame Vás na koncert v Šuranoch!\nPríď si vypočuť kvalitnú muziku a vypiť dobré pivo v spoločnosti Metalovej komunity! \nZahrajú Vám:\nKrudus (Bratislava)\n \nFlaming Beast (Veľká Maňa)\n \nHomo Primitive (Bratislava)\n \nDátum: 9.12.2023\nMiesto: DOLE – underground culture pub\, Šurany\nVstup: 5€\nFB Event: https://www.facebook.com/events/149340781593665 \nText pochádza z FB udalosti
URL:https://metalexpress.sk/event/suriansky-masaker-2023/
LOCATION:DOLE – Underground Culture Pub\, M.R.Štefánika 3\, Šurany 942 01\, Surany\, Slovakia\, Šurany\, 94201\, Slovenská republika
CATEGORIES:Kalendár,Koncerty,Udalosti
ATTACH;FMTTYPE=image/jpeg:https://metalexpress.sk/wp-content/uploads/2023/12/surany.jpg
ORGANIZER;CN="Krudus":MAILTO:krudusband@gmail.com
END:VEVENT
BEGIN:VEVENT
DTSTART;TZID=Europe/Bratislava:20231209T173000
DTEND;TZID=Europe/Bratislava:20231209T223000
DTSTAMP:20260421T070127
CREATED:20231202T123515Z
LAST-MODIFIED:20231202T123515Z
UID:48480-1702143000-1702161000@metalexpress.sk
SUMMARY:Chliev #5 - Thulsa\, Jakubysko\, Strage di Stato\, Blamage
DESCRIPTION:Do Košického Collosea mieria nekompromisné punk / crust / grind bandy pod vlajkou 5. Chlievu \n———————————–\nTHULSA (heavy metalpunk\, Brno)\nhttps://www.facebook.com/thulsaband\nhttps://www.instagram.com/t.h.u.l.s.a\nJAKUBYSKO (grindcore/violence\, Zvolen)\nhttps://jakubysko.bandcamp.com\nhttps://www.instagram.com/jakubysko\nSTRAGE DI STATO (raw punk madness\, Brno)\nhttps://stragedistato.bandcamp.com\nhttps://www.facebook.com/profile.php?id=100069952599657\nBLAMAGE (d-beat crust\, Bratislava)\nhttps://blamage.bandcamp.com/\nhttps://www.facebook.com/profile.php?id=100076845524399\nhttps://www.instagram.com/blamage.crust/\n———————————– \n– na koncerte bude k dispozicii navareneho plno jedla\, za ktore ak zaplatiš\, pomožeš tomu\, aby akcia nebola v strate\n– nefajčiarska akcia (ani vape\, ani zahrievaky)\, na akcii sa konzumuje jedlo a žije zdravo\, tak si to tam nesmraďme.. tentoraz vyskušame aj experiment so zatiahnutou plachtou cez cely balkon\, dobre bude\n– GNWP\n– prečitaj si „manifest“ Chliev-u\nhttps://www.facebook.com/chliev/posts/pfbid08Xe3zH79n9xgkaobS6T3cnCG8wz8QJd6ToYQoXwbfaYTC4Q9x3JbDVQZQCYKhXcTl \nDátum: 9.12.2023\nMiesto: Colloseum\, Košice\nVstup: 5-12€ (rozhodni sa podľa seba\, maš cca predstavu koľko na take akcie chodi ľudi)\nFB Event: https://www.facebook.com/events/282983977973262 \nText čiastočne prevzatý z FB udalosti
URL:https://metalexpress.sk/event/chliev-5-thulsa-jakubysko-strage-di-stato-blamage/
LOCATION:Collosseum\, Dominikánske námestie 35\, Košice\, Košice\, 04001\, Slovenská republika
ATTACH;FMTTYPE=image/jpeg:https://metalexpress.sk/wp-content/uploads/2023/12/chliev5.jpg
ORGANIZER;CN="Chliev":MAILTO:nervapunx@gmail.com
END:VEVENT
BEGIN:VEVENT
DTSTART;TZID=Europe/Bratislava:20231209T180000
DTEND;TZID=Europe/Bratislava:20231209T210000
DTSTAMP:20260421T070127
CREATED:20231202T124530Z
LAST-MODIFIED:20231202T124905Z
UID:48487-1702144800-1702155600@metalexpress.sk
SUMMARY:Garáže na Werande - Pipesh / Raid Siren / Seks / Junkfish
DESCRIPTION:Neskorú Mikulášsku Nádielku ti nadelia štyri pankové kapely! \nPipesh – https://pipesh.bandcamp.com/album/maschinerie\nRaid Siren – https://raidsiren.bandcamp.com/album/raid-siren-ep\nSeks – https://www.instagram.com/seks.unofficial/\nJunkfish – https://junkfishsk.bandcamp.com/album/soul-crush \nBudú aj veganské srandy \nDátum: 9.12.2023\nMiesto: Weranda\, Bratislava\nFB Event: https://www.facebook.com/events/261293406877906 \nTest pochádza z FB udalosti
URL:https://metalexpress.sk/event/48487/
LOCATION:Weranda\, Májová 3303/23\, 851 01 Bratislava-Petržalka\, Bratislava\, Slovenská republika
CATEGORIES:Kalendár,Koncerty,Udalosti
ATTACH;FMTTYPE=image/jpeg:https://metalexpress.sk/wp-content/uploads/2023/12/weranda912.jpg
END:VEVENT
BEGIN:VEVENT
DTSTART;TZID=Europe/Bratislava:20231209T180000
DTEND;TZID=Europe/Bratislava:20231209T220000
DTSTAMP:20260421T070127
CREATED:20231202T130546Z
LAST-MODIFIED:20231202T130546Z
UID:48496-1702144800-1702159200@metalexpress.sk
SUMMARY:DICHOTOMY OF DARKNESS / Žilina - Udånde / Solipsism / Patriarcha / Berstuk
DESCRIPTION:Čierne mračná sa zhlukujú nad Žilinským Smer klubom\, ako mrazivá predzvesť black – death metalovej pohromy DICHOTOMY OF DARKNESS. \nLineup: \nUdånde – je Dánsky atmospheric black metalový projekt založený v Bratislave. Projekt vydal dva albumy od roku 2021 pod hlavičkou German Vendetta records. Na pódiu uvidíte hudobníkov z Bratislavskej scény a kapiel ako Holotropic a Rawcvlt.\n \nSolipsism – Z Banskej Bystrice sa hlásia Solipsism\, ktorí vznikli v roku 2018 s víziou vytvárať black metal s vlastnou tvárou\, alebo ako to nazývajú oni – negative black metal. Ich úzkostlivý\, melancholickýmix moderných a tradičných prístupov k žánru upútal rumunské vydavateľstvo Sun & Moon Records\, ktoré im doposiaľ vydalo jedno EPčko v roku 2020 a štúdiový album Our Night Never Ends v 2022.\n \nPatriarcha – je blackened-deathmetalové zoskupenie zo Slovenskej obce Slaská\, hrajúce melodický black/death metal s technickými vsuvkami. Aktuálne prezentujú najmä posledný album „Tumulus“\, ktorý vyšiel v roku 2021 pod hlavičkou Gothoom productions\, ale aj niekoľko noviniek.\n \nBerstuk – svoje korene na začiatku zapustil v Likavke ako jednočlenná kapela. Po vydaní prvého dema „Vláda rukou smrti“ sa do kapely pridal vokalista a spolu vydali debutový album „Keď korene vyrašia“. Momentálne je Berstuk už päť členná kapela hrajúca black metal s pestrými melódiami a miestami nezvyčajnými riffm\n \nDátum: 9.12.2023\nMiesto: Smer Klub 77\, Žilina\nVstup: 10€\nFB Event: https://www.facebook.com/events/1313540442895531 \nPopisky kapiel pochádzajú z FB udalosti
URL:https://metalexpress.sk/event/dichotomy-of-darkness-zilina-udande-solipsism-patriarcha-berstuk/
LOCATION:Smer Klub 77 Žilina\, R. Zaymusa 72/8\, Zilina\, Slovakia\, Žilina\, Žilina\, Slovenská republika
ATTACH;FMTTYPE=image/jpeg:https://metalexpress.sk/wp-content/uploads/2023/12/zilina912.jpg
END:VEVENT
END:VCALENDAR