BEGIN:VCALENDAR
VERSION:2.0
PRODID:-//MetalExpress - ECPv6.15.19//NONSGML v1.0//EN
CALSCALE:GREGORIAN
METHOD:PUBLISH
X-WR-CALNAME:MetalExpress
X-ORIGINAL-URL:https://metalexpress.sk
X-WR-CALDESC:Udalosti pre MetalExpress
REFRESH-INTERVAL;VALUE=DURATION:PT1H
X-Robots-Tag:noindex
X-PUBLISHED-TTL:PT1H
BEGIN:VTIMEZONE
TZID:Europe/Bratislava
BEGIN:DAYLIGHT
TZOFFSETFROM:+0100
TZOFFSETTO:+0200
TZNAME:CEST
DTSTART:20220327T010000
END:DAYLIGHT
BEGIN:STANDARD
TZOFFSETFROM:+0200
TZOFFSETTO:+0100
TZNAME:CET
DTSTART:20221030T010000
END:STANDARD
BEGIN:DAYLIGHT
TZOFFSETFROM:+0100
TZOFFSETTO:+0200
TZNAME:CEST
DTSTART:20230326T010000
END:DAYLIGHT
BEGIN:STANDARD
TZOFFSETFROM:+0200
TZOFFSETTO:+0100
TZNAME:CET
DTSTART:20231029T010000
END:STANDARD
BEGIN:DAYLIGHT
TZOFFSETFROM:+0100
TZOFFSETTO:+0200
TZNAME:CEST
DTSTART:20240331T010000
END:DAYLIGHT
BEGIN:STANDARD
TZOFFSETFROM:+0200
TZOFFSETTO:+0100
TZNAME:CET
DTSTART:20241027T010000
END:STANDARD
END:VTIMEZONE
BEGIN:VEVENT
DTSTART;TZID=Europe/Bratislava:20231202T170000
DTEND;TZID=Europe/Bratislava:20231202T223000
DTSTAMP:20260421T065920
CREATED:20231129T114320Z
LAST-MODIFIED:20231129T114320Z
UID:48443-1701536400-1701556200@metalexpress.sk
SUMMARY:GAIN PARTY 4.
DESCRIPTION:Gain Party sa vracia 4. pokračovaním. Tento rok sa môžete tešit na tieto paľby: \nSick Sinus Syndrome – Patologický all stars grind CZ\nhttps://www.facebook.com/6ick6inus6yndrome\nhttps://sicksinussyndrome.bandcamp.com/ \nAbortion – Grindcore veteráni NR\nhttps://www.facebook.com/abortiongrindcore\nhttps://abortionofficial.bandcamp.com/ \nAtaraxia – Grind/hardcore tlak RK\nhttps://www.facebook.com/ataraxiark\nhttps://ataraxiark.bandcamp.com/ \nThorwald – Domáci HM2 grind KE\nhttps://www.facebook.com/Thorwaldgrind\nhttps://thorwald.bandcamp.com/ \nDátum: 2.12.2023\nMiesto: Colloseum\, Košice\nVstup: 13€\nFB Event: https://www.facebook.com/events/1330627564540810
URL:https://metalexpress.sk/event/gain-party-4/
LOCATION:Collosseum\, Dominikánske námestie 35\, Košice\, Košice\, 04001\, Slovenská republika
ATTACH;FMTTYPE=image/jpeg:https://metalexpress.sk/wp-content/uploads/2023/11/363322554_762649669195642_5592258434319202202_n.jpg
END:VEVENT
BEGIN:VEVENT
DTSTART;TZID=Europe/Bratislava:20231202T180000
DTEND;TZID=Europe/Bratislava:20231202T213000
DTSTAMP:20260421T065920
CREATED:20231129T112809Z
LAST-MODIFIED:20231129T112934Z
UID:48435-1701540000-1701552600@metalexpress.sk
SUMMARY:LIONS OF METAL // Manyac / Darchaic / Eschaton
DESCRIPTION:Levice sa budú ozývať metalom v podaní zaslúžilých predstaviteľov Slovenskej scény. \nProgram:\n19:00 – 19:45 Manyac (Thrash metal)\nhttps://www.facebook.com/manyacband\n \n20:00 – 20:45 Darchaic (Death metal)\nhttps://www.facebook.com/darchaicmetal\n \n21:00 – 21:45 Eschaton (Death metal)\nhttps://www.facebook.com/Eschaton.Slovakia\n \nDátum: 2.12.2023\nMiesto: Erko\, Levice\nVstup: 15€\nFB Event:  https://www.facebook.com/events/294199713463988
URL:https://metalexpress.sk/event/lions-of-metal-manyac-darchaic-eschaton/
LOCATION:ERKO Levice\, Poľná 6\, Levice\, Slovakia\, Levice\, Levice\, Slovenská republika
CATEGORIES:Kalendár,Koncerty,Udalosti
ATTACH;FMTTYPE=image/jpeg:https://metalexpress.sk/wp-content/uploads/2023/11/lions-veles.jpg
END:VEVENT
END:VCALENDAR