BEGIN:VCALENDAR
VERSION:2.0
PRODID:-//MetalExpress - ECPv6.15.19//NONSGML v1.0//EN
CALSCALE:GREGORIAN
METHOD:PUBLISH
X-WR-CALNAME:MetalExpress
X-ORIGINAL-URL:https://metalexpress.sk
X-WR-CALDESC:Udalosti pre MetalExpress
REFRESH-INTERVAL;VALUE=DURATION:PT1H
X-Robots-Tag:noindex
X-PUBLISHED-TTL:PT1H
BEGIN:VTIMEZONE
TZID:Europe/Bratislava
BEGIN:DAYLIGHT
TZOFFSETFROM:+0100
TZOFFSETTO:+0200
TZNAME:CEST
DTSTART:20220327T010000
END:DAYLIGHT
BEGIN:STANDARD
TZOFFSETFROM:+0200
TZOFFSETTO:+0100
TZNAME:CET
DTSTART:20221030T010000
END:STANDARD
BEGIN:DAYLIGHT
TZOFFSETFROM:+0100
TZOFFSETTO:+0200
TZNAME:CEST
DTSTART:20230326T010000
END:DAYLIGHT
BEGIN:STANDARD
TZOFFSETFROM:+0200
TZOFFSETTO:+0100
TZNAME:CET
DTSTART:20231029T010000
END:STANDARD
BEGIN:DAYLIGHT
TZOFFSETFROM:+0100
TZOFFSETTO:+0200
TZNAME:CEST
DTSTART:20240331T010000
END:DAYLIGHT
BEGIN:STANDARD
TZOFFSETFROM:+0200
TZOFFSETTO:+0100
TZNAME:CET
DTSTART:20241027T010000
END:STANDARD
END:VTIMEZONE
BEGIN:VEVENT
DTSTART;TZID=Europe/Bratislava:20231125T180000
DTEND;TZID=Europe/Bratislava:20231125T220000
DTSTAMP:20260421T083136
CREATED:20231118T145225Z
LAST-MODIFIED:20231118T145225Z
UID:48276-1700935200-1700949600@metalexpress.sk
SUMMARY:Black Light - Raid Siren - Kovošrot - Wolnera v sobotu na Werande!
DESCRIPTION:Kultúrny večer na príjemnej Werande s mladými kapelami\, z ktorých každá hrá niečo iné. Bude to výborné\, bude to fakt metal.\nLine up:\nRaid Siren: Chalani z Bratislavy okrem metalových memkov vedia naložiť aj surový D-beat / crust / stoner set. Primitívne kamenné tóny ťa chytia za srdce – veď uvidíš.\nhttps://instagram.com/raid_siren?igshid=MzRlODBiNWFlZA==\nWolnera: Sympaťáci z Vranova\, ktorí len deň pred koncertom v LM pokrstia svoj prvý album. Bude to dobrý thrash a energia – divoký east coast\, na ktorý sa tešíme.\nhttps://instagram.com/wolnera_?igshid=MzRlODBiNWFlZA==\nKovošrot: Reprezentácia zo severu. Partia super ľudí so super hudbou. Post metal / alternative metal / metal so všetkým čo chceš. Silný antifa odkaz\, mosh a emócie\, budúcnosť hudby.\nhttps://instagram.com/kovosrotkapela?igshid=MzRlODBiNWFlZA==\nBlack Light: Košický thrash/death na pomedzí oldschoolu a moderny\, circle pit v koženej veste a dlhé kadere. Chalani svoju tvorbu neustále zdokonaľujú a najnovšie ešte nevydané veci budeš môcť počuť aj v Hory Doly. Bude to rýchle a bude to dobré.\nhttps://instagram.com/blacklightthrash?igshid=MzRlODBiNWFlZA== \nDátum: 25.112023\nMiesto: Weranda\, Bratislava\nVstupné: 8 €\nFB Udalosť: https://www.facebook.com/events/232822469548433/ \nText pochádza z FB udalosti
URL:https://metalexpress.sk/event/black-light-raid-siren-kovosrot-wolnera-v-sobotu-na-werande/
LOCATION:Weranda\, Májová 3303/23\, 851 01 Bratislava-Petržalka\, Bratislava\, Slovenská republika
CATEGORIES:Udalosti
ATTACH;FMTTYPE=image/jpeg:https://metalexpress.sk/wp-content/uploads/2023/11/394372073_889390636528171_292238913304554938_n.jpg
END:VEVENT
END:VCALENDAR