BEGIN:VCALENDAR
VERSION:2.0
PRODID:-//MetalExpress - ECPv6.15.19//NONSGML v1.0//EN
CALSCALE:GREGORIAN
METHOD:PUBLISH
X-ORIGINAL-URL:https://metalexpress.sk
X-WR-CALDESC:Udalosti pre MetalExpress
REFRESH-INTERVAL;VALUE=DURATION:PT1H
X-Robots-Tag:noindex
X-PUBLISHED-TTL:PT1H
BEGIN:VTIMEZONE
TZID:Europe/Bratislava
BEGIN:DAYLIGHT
TZOFFSETFROM:+0100
TZOFFSETTO:+0200
TZNAME:CEST
DTSTART:20220327T010000
END:DAYLIGHT
BEGIN:STANDARD
TZOFFSETFROM:+0200
TZOFFSETTO:+0100
TZNAME:CET
DTSTART:20221030T010000
END:STANDARD
BEGIN:DAYLIGHT
TZOFFSETFROM:+0100
TZOFFSETTO:+0200
TZNAME:CEST
DTSTART:20230326T010000
END:DAYLIGHT
BEGIN:STANDARD
TZOFFSETFROM:+0200
TZOFFSETTO:+0100
TZNAME:CET
DTSTART:20231029T010000
END:STANDARD
BEGIN:DAYLIGHT
TZOFFSETFROM:+0100
TZOFFSETTO:+0200
TZNAME:CEST
DTSTART:20240331T010000
END:DAYLIGHT
BEGIN:STANDARD
TZOFFSETFROM:+0200
TZOFFSETTO:+0100
TZNAME:CET
DTSTART:20241027T010000
END:STANDARD
END:VTIMEZONE
BEGIN:VEVENT
DTSTART;TZID=Europe/Bratislava:20231124T180000
DTEND;TZID=Europe/Bratislava:20231124T223000
DTSTAMP:20260423T115354
CREATED:20231118T133851Z
LAST-MODIFIED:20231118T133851Z
UID:48273-1700848800-1700865000@metalexpress.sk
SUMMARY:URBAN CEREMONY v Banskej Bystrici!
DESCRIPTION:V piatok 24.11. sa v Banskej Bystrici v Klube 77 stretnú štyri blackové a black/deathové kapely\, aby oslávili noc na urbánnej ceremónii. Štyri vlastné tváre\, štyri vlastné štýly\, štyri odtiene tmy. \nDepths Above – black/doom metal (Brno\, CZ)\nDepths Above je výnimočný klenot (nielen) českého undergroundu\, ktorého black metal s presahmi do iných žánrov dokáže navodiť silnú\, hypnotickú atmosféru. V roku 2018 vydali svoj debutový album s názvom Ex Nihilo\, kde predstavujú svoj unikátny prístup k tvorbe\, ktorá je výsledkom spojenia štyroch individualít – každá je z inej krajiny a každá z iného hudobného pozadia. Po tomto nezávislom vydaní\, vydavateľstvo Avantgarde Music vydalo reedíciu v roku 2022 aj na vinyle. Depths Above v súčasnosti pracujú na svojom druhom albume.\nhttps://depthsabove.bandcamp.com/album/ex-nihilo\nhttps://www.facebook.com/DepthsAbove/\nhttps://www.youtube.com/channel/UCeGJFO9bPk6RQT3FQJy9DTg \nSolipsism – urban black metal (Banská Bystrica)\nZ Banskej Bystrice sa hlásia Solipsism\, ktorí vznikli v roku 2018 s víziou vytvárať black metal s vlastnou tvárou\, alebo ako to nazývajú oni – urban black metal. Ich úzkostlivý\, melancholický mix moderných a tradičných prístupov k žánru upútal rumunské vydavateľstvo Sun & Moon Records\, ktoré im doposiaľ vydalo jedno EPčko v roku 2020 a štúdiový album Our Night Never Ends v 2022.\nhttps://solipsismband.bandcamp.com\nhttps://www.instagram.com/solipsism.band\nhttps://www.facebook.com/solipsismband\n \nUdånde – atmospheric black metal (Bratislava)\nUdånde je dánsky atmospheric black metalový projekt založený v Bratislave. Projekt vydal dva albumy od roku 2021 pod hlavičkou nemeckých Vendetta Records. Na pódiu uvidíte hudobníkov z bratislavskej scény a kapiel ako Holotropic a Terrestrial Chaos.\nhttps://udande.bandcamp.com/\nhttps://www.instagram.com/udandeband/\nhttps://www.facebook.com/udandeband\n \nCeremony of Silence – blackened death metal (Banská Bystrica)\nČernotou a dizonanciou nasiakly death metal\, ktorý umne mieša brutalitu s dychberúcimi gradáciami. Ich ešte stále aktuálny debut „Oútis“\, ktorý vyšiel vo Willowtip Records\, zaznamenal kladné ohlasy doma\, aj v zahraničí.\nhttps://ceremonyofsilence.bandcamp.com/\nhttps://www.instagram.com/ceremony.of.silence\nhttps://www.facebook.com/ceremonyofsilence\n  \nDátum: 24.11.2023\nMiesto: Klub 77\, Banská Bystrica\nFB Udalosť: https://www.facebook.com/events/2701986869941432/ \nText pochádza z FB udalosti
URL:https://metalexpress.sk/event/urban-ceremony-v-banskej-bystrici/
LOCATION:Klub 77 Banská Bystrica\, Horná 54\, Banská Bystrica\, Slovakia\, Banská Bystrica\, Banskobystrický kraj
CATEGORIES:Udalosti
ATTACH;FMTTYPE=image/jpeg:https://metalexpress.sk/wp-content/uploads/2023/11/347442651_598454935603578_7593326001917587976_n.jpg
END:VEVENT
END:VCALENDAR