BEGIN:VCALENDAR
VERSION:2.0
PRODID:-//MetalExpress - ECPv6.15.19//NONSGML v1.0//EN
CALSCALE:GREGORIAN
METHOD:PUBLISH
X-WR-CALNAME:MetalExpress
X-ORIGINAL-URL:https://metalexpress.sk
X-WR-CALDESC:Udalosti pre MetalExpress
REFRESH-INTERVAL;VALUE=DURATION:PT1H
X-Robots-Tag:noindex
X-PUBLISHED-TTL:PT1H
BEGIN:VTIMEZONE
TZID:Europe/Bratislava
BEGIN:DAYLIGHT
TZOFFSETFROM:+0100
TZOFFSETTO:+0200
TZNAME:CEST
DTSTART:20220327T010000
END:DAYLIGHT
BEGIN:STANDARD
TZOFFSETFROM:+0200
TZOFFSETTO:+0100
TZNAME:CET
DTSTART:20221030T010000
END:STANDARD
BEGIN:DAYLIGHT
TZOFFSETFROM:+0100
TZOFFSETTO:+0200
TZNAME:CEST
DTSTART:20230326T010000
END:DAYLIGHT
BEGIN:STANDARD
TZOFFSETFROM:+0200
TZOFFSETTO:+0100
TZNAME:CET
DTSTART:20231029T010000
END:STANDARD
BEGIN:DAYLIGHT
TZOFFSETFROM:+0100
TZOFFSETTO:+0200
TZNAME:CEST
DTSTART:20240331T010000
END:DAYLIGHT
BEGIN:STANDARD
TZOFFSETFROM:+0200
TZOFFSETTO:+0100
TZNAME:CET
DTSTART:20241027T010000
END:STANDARD
END:VTIMEZONE
BEGIN:VEVENT
DTSTART;TZID=Europe/Bratislava:20231122T190000
DTEND;TZID=Europe/Bratislava:20231122T223000
DTSTAMP:20260421T101210
CREATED:20231115T094711Z
LAST-MODIFIED:20231115T094744Z
UID:48240-1700679600-1700692200@metalexpress.sk
SUMMARY:LAIBACH - Bratislava - Majestic Club
DESCRIPTION:Slovinská industriálno – experimentálna skupina LAIBACH sa vracia do Bratislavy v rámci svojho turné „Love Is Still Alive„\, kde predstavia svoje hudobné pokračovanie filmu „Iron Sky – The Comming Race„. \nDátum: 22.11.2023\nMiesto: Majestic Music Club\, Bratislava\nVstup: 35€\nFB Event: https://www.facebook.com/events/191390643705301\nLístky: https://tootoot.fm/en/events/644199ebc6b4f108289d20b7?fbclid=IwAR0kpfFMfDQSNMJR8JDqil-6cL1EtzBfdnTGA6vP9HL0WBa_wc3KvDfDtC0
URL:https://metalexpress.sk/event/laibach-bratislava-majestic-club/
LOCATION:Majestic Music Club\, Karpatská 2\, Bratislava\, Bratislava\, Bratislavský Kraj\, Slovenská republika
CATEGORIES:Kalendár,Koncerty,Udalosti
ATTACH;FMTTYPE=image/jpeg:https://metalexpress.sk/wp-content/uploads/2023/11/Laibach.jpg
ORGANIZER;CN="International Booking Department ( IBD)":MAILTO:info@ibdbooking.de
END:VEVENT
END:VCALENDAR