BEGIN:VCALENDAR
VERSION:2.0
PRODID:-//MetalExpress - ECPv6.15.19//NONSGML v1.0//EN
CALSCALE:GREGORIAN
METHOD:PUBLISH
X-WR-CALNAME:MetalExpress
X-ORIGINAL-URL:https://metalexpress.sk
X-WR-CALDESC:Udalosti pre MetalExpress
REFRESH-INTERVAL;VALUE=DURATION:PT1H
X-Robots-Tag:noindex
X-PUBLISHED-TTL:PT1H
BEGIN:VTIMEZONE
TZID:Europe/Bratislava
BEGIN:DAYLIGHT
TZOFFSETFROM:+0100
TZOFFSETTO:+0200
TZNAME:CEST
DTSTART:20220327T010000
END:DAYLIGHT
BEGIN:STANDARD
TZOFFSETFROM:+0200
TZOFFSETTO:+0100
TZNAME:CET
DTSTART:20221030T010000
END:STANDARD
BEGIN:DAYLIGHT
TZOFFSETFROM:+0100
TZOFFSETTO:+0200
TZNAME:CEST
DTSTART:20230326T010000
END:DAYLIGHT
BEGIN:STANDARD
TZOFFSETFROM:+0200
TZOFFSETTO:+0100
TZNAME:CET
DTSTART:20231029T010000
END:STANDARD
BEGIN:DAYLIGHT
TZOFFSETFROM:+0100
TZOFFSETTO:+0200
TZNAME:CEST
DTSTART:20240331T010000
END:DAYLIGHT
BEGIN:STANDARD
TZOFFSETFROM:+0200
TZOFFSETTO:+0100
TZNAME:CET
DTSTART:20241027T010000
END:STANDARD
END:VTIMEZONE
BEGIN:VEVENT
DTSTART;TZID=Europe/Bratislava:20231119T180000
DTEND;TZID=Europe/Bratislava:20231119T220000
DTSTAMP:20260423T102031
CREATED:20231109T121049Z
LAST-MODIFIED:20231109T121049Z
UID:48136-1700416800-1700431200@metalexpress.sk
SUMMARY:KNOLL - NIGHTMARER - ZMYRNA - CEREMONY OF SILENCE - neďeľa na Pink Whale!
DESCRIPTION:Nedeľná omša? Presne tak\, ale po našom! Podpalubie sa bude otriasať v základoch z kapiel\, ktoré k nám dovalia 19. novembra. A kto to bude? Takto:\nKNOLL (USA)\nhttps://knollgrind.bandcamp.com/album/metempiric\nNIGHTMARER (USA)\nhttps://nightmarer.bandcamp.com/album/deformity-adrift\nZMYRNA\nhttps://zmyrnablackmetal.bandcamp.com/\nCEREMONY OF SILENCE\nhttps://ceremonyofsilence.bandcamp.com/album/o-tis \nDátum: 19.11.2023\nMiesto: PINK WHALE\, Bratislava\nFB Udalosť: https://www.facebook.com/events/361618256200118/\nPlagát od @seeruus
URL:https://metalexpress.sk/event/knoll-nightmarer-zmyrna-ceremony-of-silence-nedela-na-pink-whale/
LOCATION:Pink Whale\, Nábrežie armádneho generála Ludvíka Svobodu 1868rkm\, 811 02 Staré Mesto\, Bratislava\, Slovakia 0911 177 172\, Bratislava\, Bratislava\, 81102\, Slovenská republika
ATTACH;FMTTYPE=image/jpeg:https://metalexpress.sk/wp-content/uploads/2023/11/384743557_341284898279109_2664349194130705185_n.jpg
END:VEVENT
END:VCALENDAR